{"text_format":"3","workbook":"xlsx","n_sheets":25,"sheets":["Sheet1","Input Menu","Maintenance","Main Menu","Sec. Acc1, NAT2, CR1, CSR1","Sec. acc2, NAT1, CR1, CSR1","Sec. acc opt2 and NAT opt2","blank","3Elem. ER, CR1, CSR2, NAT1","2Elem. ER, CR1, CSR1, NAT2","1Elem. ER, CR1, CSR1, NAT1","9Elem. PR, CR1, CSR1, NAT1","10Elem. PR, CR1, CSR1, NAT2","4Elem. ER, CR1, CSR2, NAT2","5Elem. ER, CR2, CSR1, NAT1","6Elem. ER, CR2, CSR1, NAT2","7Elem. ER, CR2, CSR2, NAT1","8Elem. ER, CR2, CSR2, NAT2","11Elem. PR, CR1, CSR2, NAT1","12Elem. PR, CR1, CSR2, NAT2","13Elem. PR, CR2, CSR1, NAT1","14Elem. PR, CR2, CSR1, NAT2","15Elem. PR, CR2, CSR2, NAT1","16Elem. PR, CR2, CSR2, NAT2","Document Analysis, Obs. Discuss"],"not_rendered":{"charts":19,"images":6,"macros":1,"defined_names":113,"comments":4},"read":"whole","date_system":"1900"}

{"sheet":"Sheet1","index":0,"n_rows":30,"n_cols":4,"rows_kept":30,"merged":[[0,0,0,4],[1,0,1,4],[2,0,2,4],[10,1,10,4],[11,1,11,4],[12,1,12,4],[13,1,13,4],[14,1,14,4],[15,1,15,4],[16,1,16,4],[17,1,17,4],[18,3,18,4],[19,3,19,4],[20,3,20,4],[21,3,21,4],[22,3,22,4],[23,3,23,4],[24,3,24,4],[25,3,25,4],[26,3,26,4],[27,3,27,4],[28,3,28,4],[29,3,29,4]]}
["Department of Education"]
["Region X"]
[{"$f":"'Input Menu'!$A$3:$H$3","v":""}]
{"$rows_empty":7}
["Brief History of the School"]
["School ID",{"$f":"IF(A3=\"\",\"\",'Input Menu'!$B$6:$C$6)","v":""}]
["Name of School",{"$f":"'Input Menu'!$B$7:$C$7","v":""}]
["Municipality",{"$f":"'Input Menu'!$B$8:$C$8","v":""}]
["School Address"]
["Name of the School Head"]
["Position of the School Head"]
["Contact No."]
["Teaching Staff","Male","Female","Total"]
["Number of Master Teacher III",null,null,{"$f":"IF(OR(B20=\"\",C20=\"\"),\"\",SUM(B20:C20))","v":""}]
["Number of Master Teacher II",null,null,{"$f":"IF(OR(B21=\"\",C21=\"\"),\"\",SUM(B21:C21))","v":""}]
["Number of Master Teacher I",null,null,""]
["Head Teacher III",null,null,""]
["Head Teacher II",null,null,""]
["Head Teacher I",null,null,""]
["Teacher III",null,null,""]
["Teacher II",null,null,""]
["Teacher I",null,null,""]
["Others, pls. specify below",null,null,""]
[null,{"$f":"IF(B20=\"\",\"\",IF(B21=\"\",\"\",IF(B22=\"\",\"\",IF(B23=\"\",\"\",IF(B24=\"\",\"\",IF(B25=\"\",\"\",IF(B26=\"\",\"\",IF(B27=\"\",\"\",IF(B28=\"\",\"\",IF(B29=\"\",\"\",SUM(B20:B29)))))))))))","v":""},{"$f":"IF(C20=\"\",\"\",IF(C21=\"\",\"\",IF(C22=\"\",\"\",IF(C23=\"\",\"\",IF(C24=\"\",\"\",IF(C25=\"\",\"\",IF(C26=\"\",\"\",IF(C27=\"\",\"\",IF(C28=\"\",\"\",IF(C29=\"\",\"\",SUM(C20:C29)))))))))))","v":""},{"$f":"IF(OR(B30=\"\",C30=\"\"),\"\",SUM(B30:C30))","v":""}]

{"sheet":"Input Menu","index":1,"n_rows":54,"n_cols":11,"rows_kept":54,"merged":[[0,0,0,7],[1,0,1,7],[2,0,2,7],[4,0,4,7],[5,1,5,2],[6,1,6,2],[7,1,7,2],[8,1,8,2],[9,0,9,2],[10,0,10,6],[11,4,11,7],[12,0,17,0],[12,1,13,2],[12,4,12,7],[19,0,36,0],[19,1,19,2],[25,1,25,2],[37,0,42,0],[37,1,38,2],[46,0,46,2],[48,0,48,2],[49,1,49,2],[50,1,50,2],[51,1,51,2],[52,1,52,2],[53,1,53,2]]}
["Department of Education",{"$nulls":7},"Division of Bukidnon"]
["Region X",{"$nulls":7},"Division of Cagayan de Oro City"]
[{"$f":"IF(B6=\"\",\"\",VLOOKUP(B6,Maintenance!A:E,5,))","v":""},{"$nulls":7},"Division of Camiguin City"]
[{"$nulls":8},"Division of El Salvador City"]
["School-Based Management (S B M)    V a l I d a t I o n",{"$nulls":7},"Division of Gingoog City"]
["School ID.:",{"$nulls":7},"Division of Iligan City",null,{"$f":"B6","v":0}]
["School:",{"$f":"IF(B6=\"\",\"\",VLOOKUP(B6,Maintenance!A:B,2,))","v":""},{"$nulls":6},"Division of Lanao del Norte"]
["Municipality:",{"$f":"IF(B6=\"\",\"\",VLOOKUP(B6,Maintenance!A:D,4,))","v":""},{"$nulls":8},{"$f":"B8","v":""}]
["School Year Validated:"]
["Step 1: Determine Performance Improvement (60%)",{"$nulls":7},"Division of Malaybalay City"]
["Direction: Select the school year under Performance Indicator's Column and enter the baseline data.",{"$nulls":7},"Division of Misamis Occidental"]
["Thematic Area","Year","Performance Indicators",null,"Baseline Data",{"$nulls":3},"Division of Misamis Oriental"]
["Access (45%)","Gross Enrolment             (RAW DATA)",null,null,"Community Mapping",{"$nulls":3},"Division of Oroqueta City"]
[{"$nulls":4}," No. of school-aged children (12-17 years old) in the community not enrolled\n","No. of school-aged children within the community (12-17 years old) enrolled in other schools","No. of school-aged children enrolled  (12-17 years old) within  the community","Total no. of school-aged children in the community aged (12-17 years old)","Division of Ozamis City"]
[null,"SY 2009-2010",990,null,null,"SY 2008-2009"]
[{"$nulls":7},{"$f":"IF(B16=\"\",\"\",G16+F16+E16)","v":""},"Division of Tangub City"]
[null,{"$f":"IF(B16=\"\",\"\",B16+1)","v":""},{"$nulls":5},{"$f":"IF(B17=\"\",\"\",G17+F17+E17)","v":""},"Division of Valencia City"]
[null,{"$f":"IF(B17=\"\",\"\",B17+1)","v":""},{"$nulls":5},""]
[null,"% of Inc./Average",{"$f":"'1Elem. ER, CR1, CSR1, NAT1'!C17","v":{"$error":"#VALUE!"}},null,null,2013]
["Efficiency (25%)","Dropout (Raw Data)",null,null,"No. of Drop-outs (Current Year)",null,"Enrolment (Previous Year)"]
[null,"SY 2008-2009",{"v":0.02,"d":"2.00%"}]
[null,{"$f":"IF(B17=\"\",\"\",B16)","v":""},{"$nulls":4},{"$f":"IF(B16=\"\",\"\",C16)","v":""}]
[null,{"$f":"B17","v":""},{"$nulls":4},{"$f":"IF(B17=\"\",\"\",C17)","v":""}]
[null,{"$f":"B18","v":""},{"$nulls":4},{"$f":"IF(B18=\"\",\"\",C18)","v":""}]
[null,"Ave. % of Decrease"]
[null,"Repetition (Raw Data)",null,null,"No. of Repeaters (Current Year)","No. of Retained (Current Year)","Enrolment (Previous Year)"]
[null,"SY 2008-2009",65]
[null,{"$f":"B22","v":""},{"$nulls":4},{"$f":"G22","v":""}]
[null,{"$f":"B23","v":""},{"$nulls":4},{"$f":"G23","v":""}]
[null,{"$f":"B24","v":""},{"$nulls":4},{"$f":"G24","v":""}]
[null,"Ave. % of Increase",{"$nulls":3},2025]
[null,"Cohort Survival Rate (CSR):","Cohort Survival (%)",null,null,2026]
[null,"SY 2008-2009",58,null,null,2027]
[null,{"$f":"B28","v":""},{"v":95,"d":"95.00"},null,null,2028]
[null,{"$f":"B29","v":""},{"v":96,"d":"96.00"},null,null,2029]
[null,{"$f":"B30","v":""},83.72,null,null,2030]
[null,"Ave. % of Increase",{"$nulls":3},2031]
["Quality (30%)","NAT MPS (%)",null,"NAT MPS","Promotion Rate"]
[{"$nulls":3},50,"No. of Promotees (Current Year)",null,"Enrolment (Previous Year)"]
[null,{"$f":"B34","v":""},null,20,{"$f":"IF(B16=\"\",\"\",C16-E22-F28)","v":""},null,{"$f":"G28","v":""}]
[null,{"$f":"B35","v":""},null,68,{"$f":"IF(B17=\"\",\"\",C17-E23-F29)","v":""},null,{"$f":"G29","v":""}]
[null,{"$f":"B36","v":""},null,28,{"$f":"IF(B18=\"\",\"\",C18-E24-F30)","v":""},null,{"$f":"G30","v":""}]
[null,"Ave. % of Increase",null,{"$f":"AVERAGE(D40:D42)","v":{"v":38.666666666666664,"d":"39"}}]
[]
["Maintenance Menu"]
[]
["SBM Validation Form and DOD Assessment"]
["Blank  SBM Valdation Form"]
["Enter the names of Validators"]
["Chairman:"]
["Member1:"]
["Member2:"]
["Member3:"]
["Member4:"]

{"sheet":"Maintenance","index":2,"n_rows":433,"n_cols":7,"rows_kept":433,"merged":[[0,0,2,0],[0,1,2,1],[0,2,2,2],[0,3,2,3],[0,4,2,4]]}
["ID","School Name","Province","Municipality","Division","School Year","Calendar Year"]
[{"$nulls":5},"2008-2009",2008]
[{"$nulls":5},"2009-2010",2009]
[303944,"Alae NHS","BUKIDNON","MANOLO FORTICH","Division of Bukidnon","2010-2011",2010]
[303945,"Bacusanon National High School","BUKIDNON","PANGANTUCAN","Division of Bukidnon","2011-2012",2011]
[303947,"Baungon National High School","BUKIDNON","BAUNGON","Division of Bukidnon","2012-2013",2012]
[314925,"Baungon NHS - Danatag Annex","BUKIDNON","BAUNGON","Division of Bukidnon","2013-2014",2013]
[303948,"Bocboc NHS","BUKIDNON","DON CARLOS","Division of Bukidnon","2014-2015",2014]
[314927,"Bocboc NHS (Kiara Annex)","BUKIDNON","DON CARLOS","Division of Bukidnon","2015-2016",2015]
[303949,"Bugcaon NHS","BUKIDNON","ANTAPAN","Division of Bukidnon","2016-2017",2016]
[303951,"Bukidnon NSHI","BUKIDNON","MARAMAG","Division of Bukidnon","2017-2018",2017]
[314911,"Bukidnon NSHI - San Miguel Annex","BUKIDNON","MARAMAG","Division of Bukidnon","2018-2019",2018]
[303952,"Cabulohan-Paradise NHS","BUKIDNON","CABANGLASAN","Division of Bukidnon","2019-2020",2019]
[314908,"Cabulohan-Paradise NHS - Townsite Annex","BUKIDNON","CABANGLASAN","Division of Bukidnon","2020-2021",2020]
[600272,"Central Mindanao University","BUKIDNON","MARAMAG","Division of Bukidnon","2021-2022",2021]
[600152,"Central Mindanao University Lab. HS","BUKIDNON","MARAMAG","Division of Bukidnon","2022-2023",2022]
[500676,"Dagumbaan Integrated School","BUKIDNON","TALAKAG","Division of Bukidnon","2023-2024",2023]
[314901,"Dalirig NHS","BUKIDNON","MANOLO FORTICH","Division of Bukidnon","2024-2025",2024]
[314910,"Dangcagan National High School - Miaray Annex","BUKIDNON","DANGCAGAN","Division of Bukidnon","2025-2026",2025]
[303953,"Dangcagan NHS","BUKIDNON","DANGCAGAN","Division of Bukidnon","2026-2027",2026]
[500677,"Dilapa Integrated School","BUKIDNON","QUEZON","Division of Bukidnon","2027-2028",2027]
[303954,"Dologon NHS","BUKIDNON","MARAMAG","Division of Bukidnon","2028-2029",2028]
[314928,"Dologon NHS (San Roque Annex)","BUKIDNON","MARAMAG","Division of Bukidnon","2029-2030",2029]
[314921,"Dologon NHS - Kiharong Annex","BUKIDNON","MARAMAG","Division of Bukidnon",null,2030]
[314913,"Don Carlos NHS","BUKIDNON","DON CARLOS","Division of Bukidnon",null,2031]
[407668,"Don Carlos Polytechnic College","BUKIDNON","DON CARLOS","Division of Bukidnon",null,2032]
[303955,"Halapitan National High School","BUKIDNON","SAN FERNANDO","Division of Bukidnon",null,2033]
[500890,"Iba Integrated School","BUKIDNON","CABANGLASAN","Division of Bukidnon",null,2034]
[500246,"Impalutao Integrated School","BUKIDNON","IMPASUG-ONG","Division of Bukidnon",null,2035]
[303956,"Impasugong NHS","BUKIDNON","IMPASUG-ONG","Division of Bukidnon",null,2036]
[314923,"Impasugong NHS-Kapitan Bayong Annex","BUKIDNON","IMPASUG-ONG","Division of Bukidnon",null,2037]
[303957,"Kalabugao NHS","BUKIDNON","IMPASUG-ONG","Division of Bukidnon",null,2038]
[303958,"Kalilangan National High School","BUKIDNON","KALILANGAN","Division of Bukidnon",null,2039]
[303959,"Kibatang National High School","BUKIDNON","DON CARLOS","Division of Bukidnon",null,2040]
[303960,"KIBAWE NATIONAL HIGH SCHOOL","BUKIDNON","KIBAWE","Division of Bukidnon",null,2041]
[500679,"Kibenton Integrated School","BUKIDNON","IMPASUG-ONG","Division of Bukidnon",null,2042]
[303961,"Kiburiao National High School","BUKIDNON","QUEZON","Division of Bukidnon"]
[303962,"Kimanait NHS","BUKIDNON","PANGANTUCAN","Division of Bukidnon"]
[303969,"Kinawe National High School","BUKIDNON","LIBONA","Division of Bukidnon"]
[314931,"Kitaotao National High School - Digongan Annex","BUKIDNON","KITAOTAO","Division of Bukidnon"]
[303963,"Kitaotao NHS","BUKIDNON","KITAOTAO","Division of Bukidnon"]
[303964,"Kitubo National High School","BUKIDNON","KITAOTAO","Division of Bukidnon"]
[303965,"KUYA NATIONAL HIGH SCHOOL","BUKIDNON","MARAMAG","Division of Bukidnon"]
[314918,"KUYA NHS ANNEX- LA ROXAS","BUKIDNON","MARAMAG","Division of Bukidnon"]
[303966,"Lampanusan NHS","BUKIDNON","KALILANGAN","Division of Bukidnon"]
[314902,"Langcataon NHS","BUKIDNON","PANGANTUCAN","Division of Bukidnon"]
[303967,"Lantapan National High School","BUKIDNON","ANTAPAN","Division of Bukidnon"]
[303968,"Libona NHS","BUKIDNON","LIBONA","Division of Bukidnon"]
[314907,"Little Baguio National High School","BUKIDNON","SAN FERNANDO","Division of Bukidnon"]
[314929,"Macapari NHS","BUKIDNON","DAMULOG","Division of Bukidnon"]
[303971,"Malinao National High School","BUKIDNON","KALILANGAN","Division of Bukidnon"]
[303972,"Malitbog Nat. Agr'I. HS","BUKIDNON","MALITBOG","Division of Bukidnon"]
[303974,"Manolo Fortich NHS","BUKIDNON","MANOLO FORTICH","Division of Bukidnon"]
[303975,"New Nongnongan NHS","BUKIDNON","DON CARLOS","Division of Bukidnon"]
[314922,"New Nongnongan NHS - San Nicolas Annex","BUKIDNON","DON CARLOS","Division of Bukidnon"]
[303976,"Old Damulog NHS","BUKIDNON","DAMULOG","Division of Bukidnon"]
[303977,"Old Nongnongan NHS","BUKIDNON","DON CARLOS","Division of Bukidnon"]
[303978,"Pangantucan NHS","BUKIDNON","PANGANTUCAN","Division of Bukidnon"]
[314912,"Quezon National High School","BUKIDNON","QUEZON","Division of Bukidnon"]
[314930,"Quezon NHS - Apyao Annex","BUKIDNON","QUEZON","Division of Bukidnon"]
[303979,"Salawagan NHS","BUKIDNON","QUEZON","Division of Bukidnon"]
[303980,"San Andres National High School","BUKIDNON","KADINGILAN","Division of Bukidnon"]
[314926,"San Andres NHS - Cabadiangan Annex","BUKIDNON","KADINGILAN","Division of Bukidnon"]
[500680,"San Jose Integrated School","BUKIDNON","QUEZON","Division of Bukidnon"]
[303981,"San Luis NHS","BUKIDNON","MALITBOG","Division of Bukidnon"]
[314939,"San Luis NHS - Sabangaan Annex","BUKIDNON","MALITBOG","Division of Bukidnon"]
[314903,"San Vicente National High School","BUKIDNON","SUMILAO","Division of Bukidnon"]
[303983,"Sankanan NHS","BUKIDNON","MANOLO FORTICH","Division of Bukidnon"]
[303985,"Sinuda National High School","BUKIDNON","KITAOTAO","Division of Bukidnon"]
[500681,"South Dalurong Integrated School","BUKIDNON","KITAOTAO","Division of Bukidnon"]
[303986,"Sumilao NHS","BUKIDNON","SUMILAO","Division of Bukidnon"]
[314924,"Sumilao NHS - Vista Villa Annex","BUKIDNON","SUMILAO","Division of Bukidnon"]
[303987,"Talakag NHS","BUKIDNON","TALAKAG","Division of Bukidnon"]
[314919,"Tikalaan National High School","BUKIDNON","TALAKAG","Division of Bukidnon"]
[500682,"White Kulaman Integrated School","BUKIDNON","KITAOTAO","Division of Bukidnon"]
[304104,"Agusan National High School","MISAMIS ORIENTAL","CAGAYAN DE ORO CITY (Capital)","Division of Cagayan de Oro City"]
[304113,"Angeles Sisters National High School","MISAMIS ORIENTAL","CAGAYAN DE ORO CITY (Capital)","Division of Cagayan de Oro City"]
[315401,"Balubal National High School","MISAMIS ORIENTAL","CAGAYAN DE ORO CITY (Capital)","Division of Cagayan de Oro City"]
[304106,"Bayabas National High School","MISAMIS ORIENTAL","CAGAYAN DE ORO CITY (Capital)","Division of Cagayan de Oro City"]
[315412,"Bonbon National High School","MISAMIS ORIENTAL","CAGAYAN DE ORO CITY (Capital)","Division of Cagayan de Oro City"]
[304107,"Bugo National High School","MISAMIS ORIENTAL","CAGAYAN DE ORO CITY (Capital)","Division of Cagayan de Oro City"]
[304108,"Bulua National High School","MISAMIS ORIENTAL","CAGAYAN DE ORO CITY (Capital)","Division of Cagayan de Oro City"]
[304111,"CAGAYAN DE ORO NATIONAL HIGH SCHOOL","MISAMIS ORIENTAL","CAGAYAN DE ORO CITY (Capital)","Division of Cagayan de Oro City"]
[315403,"Cagayan de Oro NHS - Balulang Annex","MISAMIS ORIENTAL","CAGAYAN DE ORO CITY (Capital)","Division of Cagayan de Oro City"]
[315404,"Camaman-an National High School","MISAMIS ORIENTAL","CAGAYAN DE ORO CITY (Capital)","Division of Cagayan de Oro City"]
[304109,"Canitoan National High School","MISAMIS ORIENTAL","CAGAYAN DE ORO CITY (Capital)","Division of Cagayan de Oro City"]
[304112,"Carmen National High School","MISAMIS ORIENTAL","CAGAYAN DE ORO CITY (Capital)","Division of Cagayan de Oro City"]
[315407,"East Gusa National High School","MISAMIS ORIENTAL","CAGAYAN DE ORO CITY (Capital)","Division of Cagayan de Oro City"]
[315408,"Gusa NHS - FS Catanico Annex","MISAMIS ORIENTAL","CAGAYAN DE ORO CITY (Capital)","Division of Cagayan de Oro City"]
[304115,"Gusa NHS-Cugman Annex","MISAMIS ORIENTAL","CAGAYAN DE ORO CITY (Capital)","Division of Cagayan de Oro City"]
[304114,"Gusa Regional Science High School-X","MISAMIS ORIENTAL","CAGAYAN DE ORO CITY (Capital)","Division of Cagayan de Oro City"]
[304116,"Indahag National High School","MISAMIS ORIENTAL","CAGAYAN DE ORO CITY (Capital)","Division of Cagayan de Oro City"]
[304117,"Iponan National High School","MISAMIS ORIENTAL","CAGAYAN DE ORO CITY (Capital)","Division of Cagayan de Oro City"]
[315409,"Iponan NHS - San Simon Annex","MISAMIS ORIENTAL","CAGAYAN DE ORO CITY (Capital)","Division of Cagayan de Oro City"]
[315411,"Kauswagan National High School","MISAMIS ORIENTAL","CAGAYAN DE ORO CITY (Capital)","Division of Cagayan de Oro City"]
[304118,"Lapasan National High School","MISAMIS ORIENTAL","CAGAYAN DE ORO CITY (Capital)","Division of Cagayan de Oro City"]
[304119,"Lumbia National High School","MISAMIS ORIENTAL","CAGAYAN DE ORO CITY (Capital)","Division of Cagayan de Oro City"]
[304120,"Macabalan National High School","MISAMIS ORIENTAL","CAGAYAN DE ORO CITY (Capital)","Division of Cagayan de Oro City"]
[315410,"Macasandig National High School","MISAMIS ORIENTAL","CAGAYAN DE ORO CITY (Capital)","Division of Cagayan de Oro City"]
[304121,"Mambuaya National High School","MISAMIS ORIENTAL","CAGAYAN DE ORO CITY (Capital)","Division of Cagayan de Oro City"]
[304122,"Mambuaya NHS-Bayanga Annex","MISAMIS ORIENTAL","CAGAYAN DE ORO CITY (Capital)","Division of Cagayan de Oro City"]
[315405,"Mambuaya NHS-Dansolihon Annex","MISAMIS ORIENTAL","CAGAYAN DE ORO CITY (Capital)","Division of Cagayan de Oro City"]
[304110,"Pedro \"Oloy\" N. Roa, Sr. High School","MISAMIS ORIENTAL","CAGAYAN DE ORO CITY (Capital)","Division of Cagayan de Oro City"]
[315402,"Puerto National High School","MISAMIS ORIENTAL","CAGAYAN DE ORO CITY (Capital)","Division of Cagayan de Oro City"]
[304124,"Puntod National High School","MISAMIS ORIENTAL","CAGAYAN DE ORO CITY (Capital)","Division of Cagayan de Oro City"]
[304105,"Tablon National High School","MISAMIS ORIENTAL","CAGAYAN DE ORO CITY (Capital)","Division of Cagayan de Oro City"]
[304125,"Taglimao National High School","MISAMIS ORIENTAL","CAGAYAN DE ORO CITY (Capital)","Division of Cagayan de Oro City"]
[304126,"Taglimao NHS-Besigan Annex","MISAMIS ORIENTAL","CAGAYAN DE ORO CITY (Capital)","Division of Cagayan de Oro City"]
[315406,"Taglimao NHS-Tumpagon Annex","MISAMIS ORIENTAL","CAGAYAN DE ORO CITY (Capital)","Division of Cagayan de Oro City"]
[304127,"Tagpangi National High School","MISAMIS ORIENTAL","CAGAYAN DE ORO CITY (Capital)","Division of Cagayan de Oro City"]
[304128,"Tagpangi NHS-Tuburan Annex","MISAMIS ORIENTAL","CAGAYAN DE ORO CITY (Capital)","Division of Cagayan de Oro City"]
[304123,"Tignapoloan NHS","MISAMIS ORIENTAL","CAGAYAN DE ORO CITY (Capital)","Division of Cagayan de Oro City"]
[403654,"University of Science and Technology of Southern Philippines - Cagayan de Oro","MISAMIS ORIENTAL","CAGAYAN DE ORO CITY (Capital)","Division of Cagayan de Oro City"]
[500683,"Alangilan Integrated School","CAMIGUIN","SAGAY","Division of Camiguin"]
[500962,"Bacnit Integrated School","CAMIGUIN","SAGAY","Division of Camiguin"]
[303989,"Bonbon NHS","CAMIGUIN","CATARMAN","Division of Camiguin"]
[500684,"Bugang Integrated School","CAMIGUIN","SAGAY","Division of Camiguin"]
[303990,"Camiguin NHS","CAMIGUIN","CATARMAN","Division of Camiguin"]
[303995,"Eulalio U. Pabillore National High Sschool","CAMIGUIN","SAGAY","Division of Camiguin"]
[303991,"Guinsiliban National High School","CAMIGUIN","GUINSILIBAN","Division of Camiguin"]
[500685,"Kuguita Integrated School","CAMIGUIN","MAMBAJAO (Capital)","Division of Camiguin"]
[303992,"Lawigan-Bura National High School","CAMIGUIN","CATARMAN","Division of Camiguin"]
[315001,"Maac National High School","CAMIGUIN","GUINSILIBAN","Division of Camiguin"]
[315003,"Mahinog National High School II","CAMIGUIN","MAHINOG","Division of Camiguin"]
[303994,"Mambajao NHS","CAMIGUIN","MAMBAJAO (Capital)","Division of Camiguin"]
[303993,"Sixto A. Abao NHS","CAMIGUIN","MAHINOG","Division of Camiguin"]
[500686,"Sto. Niño Integrated School","CAMIGUIN","CATARMAN","Division of Camiguin"]
[303996,"Tupsan NHS","CAMIGUIN","MAMBAJAO (Capital)","Division of Camiguin"]
[303997,"Yumbing National High School","CAMIGUIN","MAMBAJAO (Capital)","Division of Camiguin"]
[304065,"Cogon NHS","MISAMIS ORIENTAL","CITY OF EL SALVADOR","Division of El Salvador City"]
[304787,"El Salvador City National High School","MISAMIS ORIENTAL","CITY OF EL SALVADOR","Division of El Salvador City"]
[304768,"Himaya National High School","MISAMIS ORIENTAL","CITY OF EL SALVADOR","Division of El Salvador City"]
[315318,"Hinigdaan NHS","MISAMIS ORIENTAL","CITY OF EL SALVADOR","Division of El Salvador City"]
[315305,"MOLUGAN NATIONAL HIGH SCHOOL","MISAMIS ORIENTAL","CITY OF EL SALVADOR","Division of El Salvador City"]
[325701,"SAN FRANCISCO DE ASIS NATIONAL HIGH SCHOOL","MISAMIS ORIENTAL","CITY OF EL SALVADOR","Division of El Salvador City"]
[304797,"Sinaloc National High School","MISAMIS ORIENTAL","CITY OF EL SALVADOR","Division of El Salvador City"]
[304129,"Bal-ason NHS","MISAMIS ORIENTAL","GINGOOG CITY","Division of Gingoog City"]
[500801,"Bantaawan Integrated School - Sec","MISAMIS ORIENTAL","GINGOOG CITY","Division of Gingoog City"]
[500800,"Dukdokaan Integrated School - Sec","MISAMIS ORIENTAL","GINGOOG CITY","Division of Gingoog City"]
[315501,"EUREKA NATIONAL HIGH SCHOOL","MISAMIS ORIENTAL","GINGOOG CITY","Division of Gingoog City"]
[304130,"Gingoog City CNHS","MISAMIS ORIENTAL","GINGOOG CITY","Division of Gingoog City"]
[315505,"Gingoog City CNHS - Anakan NHS Annex","MISAMIS ORIENTAL","GINGOOG CITY","Division of Gingoog City"]
[304131,"Gingoog City CNHS - BACKKISMI NHS Annex","MISAMIS ORIENTAL","GINGOOG CITY","Division of Gingoog City"]
[315503,"Gingoog City CNHS - LURISA NHS Annex","MISAMIS ORIENTAL","GINGOOG CITY","Division of Gingoog City"]
[315504,"Gingoog City CNHS - PUNDASAN NHS Annex","MISAMIS ORIENTAL","GINGOOG CITY","Division of Gingoog City"]
[304136,"Jacinto D. Malimas Sr. National High School","MISAMIS ORIENTAL","GINGOOG CITY","Division of Gingoog City"]
[304132,"Kalipay National High School","MISAMIS ORIENTAL","GINGOOG CITY","Division of Gingoog City"]
[315506,"Kisandi National High School","MISAMIS ORIENTAL","GINGOOG CITY","Division of Gingoog City"]
[315507,"Lunao National High School","MISAMIS ORIENTAL","GINGOOG CITY","Division of Gingoog City"]
[304133,"Malibud National High School","MISAMIS ORIENTAL","GINGOOG CITY","Division of Gingoog City"]
[304134,"Malinao National High School","MISAMIS ORIENTAL","GINGOOG CITY","Division of Gingoog City"]
[304135,"Mimbunga National High School","MISAMIS ORIENTAL","GINGOOG CITY","Division of Gingoog City"]
[500741,"Murallon Integrated School - Sec","MISAMIS ORIENTAL","GINGOOG CITY","Division of Gingoog City"]
[315502,"Odiongan NHS - Talisay NHS Annex","MISAMIS ORIENTAL","GINGOOG CITY","Division of Gingoog City"]
[500811,"Pedro Maligmat Integrated School - Sec","MISAMIS ORIENTAL","GINGOOG CITY","Division of Gingoog City"]
[500799,"Pigsalohan IS - Sec","MISAMIS ORIENTAL","GINGOOG CITY","Division of Gingoog City"]
[304137,"San Luis National High School","MISAMIS ORIENTAL","GINGOOG CITY","Division of Gingoog City"]
[500802,"Sioan Integrated School - Sec","MISAMIS ORIENTAL","GINGOOG CITY","Division of Gingoog City"]
[304138,"Acelo C. Badelles, Sr. MHS (Tipanoy NHS)","LANAO DEL NORTE","ILIGAN CITY","Division of Iligan City"]
[304139,"Acelo C. Badelles, Sr. MNHS - Abuno HS Annex","LANAO DEL NORTE","ILIGAN CITY","Division of Iligan City"]
[304140,"Bunawan Agri. HS","LANAO DEL NORTE","ILIGAN CITY","Division of Iligan City"]
[304143,"Dalipuga National High School","LANAO DEL NORTE","ILIGAN CITY","Division of Iligan City"]
[304144,"Dalipuga NHS - Hindang NHS Annex","LANAO DEL NORTE","ILIGAN CITY","Division of Iligan City"]
[500698,"Del Carmen Integrated School","LANAO DEL NORTE","ILIGAN CITY","Division of Iligan City"]
[304153,"Ditucalan National High School","LANAO DEL NORTE","ILIGAN CITY","Division of Iligan City"]
[304141,"Don Jose F. Yanez MHS (Bunawan NHS)","LANAO DEL NORTE","ILIGAN CITY","Division of Iligan City"]
[304154,"Esperidion F. Encabo I MHS (Pugaan NHS)","LANAO DEL NORTE","ILIGAN CITY","Division of Iligan City"]
[500696,"Francisco Laya Memorial Integrated School","LANAO DEL NORTE","ILIGAN CITY","Division of Iligan City"]
[304149,"Iligan City East High School - Hinaplanon Annex","LANAO DEL NORTE","ILIGAN CITY","Division of Iligan City"]
[304148,"Iligan City East HS - Santiago HS Annex","LANAO DEL NORTE","ILIGAN CITY","Division of Iligan City"]
[304146,"Iligan City East National HS (Sta. Filomena)","LANAO DEL NORTE","ILIGAN CITY","Division of Iligan City"]
[304145,"Iligan City NHS","LANAO DEL NORTE","ILIGAN CITY","Division of Iligan City"]
[315604,"Iligan City NHS - Pala-o HS Annex","LANAO DEL NORTE","ILIGAN CITY","Division of Iligan City"]
[315603,"Iligan City NHS - Tambacan HS Annex","LANAO DEL NORTE","ILIGAN CITY","Division of Iligan City"]
[304150,"Iligan City NSOF","LANAO DEL NORTE","ILIGAN CITY","Division of Iligan City"]
[304142,"KABACSANAN NATIONAL HIGH SCHOOL","LANAO DEL NORTE","ILIGAN CITY","Division of Iligan City"]
[315609,"Kalubihon High School","LANAO DEL NORTE","ILIGAN CITY","Division of Iligan City"]
[304147,"KIWALAN NATIONAL HIGH SCHOOL","LANAO DEL NORTE","ILIGAN CITY","Division of Iligan City"]
[304151,"Mainit High School","LANAO DEL NORTE","ILIGAN CITY","Division of Iligan City"]
[304152,"Maria Cristina National High School","LANAO DEL NORTE","ILIGAN CITY","Division of Iligan City"]
[600151,"MSU-IIT Integrated Developmental School (IDS)","LANAO DEL NORTE","ILIGAN CITY","Division of Iligan City"]
[403671,"MSU-IIT Integrated Developmental School","LANAO DEL NORTE","ILIGAN CITY","Division of Iligan City"]
[304155,"Rogongon Agricultural High School","LANAO DEL NORTE","ILIGAN CITY","Division of Iligan City"]
[304156,"Suarez National High School","LANAO DEL NORTE","ILIGAN CITY","Division of Iligan City"]
[500697,"Sultan Mamarinta Panandigan Integrated School","LANAO DEL NORTE","ILIGAN CITY","Division of Iligan City"]
[304157,"Tomas Cabili National High School","LANAO DEL NORTE","ILIGAN CITY","Division of Iligan City"]
[304158,"Tomas Cabili NHS - Annex","LANAO DEL NORTE","ILIGAN CITY","Division of Iligan City"]
[304159,"Tubaran NHS","LANAO DEL NORTE","ILIGAN CITY","Division of Iligan City"]
[315606,"Tubaran NHS (Lanipao Annex)","LANAO DEL NORTE","ILIGAN CITY","Division of Iligan City"]
[304160,"Tubaran NHS - Digkilaan HS Annex","LANAO DEL NORTE","ILIGAN CITY","Division of Iligan City"]
[304022,"Andres Bersales, Sr. Nat'l. HS (Pandanan NHS)","LANAO DEL NORTE","SULTAN NAGA DIMAPORO (KAROMATAN)","Division of Lanao del Norte"]
[304002,"Arsenio A. Quibranza NHS (LNNAIHS)","LANAO DEL NORTE","TUBOD (Capital)","Division of Lanao del Norte"]
[303998,"Baloi National High School","LANAO DEL NORTE","BALOI","Division of Lanao del Norte"]
[303999,"Bansarvil NHS","LANAO DEL NORTE","KAPATAGAN","Division of Lanao del Norte"]
[304000,"Binuni-Demologan NHS","LANAO DEL NORTE","BACOLOD","Division of Lanao del Norte"]
[500249,"Carusa IS (Secondary Level) 315113 CO-INTEGRATED with School ID 127004","LANAO DEL NORTE","KAPATAGAN","Division of Lanao del Norte"]
[500687,"Dalama Integrated School Co Integrated with School ID 127012","LANAO DEL NORTE","TUBOD (Capital)","Division of Lanao del Norte"]
[304013,"Diego H. Patigayon NHS (Mukas NHS)","LANAO DEL NORTE","KOLAMBUGAN","Division of Lanao del Norte"]
[304001,"Diosdado Yap Sr. National High School","LANAO DEL NORTE","BAROY","Division of Lanao del Norte"]
[304020,"Geronima Cabrera NHS (Riverside NHS)","LANAO DEL NORTE","KOLAMBUGAN","Division of Lanao del Norte"]
[500247,"Kalinaw Kalilintad Integrated Peace School(Annex Kapatagan NHS)","LANAO DEL NORTE","KAPATAGAN","Division of Lanao del Norte"]
[304003,"Kapatagan NHS","LANAO DEL NORTE","KAPATAGAN","Division of Lanao del Norte"]
[500453,"Kawit Oriental Integrated School of Fisheries","LANAO DEL NORTE","KAUSWAGAN","Division of Lanao del Norte"]
[304004,"Lala NHS","LANAO DEL NORTE","LALA","Division of Lanao del Norte"]
[500689,"Lala Proper IS","LANAO DEL NORTE","LALA","Division of Lanao del Norte"]
[304005,"Lanao del Norte NCHS","LANAO DEL NORTE","BAROY","Division of Lanao del Norte"]
[315102,"Lanao del Norte Provincial Science and Technology HS (former Malingao NHS (Annex New Pualas NHS)","LANAO DEL NORTE","TUBOD (Capital)","Division of Lanao del Norte"]
[304007,"Liangan NHS","LANAO DEL NORTE","BACOLOD","Division of Lanao del Norte"]
[304008,"Linamon NHS","LANAO DEL NORTE","LINAMON","Division of Lanao del Norte"]
[304009,"Magsaysay NHS","LANAO DEL NORTE","MAGSAYSAY","Division of Lanao del Norte"]
[304010,"Maigo NHS","LANAO DEL NORTE","MAIGO","Division of Lanao del Norte"]
[304011,"Marcela T. Mabanta NHS","LANAO DEL NORTE","KAUSWAGAN","Division of Lanao del Norte"]
[304012,"MATUNGAO NATIONAL HIGH SCHOOL","LANAO DEL NORTE","MATUNGAO","Division of Lanao del Norte"]
[600093,"Mindanao State University - Maigo School of Arts and Trades","LANAO DEL NORTE","MAIGO","Division of Lanao del Norte"]
[600310,"MSU-Baloi Community High School","LANAO DEL NORTE","BALOI","Division of Lanao del Norte"]
[600094,"MSU-Lanao del Norte Agricultural Collegeege","LANAO DEL NORTE","SULTAN NAGA DIMAPORO (KAROMATAN)","Division of Lanao del Norte"]
[304014,"Munai NHS","LANAO DEL NORTE","MUNAI","Division of Lanao del Norte"]
[304016,"Nunungan NHS","LANAO DEL NORTE","NUNUNGAN","Division of Lanao del Norte"]
[500248,"Pagayawan IS (Secondary Level) School ID 315112 co-Integrated with School ID 126946","LANAO DEL NORTE","BACOLOD","Division of Lanao del Norte"]
[304017,"Panoloon NHS","LANAO DEL NORTE","SAPAD","Division of Lanao del Norte"]
[304018,"Pantao Ragat Agro-Ind. HS","LANAO DEL NORTE","PANTAO RAGAT","Division of Lanao del Norte"]
[304019,"Pantar NHS","LANAO DEL NORTE","PANTAR","Division of Lanao del Norte"]
[304006,"Placida Mequiabas Mem. NHS (Lapinig NHS)","LANAO DEL NORTE","KAPATAGAN","Division of Lanao del Norte"]
[315104,"Poonapiagapo NHS(Annex Matungao NHS)","LANAO DEL NORTE","POONA PIAGAPO","Division of Lanao del Norte"]
[500430,"Rufo del Cruz Integrated School","LANAO DEL NORTE","TUBOD (Capital)","Division of Lanao del Norte"]
[304023,"Salvador NHS (Salvador Trade HS)","LANAO DEL NORTE","SALVADOR","Division of Lanao del Norte"]
[315110,"SERGIO P. CERUJALES, JR. NHS","LANAO DEL NORTE","MAGSAYSAY","Division of Lanao del Norte"]
[500690,"Sultan Ali Dimaporo Memorial IS","LANAO DEL NORTE","SULTAN NAGA DIMAPORO (KAROMATAN)","Division of Lanao del Norte"]
[315106,"Sultan Dimasangcay Mananggolo IS (Delabayan ES)","LANAO DEL NORTE","KAUSWAGAN","Division of Lanao del Norte"]
[500691,"Sultan Naga Dimaporo Memorial Integrated School","LANAO DEL NORTE","SULTAN NAGA DIMAPORO (KAROMATAN)","Division of Lanao del Norte"]
[304021,"Tagoloan NHS","LANAO DEL NORTE","TAGOLOAN","Division of Lanao del Norte"]
[500688,"Taguitic Integrated School Co-Integrated with 127012","LANAO DEL NORTE","KAPATAGAN","Division of Lanao del Norte"]
[500431,"Tambacon Integrated School","LANAO DEL NORTE","MAGSAYSAY","Division of Lanao del Norte"]
[315103,"Tangcal NHS (Annex Magsaysay NHS)","LANAO DEL NORTE","TANGCAL","Division of Lanao del Norte"]
[304015,"Teofila C. Quibranza NHS (New Pualas NHS)","LANAO DEL NORTE","TUBOD (Capital)","Division of Lanao del Norte"]
[325505,"Apo Macote NHS","BUKIDNON","CITY MALAYBALAY (Capital)","Division of Malaybalay City"]
[303946,"Bangcud National High School","BUKIDNON","CITY MALAYBALAY (Capital)","Division of Malaybalay City"]
[303950,"Bukidnon NHS","BUKIDNON","CITY MALAYBALAY (Capital)","Division of Malaybalay City"]
[325504,"Bukidnon NHS - Annex Dalwangan","BUKIDNON","CITY MALAYBALAY (Capital)","Division of Malaybalay City"]
[325503,"Bukidnon NHS - Annex Imbayao","BUKIDNON","CITY MALAYBALAY (Capital)","Division of Malaybalay City"]
[600130,"Bukidnon State University","BUKIDNON","CITY MALAYBALAY (Capital)","Division of Malaybalay City"]
[500409,"Busdi IS","BUKIDNON","CITY MALAYBALAY (Capital)","Division of Malaybalay City"]
[500245,"Can-ayan IS","BUKIDNON","CITY MALAYBALAY (Capital)","Division of Malaybalay City"]
[314914,"Casisang NHS","BUKIDNON","CITY MALAYBALAY (Capital)","Division of Malaybalay City"]
[314915,"Kalasungay NHS","BUKIDNON","CITY MALAYBALAY (Capital)","Division of Malaybalay City"]
[300507,"Luyungan High School","BUKIDNON","CITY MALAYBALAY (Capital)","Division of Malaybalay City"]
[314904,"Malaybalay City National Science HS","BUKIDNON","CITY MALAYBALAY (Capital)","Division of Malaybalay City"]
[314916,"Malaybalay City NHS","BUKIDNON","CITY MALAYBALAY (Capital)","Division of Malaybalay City"]
[303973,"Managok NHS","BUKIDNON","CITY MALAYBALAY (Capital)","Division of Malaybalay City"]
[325501,"Managok NHS - Annex Lalawan","BUKIDNON","CITY MALAYBALAY (Capital)","Division of Malaybalay City"]
[314920,"Managok NHS - Miglamin Annex","BUKIDNON","CITY MALAYBALAY (Capital)","Division of Malaybalay City"]
[303982,"San Martin Agro-Industrial NHS","BUKIDNON","CITY MALAYBALAY (Capital)","Division of Malaybalay City"]
[341061,"SHS within Casisang CS","BUKIDNON","CITY MALAYBALAY (Capital)","Division of Malaybalay City"]
[303984,"Silae NHS","BUKIDNON","CITY MALAYBALAY (Capital)","Division of Malaybalay City"]
[314905,"ST. PETER NATIONAL HIGH SCHOOL","BUKIDNON","CITY MALAYBALAY (Capital)","Division of Malaybalay City"]
[304024,"Aloran Trade HS","MISAMIS OCCIDENTAL","ALORAN","Division of Misamis Occidental"]
[315208,"Aquino IS","MISAMIS OCCIDENTAL","PLARIDEL","Division of Misamis Occidental"]
[304025,"Baliangao SOF","MISAMIS OCCIDENTAL","BALIANGAO","Division of Misamis Occidental"]
[315209,"Bitibut IS","MISAMIS OCCIDENTAL","SAPANG DALAGA","Division of Misamis Occidental"]
[304028,"Bonifacio NHS","MISAMIS OCCIDENTAL","BONIFACIO","Division of Misamis Occidental"]
[304030,"Calamba CNHS","MISAMIS OCCIDENTAL","CALAMBA","Division of Misamis Occidental"]
[315203,"Carmen IS","MISAMIS OCCIDENTAL","JIMENEZ","Division of Misamis Occidental"]
[304031,"Clarin NHS","MISAMIS OCCIDENTAL","CLARIN","Division of Misamis Occidental"]
[304039,"Colambutan Bajo NHS","MISAMIS OCCIDENTAL","TUDELA","Division of Misamis Occidental"]
[304033,"Concepcion NHS","MISAMIS OCCIDENTAL","CONCEPCION","Division of Misamis Occidental"]
[304032,"Congressman Hilarion J. Ramiro Jr. Memorial National High School","MISAMIS OCCIDENTAL","CLARIN","Division of Misamis Occidental"]
[304034,"Diwat National High School","MISAMIS OCCIDENTAL","BONIFACIO","Division of Misamis Occidental"]
[304035,"Don Victoriano NHS","MISAMIS OCCIDENTAL","DON VICTORIANO CHIONGBIAN","Division of Misamis Occidental"]
[304036,"Guinabut NHS","MISAMIS OCCIDENTAL","SAPANG DALAGA","Division of Misamis Occidental"]
[315204,"Ignacio Tan MIS","MISAMIS OCCIDENTAL","BONIFACIO","Division of Misamis Occidental"]
[304037,"Jimenez NCHS","MISAMIS OCCIDENTAL","JIMENEZ","Division of Misamis Occidental"]
[304038,"Katipunan NHS","MISAMIS OCCIDENTAL","SINACABAN","Division of Misamis Occidental"]
[315211,"Lampasan Integrated School","MISAMIS OCCIDENTAL","DON VICTORIANO CHIONGBIAN","Division of Misamis Occidental"]
[304040,"LOOC NATIONAL HIGH SCHOOL","MISAMIS OCCIDENTAL","PLARIDEL","Division of Misamis Occidental"]
[304043,"Macalibre Alto NHS","MISAMIS OCCIDENTAL","LOPEZ JAENA","Division of Misamis Occidental"]
[315205,"Mitazan Integrated School","MISAMIS OCCIDENTAL","ALORAN","Division of Misamis Occidental"]
[461007,"MSU - Lopez Jaena Community High School","MISAMIS OCCIDENTAL","LOPEZ JAENA","Division of Misamis Occidental"]
[304046,"Nueva Vista National High School","MISAMIS OCCIDENTAL","DON VICTORIANO CHIONGBIAN","Division of Misamis Occidental"]
[304048,"Panaon NHS","MISAMIS OCCIDENTAL","PANAON","Division of Misamis Occidental"]
[304042,"Roque L. SU MNHS (Mabini NHS)","MISAMIS OCCIDENTAL","BALIANGAO","Division of Misamis Occidental"]
[315202,"Sapang Ama Integrated School","MISAMIS OCCIDENTAL","SAPANG DALAGA","Division of Misamis Occidental"]
[304051,"Sapang Dalaga National High School","MISAMIS OCCIDENTAL","SAPANG DALAGA","Division of Misamis Occidental"]
[315207,"Sibugon IS","MISAMIS OCCIDENTAL","LOPEZ JAENA","Division of Misamis Occidental"]
[304055,"Sinonoc NHS","MISAMIS OCCIDENTAL","SINACABAN","Division of Misamis Occidental"]
[315210,"Tabo-o Integrated School","MISAMIS OCCIDENTAL","JIMENEZ","Division of Misamis Occidental"]
[315206,"Tagwanao IS","MISAMIS OCCIDENTAL","ALORAN","Division of Misamis Occidental"]
[304058,"Tudela National Comprehensive High School","MISAMIS OCCIDENTAL","TUDELA","Division of Misamis Occidental"]
[315201,"Upper Usugan National Comprehensive High School","MISAMIS OCCIDENTAL","BONIFACIO","Division of Misamis Occidental"]
[500250,"Alipuaton IS","MISAMIS ORIENTAL","SALAY","Division of Misamis Oriental"]
[304059,"Alubijid NCHS","MISAMIS ORIENTAL","ALUBIJID","Division of Misamis Oriental"]
[500519,"Andales IS","MISAMIS ORIENTAL","INITAO","Division of Misamis Oriental"]
[304060,"Aplaya NHS","MISAMIS ORIENTAL","JASAAN","Division of Misamis Oriental"]
[315309,"Aposkahoy NHS","MISAMIS ORIENTAL","CLAVERIA","Division of Misamis Oriental"]
[315301,"Bagocboc NHS","MISAMIS ORIENTAL","OPOL","Division of Misamis Oriental"]
[341227,"Balingasag Senior High School","MISAMIS ORIENTAL","BALINGASAG","Division of Misamis Oriental"]
[304061,"Baliwagan NHS","MISAMIS ORIENTAL","BALINGASAG","Division of Misamis Oriental"]
[304062,"Binuangan NHS","MISAMIS ORIENTAL","BINUANGAN","Division of Misamis Oriental"]
[304063,"Bobontugan NHS","MISAMIS ORIENTAL","JASAAN","Division of Misamis Oriental"]
[500520,"Bulahan IS","MISAMIS ORIENTAL","CLAVERIA","Division of Misamis Oriental"]
[304064,"Cabalantian NHS","MISAMIS ORIENTAL","MANTICAO","Division of Misamis Oriental"]
[500845,"Cabalawan IS","MISAMIS ORIENTAL","MAGSAYSAY (LINUGOS)","Division of Misamis Oriental"]
[500253,"Calubo IS","MISAMIS ORIENTAL","KINOGUITAN","Division of Misamis Oriental"]
[315310,"Casinglot NHS","MISAMIS ORIENTAL","TAGOLOAN","Division of Misamis Oriental"]
[500521,"Cauyonan IS","MISAMIS ORIENTAL","OPOL","Division of Misamis Oriental"]
[304066,"Consuelo NHS","MISAMIS ORIENTAL","MAGSAYSAY (LINUGOS)","Division of Misamis Oriental"]
[315322,"Damayuhan NHS","MISAMIS ORIENTAL","MAGSAYSAY (LINUGOS)","Division of Misamis Oriental"]
[304067,"Dampias NHS","MISAMIS ORIENTAL","BINUANGAN","Division of Misamis Oriental"]
[304068,"Dampil NHS","MISAMIS ORIENTAL","LAGONGLONG","Division of Misamis Oriental"]
[315302,"Danao NHS","MISAMIS ORIENTAL","JASAAN","Division of Misamis Oriental"]
[304090,"Don Gregorio Pelaez NHS","MISAMIS ORIENTAL","MEDINA","Division of Misamis Oriental"]
[304069,"Dr. Gerardo Sabal MNHS","MISAMIS ORIENTAL","CLAVERIA","Division of Misamis Oriental"]
[304070,"Esperanza NHS","MISAMIS ORIENTAL","KINOGUITAN","Division of Misamis Oriental"]
[360848,"Esperanza Senior High School","MISAMIS ORIENTAL","KINOGUITAN","Division of Misamis Oriental"]
[315313,"Gumabon NHS","MISAMIS ORIENTAL","MAGSAYSAY (LINUGOS)","Division of Misamis Oriental"]
[304071,"Hinaplanan NHS","MISAMIS ORIENTAL","CLAVERIA","Division of Misamis Oriental"]
[304072,"Initao NCHS","MISAMIS ORIENTAL","INITAO","Division of Misamis Oriental"]
[315312,"Inobulan (Honga Gue) NHS","MISAMIS ORIENTAL","SALAY","Division of Misamis Oriental"]
[304073,"Jasaan NHS","MISAMIS ORIENTAL","JASAAN","Division of Misamis Oriental"]
[500522,"Kabulakan IS","MISAMIS ORIENTAL","BALINGOAN","Division of Misamis Oriental"]
[315317,"Kalacapan NHS","MISAMIS ORIENTAL","INITAO","Division of Misamis Oriental"]
[341204,"Kalacapan NHS","MISAMIS ORIENTAL","INITAO","Division of Misamis Oriental"]
[304074,"Kalingagan NHS","MISAMIS ORIENTAL","VILLANUEVA","Division of Misamis Oriental"]
[304075,"Kibaghot NHS","MISAMIS ORIENTAL","LAGUINDINGAN","Division of Misamis Oriental"]
[304076,"Kibungsod NHS","MISAMIS ORIENTAL","MAGSAYSAY (LINUGOS)","Division of Misamis Oriental"]
[500692,"Kidampas IS","MISAMIS ORIENTAL","SUGBONGCOGON","Division of Misamis Oriental"]
[304077,"Kinoguitan Nat'l Agricultural HS","MISAMIS ORIENTAL","KINOGUITAN","Division of Misamis Oriental"]
[341233,"Kinoguitan Senior High School","MISAMIS ORIENTAL","KINOGUITAN","Division of Misamis Oriental"]
[341234,"Lagonglong Senior High School","MISAMIS ORIENTAL","LAGONGLONG","Division of Misamis Oriental"]
[304078,"Laguindingan NHS","MISAMIS ORIENTAL","LAGUINDINGAN","Division of Misamis Oriental"]
[500251,"Lantad IS","MISAMIS ORIENTAL","BALINGASAG","Division of Misamis Oriental"]
[304079,"Libertad NHS","MISAMIS ORIENTAL","LIBERTAD","Division of Misamis Oriental"]
[500525,"Limunda IS","MISAMIS ORIENTAL","OPOL","Division of Misamis Oriental"]
[304080,"Looc NHS","MISAMIS ORIENTAL","SALAY","Division of Misamis Oriental"]
[304081,"Lourdes Alubijid NHS","MISAMIS ORIENTAL","ALUBIJID","Division of Misamis Oriental"]
[304082,"Lugait NHS","MISAMIS ORIENTAL","LUGAIT","Division of Misamis Oriental"]
[360847,"Lugait Senior High School","MISAMIS ORIENTAL","LUGAIT","Division of Misamis Oriental"]
[315304,"Lumbo NHS","MISAMIS ORIENTAL","LAGONGLONG","Division of Misamis Oriental"]
[500523,"Mahayahay IS","MISAMIS ORIENTAL","MANTICAO","Division of Misamis Oriental"]
[304083,"Malagana NHS","MISAMIS ORIENTAL","CLAVERIA","Division of Misamis Oriental"]
[304084,"Mandahilag NHS","MISAMIS ORIENTAL","TALISAYAN","Division of Misamis Oriental"]
[304085,"Mantangale NHS","MISAMIS ORIENTAL","BALINGOAN","Division of Misamis Oriental"]
[341228,"Mantangale Senior High School","MISAMIS ORIENTAL","BALINGOAN","Division of Misamis Oriental"]
[315307,"Manticao NHS","MISAMIS ORIENTAL","MANTICAO","Division of Misamis Oriental"]
[341230,"Maputi Senior High School","MISAMIS ORIENTAL","NAAWAN","Division of Misamis Oriental"]
[304087,"Mat-i (Claveria) NHS","MISAMIS ORIENTAL","CLAVERIA","Division of Misamis Oriental"]
[304088,"Mat-i (Naawan) NHS","MISAMIS ORIENTAL","NAAWAN","Division of Misamis Oriental"]
[304086,"Matangad NHS","MISAMIS ORIENTAL","GITAGUM","Division of Misamis Oriental"]
[304089,"Medina NCHS","MISAMIS ORIENTAL","MEDINA","Division of Misamis Oriental"]
[500524,"Minalwang IS","MISAMIS ORIENTAL","CLAVERIA","Division of Misamis Oriental"]
[600095,"Mindanao State University at Naawan- Integrated Developmental School","MISAMIS ORIENTAL","NAAWAN","Division of Misamis Oriental"]
[304091,"Mis. Or. Gen. CHS","MISAMIS ORIENTAL","CAGAYAN DE ORO CITY (Capital)","Division of Misamis Oriental"]
[304092,"Misamis Oriental NHS","MISAMIS ORIENTAL","BALINGASAG","Division of Misamis Oriental"]
[600096,"Misamis Oriental State College of Agriculture and Technology","MISAMIS ORIENTAL","CLAVERIA","Division of Misamis Oriental"]
[315303,"Naawan NHS","MISAMIS ORIENTAL","NAAWAN","Division of Misamis Oriental"]
[600367,"Opol Community College","MISAMIS ORIENTAL","OPOL","Division of Misamis Oriental"]
[304094,"Opol NSTS","MISAMIS ORIENTAL","OPOL","Division of Misamis Oriental"]
[315314,"Patrocinio NHS","MISAMIS ORIENTAL","CLAVERIA","Division of Misamis Oriental"]
[304095,"Portulin NHS","MISAMIS ORIENTAL","MEDINA","Division of Misamis Oriental"]
[315308,"Rizal NHS","MISAMIS ORIENTAL","CLAVERIA","Division of Misamis Oriental"]
[315306,"Rosario NHS","MISAMIS ORIENTAL","BALINGASAG","Division of Misamis Oriental"]
[330528,"Rosario NHS of Tagoloan","MISAMIS ORIENTAL","TAGOLOAN","Division of Misamis Oriental"]
[304096,"Salay NHS","MISAMIS ORIENTAL","SALAY","Division of Misamis Oriental"]
[500252,"Sampatulog IS","MISAMIS ORIENTAL","ALUBIJID","Division of Misamis Oriental"]
[304097,"San Isidro NHS","MISAMIS ORIENTAL","BALINGASAG","Division of Misamis Oriental"]
[304098,"San Juan NHS","MISAMIS ORIENTAL","BALINGASAG","Division of Misamis Oriental"]
[304099,"Sta. Ana NHS","MISAMIS ORIENTAL","TAGOLOAN","Division of Misamis Oriental"]
[304100,"Sta. Ines NHS","MISAMIS ORIENTAL","TALISAYAN","Division of Misamis Oriental"]
[341235,"Sta. Ines Senior High School","MISAMIS ORIENTAL","TALISAYAN","Division of Misamis Oriental"]
[304101,"Sugbongcogon NHS","MISAMIS ORIENTAL","SUGBONGCOGON","Division of Misamis Oriental"]
[600368,"Tagoloan Community College","MISAMIS ORIENTAL","TAGOLOAN","Division of Misamis Oriental"]
[304102,"Tagoloan NHS","MISAMIS ORIENTAL","TAGOLOAN","Division of Misamis Oriental"]
[341231,"Tagoloan Senior High School","MISAMIS ORIENTAL","TAGOLOAN","Division of Misamis Oriental"]
[304093,"Talisayan NHS","MISAMIS ORIENTAL","TALISAYAN","Division of Misamis Oriental"]
[500923,"Tama IS","MISAMIS ORIENTAL","MAGSAYSAY (LINUGOS)","Division of Misamis Oriental"]
[315315,"Tambobong-Balacanas NHS","MISAMIS ORIENTAL","VILLANUEVA","Division of Misamis Oriental"]
[500526,"Tawantawan IS","MISAMIS ORIENTAL","INITAO","Division of Misamis Oriental"]
[500527,"Tinagaan IS","MISAMIS ORIENTAL","SALAY","Division of Misamis Oriental"]
[500528,"Tingalan IS","MISAMIS ORIENTAL","OPOL","Division of Misamis Oriental"]
[600274,"University of Science and Technology of Southern Philippines","MISAMIS ORIENTAL","JASAAN","Division of Misamis Oriental"]
[304103,"Villanueva NHS","MISAMIS ORIENTAL","VILLANUEVA","Division of Misamis Oriental"]
[341232,"Villanueva Senior High School","MISAMIS ORIENTAL","VILLANUEVA","Division of Misamis Oriental"]
[304029,"Bunga NHS","MISAMIS OCCIDENTAL","OROQUIETA CITY (Capital)","Division of Oroquieta City"]
[500402,"Dullan IS","MISAMIS OCCIDENTAL","OROQUIETA CITY (Capital)","Division of Oroquieta City"]
[304045,"Misamis Occidental NHS","MISAMIS OCCIDENTAL","OROQUIETA CITY (Capital)","Division of Oroquieta City"]
[304044,"Misamis Occidental Science & Tech. HS","MISAMIS OCCIDENTAL","OROQUIETA CITY (Capital)","Division of Oroquieta City"]
[500401,"Mobod IS","MISAMIS OCCIDENTAL","OROQUIETA CITY (Capital)","Division of Oroquieta City"]
[323202,"Oroquieta City NHS - Clarin Settlement Campus","MISAMIS OCCIDENTAL","OROQUIETA CITY (Capital)","Division of Oroquieta City"]
[304047,"Oroquieta City NHS - Villaflor Campus","MISAMIS OCCIDENTAL","OROQUIETA CITY (Capital)","Division of Oroquieta City"]
[304049,"Rizal NHS","MISAMIS OCCIDENTAL","OROQUIETA CITY (Capital)","Division of Oroquieta City"]
[500403,"Sebucal Integrated School","MISAMIS OCCIDENTAL","OROQUIETA CITY (Capital)","Division of Oroquieta City"]
[304052,"Senote NHS","MISAMIS OCCIDENTAL","OROQUIETA CITY (Capital)","Division of Oroquieta City"]
[304057,"Talairon NHS","MISAMIS OCCIDENTAL","OROQUIETA CITY (Capital)","Division of Oroquieta City"]
[304164,"Calabayan National High School","MISAMIS OCCIDENTAL","OZAMIS CITY","Division of Ozamis City"]
[500699,"Cogon Integrated School","MISAMIS OCCIDENTAL","OZAMIS CITY","Division of Ozamis City"]
[304170,"Gala National High School","MISAMIS OCCIDENTAL","OZAMIS CITY","Division of Ozamis City"]
[315701,"Kinuman Norte National High School","MISAMIS OCCIDENTAL","OZAMIS CITY","Division of Ozamis City"]
[304161,"Labinay National High School","MISAMIS OCCIDENTAL","OZAMIS CITY","Division of Ozamis City"]
[304163,"Labo National High School","MISAMIS OCCIDENTAL","OZAMIS CITY","Division of Ozamis City"]
[500700,"Malaubang Integrated School","MISAMIS OCCIDENTAL","OZAMIS CITY","Division of Ozamis City"]
[500701,"Misamis Annex Integrated School","MISAMIS OCCIDENTAL","OZAMIS CITY","Division of Ozamis City"]
[304166,"Montol National High School","MISAMIS OCCIDENTAL","OZAMIS CITY","Division of Ozamis City"]
[304167,"Ozamiz City National High School","MISAMIS OCCIDENTAL","OZAMIS CITY","Division of Ozamis City"]
[304168,"Ozamiz City School of Arts and Trades","MISAMIS OCCIDENTAL","OZAMIS CITY","Division of Ozamis City"]
[304169,"Pulot National High School","MISAMIS OCCIDENTAL","OZAMIS CITY","Division of Ozamis City"]
[304165,"San Antonio National High School","MISAMIS OCCIDENTAL","OZAMIS CITY","Division of Ozamis City"]
[304162,"Tabid National High School","MISAMIS OCCIDENTAL","OZAMIS CITY","Division of Ozamis City"]
[304026,"Banglay NHS","MISAMIS OCCIDENTAL","TANGUB CITY","Division of Tangub City"]
[304027,"Bongabong NHS","MISAMIS OCCIDENTAL","TANGUB CITY","Division of Tangub City"]
[304054,"Caniangan NHS","MISAMIS OCCIDENTAL","TANGUB CITY","Division of Tangub City"]
[304041,"Lorenzo Tan NHS","MISAMIS OCCIDENTAL","TANGUB CITY","Division of Tangub City"]
[500750,"Maloro Integrated School","MISAMIS OCCIDENTAL","TANGUB CITY","Division of Tangub City"]
[323303,"Maquilao Integrated School","MISAMIS OCCIDENTAL","TANGUB CITY","Division of Tangub City"]
[500753,"Maquilao Integrated School","MISAMIS OCCIDENTAL","TANGUB CITY","Division of Tangub City"]
[323301,"Mayor Alfonso Tan High School","MISAMIS OCCIDENTAL","TANGUB CITY","Division of Tangub City"]
[600097,"Northwestern Mindanao State College of Science and Technology","MISAMIS OCCIDENTAL","TANGUB CITY","Division of Tangub City"]
[900680,"Northwestern Mindanao State College of Science and Technology","MISAMIS OCCIDENTAL","TANGUB CITY","Division of Tangub City"]
[500752,"Pangabuan Integrated School","MISAMIS OCCIDENTAL","TANGUB CITY","Division of Tangub City"]
[304050,"Santa Maria NHS","MISAMIS OCCIDENTAL","TANGUB CITY","Division of Tangub City"]
[304053,"Silangit NHS","MISAMIS OCCIDENTAL","TANGUB CITY","Division of Tangub City"]
[323302,"Simasay NHS","MISAMIS OCCIDENTAL","TANGUB CITY","Division of Tangub City"]
[304056,"Sumirap NHS","MISAMIS OCCIDENTAL","TANGUB CITY","Division of Tangub City"]
[304171,"Tangub City NHS","MISAMIS OCCIDENTAL","TANGUB CITY","Division of Tangub City"]
[500702,"Banlag IS","BUKIDNON","CITY OF VALENCIA","Division of Valencia City"]
[323802,"Catumbalon National High School","BUKIDNON","CITY OF VALENCIA","Division of Valencia City"]
[323803,"Concepcion National High School","BUKIDNON","CITY OF VALENCIA","Division of Valencia City"]
[500703,"Dagatkidavao Integrated School","BUKIDNON","CITY OF VALENCIA","Division of Valencia City"]
[314909,"Guinuyoran National High School","BUKIDNON","CITY OF VALENCIA","Division of Valencia City"]
[314906,"Lilingayon National High School","BUKIDNON","CITY OF VALENCIA","Division of Valencia City"]
[500704,"LOURDES INTEGRATED SCHOOL","BUKIDNON","CITY OF VALENCIA","Division of Valencia City"]
[303970,"Lurugan National High School","BUKIDNON","CITY OF VALENCIA","Division of Valencia City"]
[500705,"Mt. Nebo IS","BUKIDNON","CITY OF VALENCIA","Division of Valencia City"]
[323801,"Tongantongan National High School","BUKIDNON","CITY OF VALENCIA","Division of Valencia City"]
[303988,"Valencia NHS","BUKIDNON","CITY OF VALENCIA","Division of Valencia City"]

{"sheet":"Main Menu","index":3,"n_rows":79,"n_cols":15,"rows_kept":79,"merged":[[0,0,0,7],[1,0,1,7],[2,0,2,7],[4,0,4,7],[5,1,5,5],[6,1,6,5],[7,1,7,2],[8,0,8,3],[9,0,9,5],[10,1,10,2],[10,3,10,5],[11,1,11,2],[12,0,16,0],[12,1,12,2],[14,1,14,2],[15,1,15,2],[16,1,16,2],[18,0,35,0],[18,1,18,2],[18,3,18,5],[20,1,20,2],[20,3,20,5],[21,1,21,2],[21,3,21,5],[22,1,22,2],[22,3,22,5],[24,1,24,2],[24,3,24,5],[26,1,26,2],[26,3,26,5],[27,1,27,2],[27,3,27,5],[28,1,28,2],[28,3,28,5],[36,0,41,0],[36,1,36,2],[38,1,38,2],[39,1,39,2],[40,1,40,2],[48,0,48,3],[55,1,55,7],[69,1,69,2],[71,1,71,3],[73,0,73,5]]}
["Department of Education",{"$nulls":8},"Division of Bukidnon"]
["Region X",{"$nulls":8},"Division of Cagayan de Oro City"]
[{"$f":"IF(B16=\"\",\"\",'Input Menu'!A3:G3)","v":""},{"$nulls":8},"Division of Camiguin City"]
[{"$nulls":9},"Division of El Salvador City"]
["S B M    V a l I d a t I o n",{"$nulls":8},"Division of Gingoog City"]
["Municipality:",{"$f":"'Input Menu'!B8:C8","v":""},{"$nulls":7},"Division of Iligan City"]
["School:",{"$f":"IF(B16=\"\",\"\",'Input Menu'!B7:G7)","v":""},{"$nulls":7},"Division of Lanao del Norte"]
["School Year Validated:",{"$f":"IF(B16=\"\",\"\",'Input Menu'!B9:C9)","v":""}]
["Step 1: Determine Performance Improvement (60%)",{"$nulls":8},"Division of Malaybalay City"]
["Direction: Select the school year under Performance Indicator's Column and enter the baseline data.",{"$nulls":8},"Division of Misamis Occidental"]
["Thematic Area","Performance Indicators",null,"Baseline Data",{"$nulls":5},"Division of Misamis Oriental"]
[{"$nulls":9},"Division of Oroqueta City"]
["Access (45%)","Enrolment Increase",null,"Enrolment (Raw Data)",null,"Community Mapping",{"$nulls":3},"Division of Ozamis City"]
[null,"SY 2009-2010",null,990,null,null,"SY 2008-2009"]
[null,{"$f":"IF(B6=\"\",\"\",'Input Menu'!B16)","v":""},null,{"$f":"IF(B15=\"\",\"\",'Input Menu'!C16)","v":""},"SY 2009-2010",{"$f":"IF(B15=\"\",\"\",100-(('Input Menu'!E16/'Input Menu'!H16)*100))","v":""},2010,null,null,"Division of Tangub City"]
[null,{"$f":"'Input Menu'!B17","v":""},null,{"$f":"IF(B16=\"\",\"\",'Input Menu'!C17)","v":""},"SY 2010-2011",{"$f":"IF(B16=\"\",\"\",100-(('Input Menu'!E17/'Input Menu'!H17)*100))","v":""},2011,null,null,"Division of Valencia City"]
[null,{"$f":"'Input Menu'!B18","v":""},null,{"$f":"IF(B17=\"\",\"\",'Input Menu'!C18)","v":""},"SY 2011-2012",{"$f":"IF(B17=\"\",\"\",100-(('Input Menu'!E18/'Input Menu'!H18)*100))","v":""},2012]
[null,"% of Inc./Average",null,{"$f":"'1Elem. ER, CR1, CSR1, NAT1'!C17","v":{"$error":"#VALUE!"}},null,null,2013]
["Efficiency (25%)","Dropout Rate (DR):",null,"Dropout (%)",null,null,2014]
[null,"SY 2008-2009",null,{"v":0.02,"d":"2.00%"},null,null,2015]
[null,{"$f":"B15","v":""},null,{"$f":"IF(B21=\"\",\"\",('Input Menu'!E22/'Input Menu'!G22)*100)","v":""},null,null,2016]
[null,{"$f":"B16","v":""},null,{"$f":"IF(B22=\"\",\"\",('Input Menu'!E23/'Input Menu'!G23)*100)","v":""},null,null,2017]
[null,{"$f":"B17","v":""},null,{"$f":"IF(B23=\"\",\"\",('Input Menu'!E24/'Input Menu'!G24)*100)","v":""},null,null,2018]
[null,"Ave. % of Decrease",{"$nulls":4},2019]
[null,"Repetition Rate (RR):",null,"Repetition  (%)",null,null,2020]
[null,"SY 2008-2009",null,65,null,null,2021]
[null,{"$f":"B21","v":""},null,{"$f":"IF(B27=\"\",\"\",('Input Menu'!E28/'Input Menu'!G28)*100)","v":""},null,null,2022]
[null,{"$f":"B22","v":""},null,{"$f":"IF(B28=\"\",\"\",('Input Menu'!E29/'Input Menu'!G29)*100)","v":""},null,null,2023]
[null,{"$f":"B23","v":""},null,{"$f":"IF(B29=\"\",\"\",('Input Menu'!E30/'Input Menu'!G30)*100)","v":""},null,null,2024]
[null,"Ave. % of Increase",{"$nulls":4},2025]
[null,"Cohort Survival Rate (CSR):",null,"Cohort Survival (%)",null,null,2026]
[null,"SY 2008-2009",null,58,null,null,2027]
[null,{"$f":"B27","v":""},null,{"v":95,"d":"95.00"},null,null,2028]
[null,{"$f":"B28","v":""},null,{"v":96,"d":"96.00"},null,null,2029]
[null,{"$f":"B29","v":""},null,83.72,null,null,2030]
[null,"Ave. % of Increase",{"$nulls":4},2031]
["Quality (30%)","NAT MPS/Promotion Rate",null,"NAT MPS (%)","NAT MPS","Promotion Rate",2032]
[null,"SY 2008-2009",null,{"v":56,"d":"56.00"},50,null,2033]
[null,{"$f":"B33","v":""},null,{"$f":"IF(B39=\"\",\"\",'Input Menu'!C40)","v":""},20,{"$f":"IF(B39=\"\",\"\",('Input Menu'!E40/'Input Menu'!G40)*100)","v":""},2034]
[null,{"$f":"B34","v":""},null,{"$f":"IF(B40=\"\",\"\",'Input Menu'!C41)","v":""},68,{"$f":"IF(B40=\"\",\"\",('Input Menu'!E41/'Input Menu'!G41)*100)","v":""},2035]
[null,{"$f":"B35","v":""},null,{"$f":"IF(B41=\"\",\"\",'Input Menu'!C42)","v":""},28,{"$f":"IF(B41=\"\",\"\",('Input Menu'!E42/'Input Menu'!G42)*100)","v":""},2036]
[null,"Ave. % of Increase",null,null,{"$f":"AVERAGE(E39:E41)","v":{"v":38.666666666666664,"d":"39"}}]
[]
[]
[]
[]
[" "]
["Step 1: Click the option to view the Performance Improvement score"]
["              Choose the best option to generate the highest score, then proceed to DOD Principles:"]
["Option1: ER, DR, RR, NAT1",{"$f":"'3Elem. ER, CR1, CSR2, NAT1'!H42","v":{"$error":"#VALUE!"}},{"$f":"B50*0.6","v":{"$error":"#VALUE!"}},{"$nulls":3},{"$f":"F50*0.6","v":{"v":0,"d":"0.00"}}]
["Option2: ER, DR, RR, NAT2",{"$f":"'2Elem. ER, CR1, CSR1, NAT2'!H42","v":{"$error":"#VALUE!"}},{"$f":"B51*0.6","v":{"$error":"#VALUE!"}},{"$nulls":3},{"$f":"F51*0.6","v":{"v":0,"d":"0.00"}}]
["Option3: ER, DR, RR, PrR",{"$f":"'1Elem. ER, CR1, CSR1, NAT1'!H42","v":{"$error":"#VALUE!"}},{"$error":"#VALUE!"},{"$nulls":3},{"$f":"F52*0.6","v":{"v":0,"d":"0.00"}}]
["Option4: CM, DR, RR, NAT1",{"$f":"'9Elem. PR, CR1, CSR1, NAT1'!H42","v":{"$error":"#VALUE!"}},{"$error":"#VALUE!"},{"$nulls":3},{"$f":"F53*0.6","v":{"v":0,"d":"0.00"}}]
["Option5: CM, DR, RR, NAT2",{"$f":"'10Elem. PR, CR1, CSR1, NAT2'!H42","v":{"$error":"#VALUE!"}},{"$error":"#VALUE!"}]
["Option6: CM, DR, RR, PrR",{"$f":"'14Elem. PR, CR2, CSR1, NAT2'!H42","v":{"$error":"#VALUE!"}},{"$error":"#VALUE!"}]
["2. Comments/ Suggestions/ Recommendations/ Technical Assistance:"]
{"$rows_empty":12}
["Step 3: Enter the best option on the space given."]
[]
[]
["Step 4: Select the level of validation:",{"$nulls":10},{"$f":"B72","v":0},{"$f":"D72","v":0},null,{"$f":"B72","v":0}]
[]
["Step 5: Go back to step 1, click the best option, then generate SBM Validation Form, Save and Close.  "]
[]
["Developed by:    ARIEL B. MONTECALBO, Ph.D."]
["                               EPS-II Monitoring and Evaluation"]
["                                      Division of Bukidnon"]
["                          0917-589-5234"]

{"sheet":"Sec. Acc1, NAT2, CR1, CSR1","index":4,"n_rows":111,"n_cols":15,"rows_kept":111,"hidden":true,"merged":[[0,0,0,7],[1,0,1,7],[2,0,2,7],[4,0,4,7],[5,1,5,2],[5,5,5,7],[7,0,7,7],[8,1,8,2],[10,0,15,0],[10,4,15,4],[10,5,15,5],[10,6,15,6],[10,7,15,7],[16,0,33,0],[16,4,21,4],[16,5,21,5],[16,6,21,6],[16,7,33,7],[22,4,27,4],[22,5,27,5],[22,6,27,6],[28,4,33,4],[28,5,33,5],[28,6,33,6],[34,0,39,0],[34,4,39,4],[34,5,39,5],[34,6,39,6],[34,7,39,7],[40,0,40,4],[42,0,42,7],[43,0,43,7],[44,0,44,1],[44,2,44,3],[44,4,44,5],[44,6,44,7],[45,0,45,1],[45,2,45,3],[45,4,45,5],[45,6,45,7],[46,0,46,1],[46,2,46,3],[46,4,46,5],[46,6,46,7],[47,0,47,1],[47,2,47,3],[47,4,47,5],[47,6,47,7],[48,0,48,1],[48,2,48,3],[48,4,48,5],[48,6,48,7],[49,0,49,5],[49,6,49,7],[53,1,53,3],[53,4,53,5],[54,1,54,3],[54,4,54,5],[55,1,55,3],[55,4,55,5],[56,1,56,3],[56,4,56,5],[64,0,64,7],[65,0,65,1],[65,2,65,3],[65,4,65,5],[65,6,65,7],[66,0,66,1],[66,2,66,3],[66,4,66,5],[66,6,66,7],[67,0,67,1],[67,2,67,3],[67,4,67,5],[67,6,67,7],[68,0,68,5],[68,6,68,7],[75,0,75,7],[76,1,76,3],[76,4,76,5],[77,1,77,3],[77,4,77,5],[78,1,78,3],[78,4,78,5],[79,1,79,3],[79,4,79,5],[81,1,84,7],[100,1,100,2],[100,4,100,5],[101,1,101,2],[101,4,101,5],[104,1,104,2],[104,4,104,5],[105,1,105,2],[105,4,105,5],[109,1,109,5],[110,1,110,5]]}
[{"$f":"'Main Menu'!A1:F1","v":"Department of Education"}]
[{"$f":"'Main Menu'!A2:F2","v":"Region X"}]
[{"$f":"'Main Menu'!A3:F3","v":""}]
[]
["SBM Validation"]
["Name of School:",{"$f":"'Main Menu'!G6","v":0},null,null,"Division:",{"$f":"'Main Menu'!G7","v":0},{"$nulls":4},{"$f":"B6","v":0}]
[]
["Step 1: Determine Performance Improvement (60%)"]
["Thematic Area","Performance Indicators",null,null,"Rating & Equivalent Points","Computation","Computation","Results"]
[]
["Access (45%)","Enrolment Increase","% of Increase","Enrolment",null,{"$f":"grd(C16)","v":{"$error":"#VALUE!"}},{"$f":"F11*0.45","v":{"$error":"#VALUE!"}},{"$f":"G11","v":{"$error":"#VALUE!"}}]
[null,{"$f":"'Main Menu'!B14","v":"SY 2009-2010"},null,{"$f":"'Main Menu'!D14","v":990}]
[null,{"$f":"'Main Menu'!B15","v":""},null,{"$f":"'Main Menu'!D15","v":""},{"$nulls":6},"SY 2009-2010"]
[null,{"$f":"'Main Menu'!B16","v":""},{"$f":"((D14-D13)/D13)*100","v":{"$error":"#VALUE!"}},{"$f":"'Main Menu'!D16","v":""},{"$nulls":6},"SY 2010-2011"]
[null,{"$f":"'Main Menu'!B17","v":""},{"$f":"((D15-D14)/D14)*100","v":{"$error":"#VALUE!"}},{"$f":"'Main Menu'!D17","v":""},{"$nulls":6},"SY 2011-2012"]
[null,"Ave. % of Increase",{"$f":"AVERAGE(C14:C15)","v":{"$error":"#VALUE!"}},{"$nulls":7},"SY 2012-2013"]
["Efficiency (25%)","Dropout Rate (DR):","% of decrease","Dropout",null,{"$f":"IF(C22>=5,\"1\",IF(C22>=2,\"2\",IF(C22<2,\"3\",\"0\")))","v":{"$error":"#VALUE!"}},{"$f":"F17*0.0833","v":{"$error":"#VALUE!"}},{"$f":"SUM(G17:G34)","v":{"$error":"#VALUE!"}},null,null,"SY 2013-2014"]
[null,{"$f":"'Main Menu'!B20","v":"SY 2008-2009"},null,{"$f":"'Main Menu'!D20","v":0.02}]
[null,{"$f":"'Main Menu'!B21","v":""},null,{"$f":"'Main Menu'!D21","v":""},{"$nulls":6},"SY 2014- 2015"]
[null,{"$f":"'Main Menu'!B22","v":""},{"$f":"(D20-D19)","v":{"$error":"#VALUE!"}},{"$f":"'Main Menu'!D22","v":""},{"$nulls":6},"SY 2015- 2016"]
[null,{"$f":"'Main Menu'!B23","v":""},{"$f":"D21-D20","v":{"$error":"#VALUE!"}},{"$f":"'Main Menu'!D23","v":""},{"$nulls":6},"SY 2016-2017"]
[null,"Ave. % of Decrease",{"$f":"(C20+C21)/2","v":{"$error":"#VALUE!"}}]
[null,"Completion Rate (CR):","% of Increase","Completion",null,{"$f":"grd(C28)","v":{"$error":"#VALUE!"}},{"$f":"F23*0.0833","v":{"$error":"#VALUE!"}},{"$nulls":3},"SY 2017-2018"]
[null,{"$f":"'Main Menu'!B26","v":"SY 2008-2009"},null,{"$f":"'Main Menu'!D26","v":65}]
[null,{"$f":"'Main Menu'!B27","v":""},null,{"$f":"'Main Menu'!D27","v":""},{"$nulls":6},"SY 2018- 2019"]
[null,{"$f":"'Main Menu'!B28","v":""},{"$f":"(D26-D25)/D25*100","v":{"$error":"#VALUE!"}},{"$f":"'Main Menu'!D28","v":""},{"$nulls":6},"SY 2019- 2020"]
[null,{"$f":"'Main Menu'!B29","v":""},{"$f":"(D27-D26)/D26*100","v":{"$error":"#VALUE!"}},{"$f":"'Main Menu'!D29","v":""}]
[null,"Ave. % of Increase",{"$f":"(C26+C27)/2","v":{"$error":"#VALUE!"}}]
[null,"Cohort Survival Rate (CSR):","% of Increase","Cohort Survival",null,{"$f":"grd(C34)","v":0},{"$f":"F29*0.0834","v":{"v":0,"d":"0.00"}}]
[null,{"$f":"'Main Menu'!B32","v":"SY 2008-2009"},null,{"$f":"'Main Menu'!D32","v":58}]
[null,{"$f":"'Main Menu'!B33","v":""},null,{"$f":"'Main Menu'!D33","v":{"v":95,"d":"95.00"}}]
[null,{"$f":"'Main Menu'!B34","v":""},{"$f":"(D32-D31)/D31*100","v":{"v":1.0526315789473684,"d":"1.05"}},{"$f":"'Main Menu'!D34","v":{"v":96,"d":"96.00"}}]
[null,{"$f":"'Main Menu'!B35","v":""},{"$f":"(D33-D32)/D32*100","v":{"v":-12.791666666666668,"d":"-12.79"}},{"$f":"'Main Menu'!D35","v":83.72}]
[null,"Ave. % of Increase",{"$f":"(C32+C33)/2","v":{"v":-5.86951754385965,"d":"-5.87"}}]
["Quality (30%)","NAT MPS","% of Increase","NAT MPS",null,{"$f":"grdee(D40)","v":{"$error":"#VALUE!"}},{"$f":"F35*0.3","v":{"$error":"#VALUE!"}},{"$f":"G35","v":{"$error":"#VALUE!"}}]
[null,{"$f":"'Main Menu'!B38","v":"SY 2008-2009"},null,{"$f":"'Main Menu'!D38","v":{"v":56,"d":"56.00"}}]
[null,{"$f":"'Main Menu'!B39","v":""},null,{"$f":"'Main Menu'!D39","v":""}]
[null,{"$f":"'Main Menu'!B40","v":""},null,{"$f":"'Main Menu'!D40","v":""}]
[null,{"$f":"'Main Menu'!B41","v":""},null,{"$f":"'Main Menu'!D41","v":""}]
[null,"Ave. % of Increase",null,{"$f":"AVERAGE(D37:D39)","v":{"$error":"#DIV/0!"}}]
["Sub-Total",{"$nulls":6},{"$f":"SUM(H11:H40)","v":{"$error":"#VALUE!"}}]
[]
["Note: Only Schools having a Performance Improvement of \" Better\" can apply to the Division for SBM Validation."]
["Step 2: Compute for validated SBM Assessment Scores (40%)"]
["SBM Principles",null,"Weight",null,"Cummulative Scores of Validators per Principles",null,"Results"]
["Leadership",null,{"v":0.3,"d":"30%"},null,{"$f":"'Document Analysis, Obs. Discuss'!AP71","v":{"v":0,"d":"0.00"}},null,{"$f":"E46*0.3","v":0}]
["Curriculum & Learning",null,{"v":0.3,"d":"30%"},null,{"$f":"'Document Analysis, Obs. Discuss'!AP72","v":{"v":0,"d":"0.00"}},null,{"$f":"E47*0.3","v":0}]
["Accountability",null,{"v":0.25,"d":"25%"},null,{"$f":"'Document Analysis, Obs. Discuss'!AP73","v":{"v":0,"d":"0.00"}},null,{"$f":"E48*0.25","v":0}]
["Resource Management",null,{"v":0.15,"d":"15%"},null,{"$f":"'Document Analysis, Obs. Discuss'!AP74","v":{"v":0,"d":"0.00"}},null,{"$f":"E49*0.15","v":0}]
["Sub-total",{"$nulls":5},{"$f":"SUM(G46:G49)","v":{"v":0,"d":"0.00"}}]
["Interpretation:",null,"Good"]
[null,null,"Better"]
[null,null,"Best"]
["Legend:","Numerical Rating Scale",null,null,"Description"]
[null,"0.50-1.49",null,null,"Good"]
[null,"1.50-2.49",null,null,"Better"]
[null,"2.50-3.00",null,null,"Best"]
{"$rows_empty":7}
["Step 3: Compute for Final Rating"]
["Areas",null,"Weight",null,"Computation",null,"Results"]
["A. Performance Improvement",null,{"v":0.6,"d":"60%"},null,{"$f":"H41","v":{"$error":"#VALUE!"}},null,{"$f":"C67*E67","v":{"$error":"#VALUE!"}},{"$nulls":6},"Performance Improvement",{"$f":"E67","v":{"$error":"#VALUE!"}}]
["B. SBM Assessment Score (DOD)",null,{"v":0.4,"d":"40%"},null,{"$f":"G50","v":{"v":0,"d":"0.00"}},null,{"$f":"C68*E68","v":{"v":0,"d":"0.00"}},{"$nulls":6},"SBM Assessment Score",{"$f":"E68","v":{"v":0,"d":"0.00"}}]
["Total",{"$nulls":5},{"$f":"SUM(G67:G68)","v":{"$error":"#VALUE!"}},{"$nulls":6},"SBM Final Rating",{"$f":"G69","v":{"$error":"#VALUE!"}}]
[]
["Interpretation:"]
[null,"Developing ( Level I)"]
[null,"Maturing (Level II)"]
[null,"Advanced (Level III)"]
[]
["Description of SBM Level of Practice:"]
[null,"Numerical Rating Scale",null,null,"Description"]
[null,"0.50-1.49",null,null,"Developing"]
[null,"1.50-2.49",null,null,"Maturing"]
[null,"2.50-3.00",null,null,"Advanced"]
[]
["Results:",{"$f":"IF(G69<1.5,\"Developing level- Structures and mechanisms with acceptable level and extent of community participation and impact on learning outcomes.\",IF(G69<2.5,\"Maturing level - Introducing and sustaining continuous improvement process that integrates wider community participation and improve sinificantly performance and learning outcomes.\",IF(G69<3,\"Advanced level - Ensuring the production of intended outputs/outcomes and meeting all standards of a system fully integrated in the local community and is self-renewing and self-sustaining.\",\"\")))","v":{"$error":"#VALUE!"}}]
{"$rows_empty":17}
["Validators:"]
[null,{"$f":"'Input Menu'!B51","v":0},null,null,{"$f":"'Input Menu'!B52","v":0}]
[null,"Member",null,null,"Member"]
[]
[]
[null,{"$f":"'Input Menu'!B53","v":0},null,null,{"$f":"'Input Menu'!B54","v":0}]
[null,"Member",null,null,"Member"]
[]
[]
[]
[null,{"$f":"'Input Menu'!B50","v":0}]
[null,"Chairman"]

{"sheet":"Sec. acc2, NAT1, CR1, CSR1","index":5,"n_rows":111,"n_cols":15,"rows_kept":111,"hidden":true,"merged":[[0,0,0,7],[1,0,1,7],[2,0,2,7],[4,0,4,7],[5,1,5,2],[5,5,5,7],[7,0,7,7],[8,1,8,2],[10,0,15,0],[10,4,15,4],[10,5,15,5],[10,6,15,6],[10,7,15,7],[16,0,33,0],[16,4,21,4],[16,5,21,5],[16,6,21,6],[16,7,33,7],[22,4,27,4],[22,5,27,5],[22,6,27,6],[28,4,33,4],[28,5,33,5],[28,6,33,6],[34,0,39,0],[34,4,39,4],[34,5,39,5],[34,6,39,6],[34,7,39,7],[40,0,40,4],[42,0,42,7],[43,0,43,7],[44,0,44,1],[44,2,44,3],[44,4,44,5],[44,6,44,7],[45,0,45,1],[45,2,45,3],[45,4,45,5],[45,6,45,7],[46,0,46,1],[46,2,46,3],[46,4,46,5],[46,6,46,7],[47,0,47,1],[47,2,47,3],[47,4,47,5],[47,6,47,7],[48,0,48,1],[48,2,48,3],[48,4,48,5],[48,6,48,7],[49,0,49,5],[49,6,49,7],[53,1,53,3],[53,4,53,5],[54,1,54,3],[54,4,54,5],[55,1,55,3],[55,4,55,5],[56,1,56,3],[56,4,56,5],[64,0,64,7],[65,0,65,1],[65,2,65,3],[65,4,65,5],[65,6,65,7],[66,0,66,1],[66,2,66,3],[66,4,66,5],[66,6,66,7],[67,0,67,1],[67,2,67,3],[67,4,67,5],[67,6,67,7],[68,0,68,5],[68,6,68,7],[75,0,75,7],[76,1,76,3],[76,4,76,5],[77,1,77,3],[77,4,77,5],[78,1,78,3],[78,4,78,5],[79,1,79,3],[79,4,79,5],[81,1,84,7],[100,1,100,2],[100,4,100,5],[101,1,101,2],[101,4,101,5],[104,1,104,2],[104,4,104,5],[105,1,105,2],[105,4,105,5],[109,1,109,5],[110,1,110,5]]}
[{"$f":"'Main Menu'!A1:F1","v":"Department of Education"}]
[{"$f":"'Main Menu'!A2:F2","v":"Region X"}]
[{"$f":"'Main Menu'!A3:F3","v":""}]
[]
["SBM Validation"]
["Name of School:",{"$f":"'Main Menu'!G6","v":0},null,null,"Division:",{"$f":"'Main Menu'!G7","v":0},{"$nulls":4},{"$f":"B6","v":0}]
[]
["Step 1: Determine Performance Improvement (60%)"]
["Thematic Area","Performance Indicators",null,null,"Rating & Equivalent Points","Computation","Computation","Results"]
[]
["Access (45%)","Enrolment Increase","% of Increase","Participation",null,{"$f":"IF(D16>=95,\"3\",IF(D16>=90,\"2\",IF(D16>=85,\"1\",\"0\")))","v":"0"},{"$f":"F11*0.45","v":0},{"$f":"G11","v":0}]
[null,{"$f":"'Main Menu'!B14","v":"SY 2009-2010"},null,{"$f":"'Main Menu'!D14","v":990}]
[null,{"$f":"'Main Menu'!B15","v":""},null,{"$f":"'Main Menu'!F15","v":""},{"$nulls":6},"SY 2009-2010"]
[null,{"$f":"'Main Menu'!B16","v":""},null,{"$f":"'Main Menu'!F16","v":""},{"$nulls":6},"SY 2010-2011"]
[null,{"$f":"'Main Menu'!B17","v":""},null,{"$f":"'Main Menu'!F17","v":""},{"$nulls":6},"SY 2011-2012"]
[null,"Ave. % of Increase",null,{"$f":"'Main Menu'!F18","v":0},{"$nulls":6},"SY 2012-2013"]
["Efficiency (25%)","Dropout Rate (DR):","% of decrease","Dropout",null,{"$f":"IF(C22>=5,\"1\",IF(C22>=2,\"2\",IF(C22<2,\"3\",\"0\")))","v":{"$error":"#VALUE!"}},{"$f":"F17*0.0833","v":{"$error":"#VALUE!"}},{"$f":"SUM(G17:G34)","v":{"$error":"#VALUE!"}},null,null,"SY 2013-2014"]
[null,{"$f":"'Main Menu'!B20","v":"SY 2008-2009"},null,{"$f":"'Main Menu'!D20","v":0.02}]
[null,{"$f":"'Main Menu'!B21","v":""},null,{"$f":"'Main Menu'!D21","v":""},{"$nulls":6},"SY 2014- 2015"]
[null,{"$f":"'Main Menu'!B22","v":""},{"$f":"D20-D19","v":{"$error":"#VALUE!"}},{"$f":"'Main Menu'!D22","v":""},{"$nulls":6},"SY 2015- 2016"]
[null,{"$f":"'Main Menu'!B23","v":""},{"$f":"D21-D20","v":{"$error":"#VALUE!"}},{"$f":"'Main Menu'!D23","v":""},{"$nulls":6},"SY 2016-2017"]
[null,"Ave. % of Decrease",{"$f":"(C20+C21)/2","v":{"$error":"#VALUE!"}}]
[null,"Completion Rate (CR):","% of Increase","Completion",null,{"$f":"grd(C28)","v":{"$error":"#VALUE!"}},{"$f":"F23*0.0833","v":{"$error":"#VALUE!"}},{"$nulls":3},"SY 2017-2018"]
[null,{"$f":"'Main Menu'!B26","v":"SY 2008-2009"},null,{"$f":"'Main Menu'!D26","v":65}]
[null,{"$f":"'Main Menu'!B27","v":""},null,{"$f":"'Main Menu'!D27","v":""},{"$nulls":6},"SY 2018- 2019"]
[null,{"$f":"'Main Menu'!B28","v":""},{"$f":"(D26-D25)/D25*100","v":{"$error":"#VALUE!"}},{"$f":"'Main Menu'!D28","v":""},{"$nulls":6},"SY 2019- 2020"]
[null,{"$f":"'Main Menu'!B29","v":""},{"$f":"(D27-D26)/D26*100","v":{"$error":"#VALUE!"}},{"$f":"'Main Menu'!D29","v":""}]
[null,"Ave. % of Increase",{"$f":"(C26+C27)/2","v":{"$error":"#VALUE!"}}]
[null,"Cohort Survival Rate (CSR):","% of Increase","Cohort Survival",null,{"$f":"grd(C34)","v":0},{"$f":"F29*0.0834","v":{"v":0,"d":"0.00"}}]
[null,{"$f":"'Main Menu'!B32","v":"SY 2008-2009"},null,{"$f":"'Main Menu'!D32","v":58}]
[null,{"$f":"'Main Menu'!B33","v":""},null,{"$f":"'Main Menu'!D33","v":{"v":95,"d":"95.00"}}]
[null,{"$f":"'Main Menu'!B34","v":""},{"$f":"(D32-D31)/D31*100","v":{"v":1.0526315789473684,"d":"1.05"}},{"$f":"'Main Menu'!D34","v":{"v":96,"d":"96.00"}}]
[null,{"$f":"'Main Menu'!B35","v":""},{"$f":"(D33-D32)/D32*100","v":{"v":-12.791666666666668,"d":"-12.79"}},{"$f":"'Main Menu'!D35","v":83.72}]
[null,"Ave. % of Increase",{"$f":"(C32+C33)/2","v":{"v":-5.86951754385965,"d":"-5.87"}}]
["Quality (30%)","NAT MPS","% of Increase","NAT MPS",null,{"$f":"IF(C40>=10,\"3\",IF(C40>=8,\"2\",IF(C40>=7,\"1\",\"0\")))","v":{"$error":"#VALUE!"}},{"$f":"F35*0.3","v":{"$error":"#VALUE!"}},{"$f":"G35","v":{"$error":"#VALUE!"}}]
[null,{"$f":"'Main Menu'!B38","v":"SY 2008-2009"},null,{"$f":"'Main Menu'!D38","v":{"v":56,"d":"56.00"}}]
[null,{"$f":"'Main Menu'!B39","v":""},null,{"$f":"'Main Menu'!D39","v":""}]
[null,{"$f":"'Main Menu'!B40","v":""},{"$f":"(D38-D37)/D37*100","v":{"$error":"#VALUE!"}},{"$f":"'Main Menu'!D40","v":""}]
[null,{"$f":"'Main Menu'!B41","v":""},{"$f":"(D39-D38)/D38*100","v":{"$error":"#VALUE!"}},{"$f":"'Main Menu'!D41","v":""}]
[null,"Ave. % of Increase",{"$f":"AVERAGE(C38:C39)","v":{"$error":"#VALUE!"}}]
["Sub-Total",{"$nulls":6},{"$f":"SUM(H11:H40)","v":{"$error":"#VALUE!"}}]
[]
["Note: Only Schools having a Performance Improvement of \" Better\" can apply to the Division for SBM Validation."]
["Step 2: Compute for validated SBM Assessment Scores (40%)"]
["SBM Principles",null,"Weight",null,"Cummulative Scores of Validators per Principles",null,"Results"]
["Leadership",null,{"v":0.3,"d":"30%"},null,{"$f":"'Document Analysis, Obs. Discuss'!AP71","v":{"v":0,"d":"0.00"}},null,{"$f":"E46*0.3","v":0}]
["Curriculum & Learning",null,{"v":0.3,"d":"30%"},null,{"$f":"'Document Analysis, Obs. Discuss'!AP72","v":{"v":0,"d":"0.00"}},null,{"$f":"E47*0.3","v":0}]
["Accountability",null,{"v":0.25,"d":"25%"},null,{"$f":"'Document Analysis, Obs. Discuss'!AP73","v":{"v":0,"d":"0.00"}},null,{"$f":"E48*0.25","v":0}]
["Resource Management",null,{"v":0.15,"d":"15%"},null,{"$f":"'Document Analysis, Obs. Discuss'!AP74","v":{"v":0,"d":"0.00"}},null,{"$f":"E49*0.15","v":0}]
["Sub-total",{"$nulls":5},{"$f":"SUM(G46:G49)","v":{"v":0,"d":"0.00"}}]
["Interpretation:",null,"Good"]
[null,null,"Better"]
[null,null,"Best"]
["Legend:","Numerical Rating Scale",null,null,"Description"]
[null,"0.50-1.49",null,null,"Good"]
[null,"1.50-2.49",null,null,"Better"]
[null,"2.50-3.00",null,null,"Best"]
{"$rows_empty":7}
["Step 3: Compute for Final Rating"]
["Areas",null,"Weight",null,"Computation",null,"Results"]
["A. Performance Improvement",null,{"v":0.6,"d":"60%"},null,{"$f":"H41","v":{"$error":"#VALUE!"}},null,{"$f":"C67*E67","v":{"$error":"#VALUE!"}},{"$nulls":6},"Performance Improvement",{"$f":"E67","v":{"$error":"#VALUE!"}}]
["B. SBM Assessment Score (DOD)",null,{"v":0.4,"d":"40%"},null,{"$f":"G50","v":{"v":0,"d":"0.00"}},null,{"$f":"C68*E68","v":{"v":0,"d":"0.00"}},{"$nulls":6},"SBM Assessment Score",{"$f":"E68","v":{"v":0,"d":"0.00"}}]
["Total",{"$nulls":5},{"$f":"SUM(G67:G68)","v":{"$error":"#VALUE!"}},{"$nulls":6},"SBM Final Rating",{"$f":"G69","v":{"$error":"#VALUE!"}}]
[]
["Interpretation:"]
[null,"Developing ( Level I)"]
[null,"Maturing (Level II)"]
[null,"Advanced (Level III)"]
[]
["Description of SBM Level of Practice:"]
[null,"Numerical Rating Scale",null,null,"Description"]
[null,"0.50-1.49",null,null,"Developing"]
[null,"1.50-2.49",null,null,"Maturing"]
[null,"2.50-3.00",null,null,"Advanced"]
[]
["Results:",{"$f":"IF(G69<1.5,\"Developing level- Structures and mechanisms with acceptable level and extent of community participation and impact on learning outcomes.\",IF(G69<2.5,\"Maturing level - Introducing and sustaining continuous improvement process that integrates wider community participation and improve sinificantly performance and learning outcomes.\",IF(G69<3,\"Advanced level - Ensuring the production of intended outputs/outcomes and meeting all standards of a system fully integrated in the local community and is self-renewing and self-sustaining.\",\"\")))","v":{"$error":"#VALUE!"}}]
{"$rows_empty":17}
["Validators:"]
[null,{"$f":"'Input Menu'!B51","v":0},null,null,{"$f":"'Input Menu'!B52","v":0}]
[null,"Member",null,null,"Member"]
[]
[]
[null,{"$f":"'Input Menu'!B53","v":0},null,null,{"$f":"'Input Menu'!B54","v":0}]
[null,"Member",null,null,"Member"]
[]
[]
[]
[null,{"$f":"'Input Menu'!B50","v":0}]
[null,"Chairman"]

{"sheet":"Sec. acc opt2 and NAT opt2","index":6,"n_rows":111,"n_cols":15,"rows_kept":111,"hidden":true,"merged":[[0,0,0,7],[1,0,1,7],[2,0,2,7],[3,0,3,7],[4,0,4,7],[5,1,5,2],[5,5,5,7],[7,0,7,7],[8,1,8,2],[10,0,15,0],[10,4,15,4],[10,5,15,5],[10,6,15,6],[10,7,15,7],[16,0,33,0],[16,4,21,4],[16,5,21,5],[16,6,21,6],[16,7,33,7],[22,4,27,4],[22,5,27,5],[22,6,27,6],[28,4,33,4],[28,5,33,5],[28,6,33,6],[34,0,39,0],[34,4,39,4],[34,5,39,5],[34,6,39,6],[34,7,39,7],[40,0,40,4],[42,0,42,7],[43,0,43,7],[44,0,44,1],[44,2,44,3],[44,4,44,5],[44,6,44,7],[45,0,45,1],[45,2,45,3],[45,4,45,5],[45,6,45,7],[46,0,46,1],[46,2,46,3],[46,4,46,5],[46,6,46,7],[47,0,47,1],[47,2,47,3],[47,4,47,5],[47,6,47,7],[48,0,48,1],[48,2,48,3],[48,4,48,5],[48,6,48,7],[49,0,49,5],[49,6,49,7],[53,1,53,3],[53,4,53,5],[54,1,54,3],[54,4,54,5],[55,1,55,3],[55,4,55,5],[56,1,56,3],[56,4,56,5],[64,0,64,7],[65,0,65,1],[65,2,65,3],[65,4,65,5],[65,6,65,7],[66,0,66,1],[66,2,66,3],[66,4,66,5],[66,6,66,7],[67,0,67,1],[67,2,67,3],[67,4,67,5],[67,6,67,7],[68,0,68,5],[68,6,68,7],[75,0,75,7],[76,1,76,3],[76,4,76,5],[77,1,77,3],[77,4,77,5],[78,1,78,3],[78,4,78,5],[79,1,79,3],[79,4,79,5],[81,1,84,7],[100,1,100,2],[100,4,100,5],[101,1,101,2],[101,4,101,5],[104,1,104,2],[104,4,104,5],[105,1,105,2],[105,4,105,5],[109,1,109,5],[110,1,110,5]]}
[{"$f":"'Main Menu'!A1:F1","v":"Department of Education"}]
[{"$f":"'Main Menu'!A2:F2","v":"Region X"}]
[{"$f":"'Main Menu'!A3:F3","v":""}]
[]
["SBM Validation"]
["Name of School:",{"$f":"'Main Menu'!G6","v":0},null,null,"Division:",{"$f":"'Main Menu'!G7","v":0},{"$nulls":4},{"$f":"B6","v":0}]
[]
["Step 1: Determine Performance Improvement (60%)"]
["Thematic Area","Performance Indicators",null,null,"Rating & Equivalent Points","Computation","Computation","Results"]
[]
["Access (45%)","Enrolment Increase","% of Increase","Participation",null,{"$f":"IF(D16>=95,\"3\",IF(D16>=90,\"2\",IF(D16>=85,\"1\",\"0\")))","v":"0"},{"$f":"F11*0.45","v":0},{"$f":"G11","v":0}]
[null,{"$f":"'Main Menu'!B14","v":"SY 2009-2010"},null,{"$f":"'Main Menu'!D14","v":990}]
[null,{"$f":"'Main Menu'!B15","v":""},null,{"$f":"'Main Menu'!F15","v":""},{"$nulls":6},"SY 2009-2010"]
[null,{"$f":"'Main Menu'!B16","v":""},null,{"$f":"'Main Menu'!F16","v":""},{"$nulls":6},"SY 2010-2011"]
[null,{"$f":"'Main Menu'!B17","v":""},null,{"$f":"'Main Menu'!F17","v":""},{"$nulls":6},"SY 2011-2012"]
[null,"Ave. % of Increase",null,{"$f":"'Main Menu'!F18","v":0},{"$nulls":6},"SY 2012-2013"]
["Efficiency (25%)","Dropout Rate (DR):","% of decrease","Dropout",null,{"$f":"IF(C22>=5,\"1\",IF(C22>=2,\"2\",IF(C22<2,\"3\",\"0\")))","v":{"$error":"#VALUE!"}},{"$f":"F17*0.0833","v":{"$error":"#VALUE!"}},{"$f":"SUM(G17:G34)","v":{"$error":"#VALUE!"}},null,null,"SY 2013-2014"]
[null,{"$f":"'Main Menu'!B20","v":"SY 2008-2009"},null,{"$f":"'Main Menu'!D20","v":0.02}]
[null,{"$f":"'Main Menu'!B21","v":""},null,{"$f":"'Main Menu'!D21","v":""},{"$nulls":6},"SY 2014- 2015"]
[null,{"$f":"'Main Menu'!B22","v":""},{"$f":"D20-D19","v":{"$error":"#VALUE!"}},{"$f":"'Main Menu'!D22","v":""},{"$nulls":6},"SY 2015- 2016"]
[null,{"$f":"'Main Menu'!B23","v":""},{"$f":"D21-D20","v":{"$error":"#VALUE!"}},{"$f":"'Main Menu'!D23","v":""},{"$nulls":6},"SY 2016-2017"]
[null,"Ave. % of Decrease",{"$f":"(C20+C21)/2","v":{"$error":"#VALUE!"}}]
[null,"Completion Rate (CR):","% of Increase","Completion",null,{"$f":"grd(C28)","v":{"$error":"#VALUE!"}},{"$f":"F23*0.0833","v":{"$error":"#VALUE!"}},{"$nulls":3},"SY 2017-2018"]
[null,{"$f":"'Main Menu'!B26","v":"SY 2008-2009"},null,{"$f":"'Main Menu'!D26","v":65}]
[null,{"$f":"'Main Menu'!B27","v":""},null,{"$f":"'Main Menu'!D27","v":""},{"$nulls":6},"SY 2018- 2019"]
[null,{"$f":"'Main Menu'!B28","v":""},{"$f":"(D26-D25)/D25*100","v":{"$error":"#VALUE!"}},{"$f":"'Main Menu'!D28","v":""},{"$nulls":6},"SY 2019- 2020"]
[null,{"$f":"'Main Menu'!B29","v":""},{"$f":"(D27-D26)/D26*100","v":{"$error":"#VALUE!"}},{"$f":"'Main Menu'!D29","v":""}]
[null,"Ave. % of Increase",{"$f":"(C26+C27)/2","v":{"$error":"#VALUE!"}}]
[null,"Cohort Survival Rate (CSR):","% of Increase","Cohort Survival",null,{"$f":"grd(C34)","v":0},{"$f":"F29*0.0834","v":{"v":0,"d":"0.00"}}]
[null,{"$f":"'Main Menu'!B32","v":"SY 2008-2009"},null,{"$f":"'Main Menu'!D32","v":58}]
[null,{"$f":"'Main Menu'!B33","v":""},null,{"$f":"'Main Menu'!D33","v":{"v":95,"d":"95.00"}}]
[null,{"$f":"'Main Menu'!B34","v":""},{"$f":"(D32-D31)/D31*100","v":{"v":1.0526315789473684,"d":"1.05"}},{"$f":"'Main Menu'!D34","v":{"v":96,"d":"96.00"}}]
[null,{"$f":"'Main Menu'!B35","v":""},{"$f":"(D33-D32)/D32*100","v":{"v":-12.791666666666668,"d":"-12.79"}},{"$f":"'Main Menu'!D35","v":83.72}]
[null,"Ave. % of Increase",{"$f":"(C32+C33)/2","v":{"v":-5.86951754385965,"d":"-5.87"}}]
["Quality (30%)","NAT MPS","% of Increase","NAT MPS",null,{"$f":"grdee(D40)","v":{"$error":"#VALUE!"}},{"$f":"F35*0.3","v":{"$error":"#VALUE!"}},{"$f":"G35","v":{"$error":"#VALUE!"}}]
[null,{"$f":"'Main Menu'!B38","v":"SY 2008-2009"},null,{"$f":"'Main Menu'!D38","v":{"v":56,"d":"56.00"}}]
[null,{"$f":"'Main Menu'!B39","v":""},null,{"$f":"'Main Menu'!D39","v":""}]
[null,{"$f":"'Main Menu'!B40","v":""},null,{"$f":"'Main Menu'!D40","v":""}]
[null,{"$f":"'Main Menu'!B41","v":""},null,{"$f":"'Main Menu'!D41","v":""}]
[null,"Ave. % of Increase",null,{"$f":"AVERAGE(D37:D39)","v":{"$error":"#DIV/0!"}}]
["Sub-Total",{"$nulls":6},{"$f":"SUM(H11:H40)","v":{"$error":"#VALUE!"}}]
[]
["Note: Only Schools having a Performance Improvement of \" Better\" can apply to the Division for SBM Validation."]
["Step 2: Compute for validated SBM Assessment Scores (40%)"]
["SBM Principles",null,"Weight",null,"Cummulative Scores of Validators per Principles",null,"Results"]
["Leadership",null,{"v":0.3,"d":"30%"},null,{"$f":"'Document Analysis, Obs. Discuss'!AP71","v":{"v":0,"d":"0.00"}},null,{"$f":"E46*0.3","v":0}]
["Curriculum & Learning",null,{"v":0.3,"d":"30%"},null,{"$f":"'Document Analysis, Obs. Discuss'!AP72","v":{"v":0,"d":"0.00"}},null,{"$f":"E47*0.3","v":0}]
["Accountability",null,{"v":0.25,"d":"25%"},null,{"$f":"'Document Analysis, Obs. Discuss'!AP73","v":{"v":0,"d":"0.00"}},null,{"$f":"E48*0.25","v":0}]
["Resource Management",null,{"v":0.15,"d":"15%"},null,{"$f":"'Document Analysis, Obs. Discuss'!AP74","v":{"v":0,"d":"0.00"}},null,{"$f":"E49*0.15","v":0}]
["Sub-total",{"$nulls":5},{"$f":"SUM(G46:G49)","v":{"v":0,"d":"0.00"}}]
["Interpretation:",null,"Good"]
[null,null,"Better"]
[null,null,"Best"]
["Legend:","Numerical Rating Scale",null,null,"Description"]
[null,"0.50-1.49",null,null,"Good"]
[null,"1.50-2.49",null,null,"Better"]
[null,"2.50-3.00",null,null,"Best"]
{"$rows_empty":7}
["Step 3: Compute for Final Rating"]
["Areas",null,"Weight",null,"Computation",null,"Results"]
["A. Performance Improvement",null,{"v":0.6,"d":"60%"},null,{"$f":"H41","v":{"$error":"#VALUE!"}},null,{"$f":"C67*E67","v":{"$error":"#VALUE!"}},{"$nulls":6},"Performance Improvement",{"$f":"E67","v":{"$error":"#VALUE!"}}]
["B. SBM Assessment Score (DOD)",null,{"v":0.4,"d":"40%"},null,{"$f":"G50","v":{"v":0,"d":"0.00"}},null,{"$f":"C68*E68","v":{"v":0,"d":"0.00"}},{"$nulls":6},"SBM Assessment Score",{"$f":"E68","v":{"v":0,"d":"0.00"}}]
["Total",{"$nulls":5},{"$f":"SUM(G67:G68)","v":{"$error":"#VALUE!"}},{"$nulls":6},"SBM Final Rating",{"$f":"G69","v":{"$error":"#VALUE!"}}]
[]
["Interpretation:"]
[null,"Developing ( Level I)"]
[null,"Maturing (Level II)"]
[null,"Advanced (Level III)"]
[]
["Description of SBM Level of Practice:"]
[null,"Numerical Rating Scale",null,null,"Description"]
[null,"0.50-1.49",null,null,"Developing"]
[null,"1.50-2.49",null,null,"Maturing"]
[null,"2.50-3.00",null,null,"Advanced"]
[]
["Results:",{"$f":"IF(G69<1.5,\"Developing level- Structures and mechanisms with acceptable level and extent of community participation and impact on learning outcomes.\",IF(G69<2.5,\"Maturing level - Introducing and sustaining continuous improvement process that integrates wider community participation and improve sinificantly performance and learning outcomes.\",IF(G69<3,\"Advanced level - Ensuring the production of intended outputs/outcomes and meeting all standards of a system fully integrated in the local community and is self-renewing and self-sustaining.\",\"\")))","v":{"$error":"#VALUE!"}}]
{"$rows_empty":17}
["Validators:"]
[null,{"$f":"'Input Menu'!B51","v":0},null,null,{"$f":"'Input Menu'!B52","v":0}]
[null,"Member",null,null,"Member"]
[]
[]
[null,{"$f":"'Input Menu'!B53","v":0},null,null,{"$f":"'Input Menu'!B54","v":0}]
[null,"Member",null,null,"Member"]
[]
[]
[]
[null,{"$f":"'Input Menu'!B50","v":0}]
[null,"Chairman"]

{"sheet":"blank","index":7,"n_rows":114,"n_cols":13,"rows_kept":114,"merged":[[0,0,0,7],[1,0,1,7],[2,0,2,7],[4,0,4,7],[5,0,5,7],[6,1,6,3],[6,5,6,6],[7,1,7,3],[7,5,7,6],[8,0,8,3],[8,5,8,7],[9,1,9,2],[11,0,16,0],[11,4,16,4],[11,5,16,5],[11,6,16,6],[11,7,16,7],[17,0,34,0],[17,4,22,4],[17,5,22,5],[17,6,22,6],[17,7,34,7],[23,4,28,4],[23,5,28,5],[23,6,28,6],[29,4,34,4],[29,5,34,5],[29,6,34,6],[35,0,40,0],[35,4,40,4],[35,5,40,5],[35,6,40,6],[35,7,40,7],[41,0,41,4],[43,0,43,7],[44,0,44,7],[45,0,45,1],[45,2,45,3],[45,4,45,5],[45,6,45,7],[46,0,46,1],[46,2,46,3],[46,4,46,5],[46,6,46,7],[47,0,47,1],[47,2,47,3],[47,4,47,5],[47,6,47,7],[48,0,48,1],[48,2,48,3],[48,4,48,5],[48,6,48,7],[49,0,49,1],[49,2,49,3],[49,4,49,5],[49,6,49,7],[50,2,50,3],[50,6,50,7],[54,1,54,3],[54,4,54,5],[55,1,55,3],[55,4,55,5],[56,1,56,3],[56,4,56,5],[57,1,57,3],[57,4,57,5],[66,0,66,7],[67,0,67,1],[67,2,67,3],[67,4,67,5],[67,6,67,7],[68,0,68,1],[68,2,68,3],[68,4,68,5],[68,6,68,7],[69,0,69,1],[69,2,69,3],[69,4,69,5],[69,6,69,7],[70,2,70,3],[70,6,70,7],[77,0,77,7],[78,1,78,3],[78,4,78,5],[78,6,78,7],[79,1,79,3],[79,4,79,5],[79,6,79,7],[80,1,80,3],[80,4,80,5],[80,6,80,7],[81,1,81,3],[81,4,81,5],[81,6,81,7],[83,1,86,7],[100,1,100,7],[101,1,101,7],[103,1,103,2],[103,4,103,5],[104,1,104,2],[104,4,104,5],[107,1,107,2],[107,4,107,5],[108,1,108,2],[108,4,108,5],[112,1,112,5],[113,1,113,5]]}
[{"$f":"'Main Menu'!A1:F1","v":"Department of Education"}]
["Region X"]
["Division of ___________________"]
[]
["SBM Validation Form"]
[]
["District:",{"$nulls":3},"School Year:",{"$nulls":5},{"$f":"B7","v":0}]
["School:",{"$nulls":3},"School I.D."]
["Step 1: Determine Performance Improvement (60%)",{"$nulls":3},"Level:"]
["Thematic Area","Performance Indicators",null,null,"Rating & Equivalent Points","Score","Computation","Results"]
[]
["Access (45%)","Enrolment / Participation Rate","% of Increase","Enrolment"]
[null,{"$f":"'Main Menu'!B14","v":"SY 2009-2010"},null,{"$f":"'Main Menu'!D14","v":990}]
[{"$nulls":10},"SY 2009-2010"]
[{"$nulls":10},"SY 2010-2011"]
[{"$nulls":10},"SY 2011-2012"]
[null,"Ave. % of Increase",{"$nulls":8},"SY 2012-2013"]
["Efficiency (25%)","Dropout Rate (DR):","% of decrease","Dropout %",{"$nulls":6},"SY 2013-2014"]
[null,{"$f":"'Main Menu'!B20","v":"SY 2008-2009"},null,{"$f":"'Main Menu'!D20","v":0.02}]
[{"$nulls":10},"SY 2014- 2015"]
[{"$nulls":10},"SY 2015- 2016"]
[{"$nulls":10},"SY 2016-2017"]
[null,"Ave. % of decrease"]
[null,"Repetition Rate","% of decrease","Repetition %",{"$nulls":6},"SY 2017-2018"]
[null,{"$f":"'Main Menu'!B26","v":"SY 2008-2009"},null,{"$f":"'Main Menu'!D26","v":65}]
[{"$nulls":10},"SY 2018- 2019"]
[{"$nulls":10},"SY 2019- 2020"]
[]
[null,"Ave. % of decrease"]
[]
[]
[{"$nulls":12},{"$f":"IF(D32>=95,\"3\",\"0\")","v":"0"}]
[{"$nulls":12},{"$f":"IF(D33>=95,\"3\",\"0\")","v":"0"}]
[{"$nulls":12},{"$f":"IF(D34>=95,\"3\",\"0\")","v":"0"}]
[{"$nulls":12},{"$f":"(M32+M33+M34)/3","v":0}]
["Quality (30%)","NAT MPS/ Promotion Rate","% of Increase","NAT MPS"]
[null,{"$f":"'Main Menu'!B38","v":"SY 2008-2009"},null,{"$f":"'Main Menu'!D38","v":{"v":56,"d":"56.00"}}]
[]
[]
[]
[null,"Ave. % of Increase"]
["Sub-Total"]
[]
["Note: Only Schools having a Performance Improvement of \" Better\" can apply to the Division for SBM Validation."]
["Step 2: Compute for validated SBM Assessment Scores (40%)"]
["SBM Principles",null,"Weight",null,"Cummulative Scores of Validators per Principles",null,"Results"]
["Leadership",null,{"v":0.3,"d":"30%"}]
["Curriculum & Learning",null,{"v":0.3,"d":"30%"}]
["Accountability",null,{"v":0.25,"d":"25%"}]
["Resource Management",null,{"v":0.15,"d":"15%"}]
["Sub-total",null,{"v":1,"d":"100%"}]
["Interpretation:",null,"Good"]
[null,null,"Better"]
[null,null,"Best"]
["Legend:","Numerical Rating Scale",null,null,"Description"]
[null,"0.50-1.49",null,null,"Good"]
[null,"1.50-2.49",null,null,"Better"]
[null,"2.50-3.00",null,null,"Best"]
{"$rows_empty":8}
["Step 3: Compute for Final Rating"]
["Areas",null,"Weight",null,"Computation",null,"Results"]
["A. Performance Improvement",null,{"v":0.6,"d":"60%"}]
["B. SBM Assessment Score (DOD)",null,{"v":0.4,"d":"40%"}]
["Total",null,{"v":1,"d":"100%"}]
[]
[]
[]
[]
[]
[]
["Description of SBM Level of Practice:"]
[null,"Numerical Rating Scale",null,null,"Description",null,"Interpretation"]
[null,"0.50-1.49",null,null,"Developing",null,"Level I"]
[null,"1.50-2.49",null,null,"Maturing",null,"Level II"]
[null,"2.50-3.00",null,null,"Advanced",null,"Level III"]
{"$rows_empty":18}
["Results:"]
["Remarks:"]
["Validators:"]
[]
[null,"Member",null,null,"Member"]
[]
[]
[]
[null,"Member",null,null,"Member"]
[]
[]
[]
[]
[null,"Chairman"]

{"sheet":"3Elem. ER, CR1, CSR2, NAT1","index":8,"n_rows":114,"n_cols":15,"rows_kept":114,"merged":[[0,0,0,7],[1,0,1,7],[2,0,2,7],[4,0,4,7],[5,0,5,7],[6,1,6,3],[6,5,6,7],[7,1,7,3],[7,5,7,6],[8,0,8,3],[8,5,8,7],[9,1,9,2],[11,0,16,0],[11,4,16,4],[11,5,16,5],[11,6,16,6],[11,7,16,7],[17,0,34,0],[17,4,22,4],[17,5,22,5],[17,6,22,6],[17,7,34,7],[23,4,28,4],[23,5,28,5],[23,6,28,6],[29,4,34,4],[29,5,34,5],[29,6,34,6],[35,0,40,0],[35,4,40,4],[35,5,40,5],[35,6,40,6],[35,7,40,7],[41,0,41,4],[43,0,43,7],[44,0,44,7],[45,0,45,1],[45,2,45,3],[45,4,45,5],[45,6,45,7],[46,0,46,1],[46,2,46,3],[46,4,46,5],[46,6,46,7],[47,0,47,1],[47,2,47,3],[47,4,47,5],[47,6,47,7],[48,0,48,1],[48,2,48,3],[48,4,48,5],[48,6,48,7],[49,0,49,1],[49,2,49,3],[49,4,49,5],[49,6,49,7],[50,2,50,3],[50,6,50,7],[54,1,54,3],[54,4,54,5],[55,1,55,3],[55,4,55,5],[56,1,56,3],[56,4,56,5],[57,1,57,3],[57,4,57,5],[65,0,65,7],[66,0,66,1],[66,2,66,3],[66,4,66,5],[66,6,66,7],[67,0,67,1],[67,2,67,3],[67,4,67,5],[67,6,67,7],[68,0,68,1],[68,2,68,3],[68,4,68,5],[68,6,68,7],[69,2,69,3],[69,6,69,7],[76,0,76,7],[77,1,77,3],[77,4,77,5],[77,6,77,7],[78,1,78,3],[78,4,78,5],[78,6,78,7],[79,1,79,3],[79,4,79,5],[79,6,79,7],[80,1,80,3],[80,4,80,5],[80,6,80,7],[82,1,85,7],[99,1,99,7],[100,1,100,7],[102,1,102,2],[102,4,102,5],[103,1,103,2],[103,4,103,5],[106,1,106,2],[106,4,106,5],[107,1,107,2],[107,4,107,5],[111,1,111,5],[112,1,112,5]]}
[{"$f":"'Main Menu'!A1:F1","v":"Department of Education"}]
[{"$f":"'Main Menu'!A2:F2","v":"Region X"}]
[{"$f":"'Main Menu'!A3:F3","v":""}]
[]
["SBM Validation Form"]
[{"$f":"NOW()","v":"2018-07-01T09:22:28.720"}]
["Municipality:",{"$f":"'Input Menu'!B8:C8","v":""},null,null,"School Year:",{"$f":"'Main Menu'!B8","v":""},{"$nulls":4},{"$f":"B7","v":""}]
["School:",{"$f":"'Input Menu'!B7:C7","v":""},null,null,"School I.D.",{"$f":"'Input Menu'!K6","v":0}]
["Step 1: Determine Performance Improvement (60%)",{"$nulls":3},"Level:",{"$f":"'Main Menu'!O72","v":0}]
["Thematic Area","Performance Indicators",null,null,"Rating & Equivalent Points","Score","Computation","Results"]
[]
["Access (45%)","Enrolment Increase","% of Increase","Enrolment",null,{"$f":"IF(C17>=10,\"3\",IF(C17>=7,\"2\",IF(C17>5,\"1\",\"0\")))","v":{"$error":"#VALUE!"}},{"$f":"F12*0.45","v":{"$error":"#VALUE!"}},{"$f":"G12","v":{"$error":"#VALUE!"}}]
[null,{"$f":"'Main Menu'!B14","v":"SY 2009-2010"},null,{"$f":"'Main Menu'!D14","v":990}]
[null,{"$f":"'Main Menu'!B15","v":""},null,{"$f":"'Main Menu'!D15","v":""},{"$nulls":6},"SY 2009-2010"]
[null,{"$f":"'Main Menu'!B16","v":""},{"$f":"((D15-D14)/D14)*100","v":{"$error":"#VALUE!"}},{"$f":"'Main Menu'!D16","v":""},{"$nulls":6},"SY 2010-2011"]
[null,{"$f":"'Main Menu'!B17","v":""},{"$f":"((D16-D15)/D15)*100","v":{"$error":"#VALUE!"}},{"$f":"'Main Menu'!D17","v":""},{"$nulls":6},"SY 2011-2012"]
[null,"Ave. % of Increase",{"$f":"AVERAGE(C15:C16)","v":{"$error":"#VALUE!"}},{"$nulls":7},"SY 2012-2013"]
["Efficiency (25%)","Dropout Rate (DR):","% of decrease","Dropout %",null,{"$f":"IF(C23<2,\"3\",IF(C23<5,\"2\",IF(C23<=5,\"1\",\"0\")))","v":{"$error":"#VALUE!"}},{"$f":"F18*0.125","v":{"$error":"#VALUE!"}},{"$f":"SUM(G18:G35)","v":{"$error":"#VALUE!"}},null,null,"SY 2013-2014"]
[null,{"$f":"'Main Menu'!B20","v":"SY 2008-2009"},null,{"$f":"'Main Menu'!D20","v":0.02}]
[null,{"$f":"'Main Menu'!B21","v":""},null,{"$f":"'Main Menu'!D21","v":""},{"$nulls":6},"SY 2014- 2015"]
[null,{"$f":"'Main Menu'!B22","v":""},{"$f":"(D21-D20)","v":{"$error":"#VALUE!"}},{"$f":"'Main Menu'!D22","v":""},{"$nulls":6},"SY 2015- 2016"]
[null,{"$f":"'Main Menu'!B23","v":""},{"$f":"(D22-D21)","v":{"$error":"#VALUE!"}},{"$f":"'Main Menu'!D23","v":""},{"$nulls":6},"SY 2016-2017"]
[null,"Ave. % of decrease",{"$f":"AVERAGE(C21:C22)","v":{"$error":"#VALUE!"}}]
[null,"Repetition Rate","% of decrease","Repetition %",null,{"$f":"IF(C29<2,\"3\",IF(C29<5,\"2\",IF(C29<=5,\"1\",\"0\")))","v":{"$error":"#VALUE!"}},{"$f":"F24*0.125","v":{"$error":"#VALUE!"}},{"$nulls":3},"SY 2017-2018"]
[null,{"$f":"'Main Menu'!B26","v":"SY 2008-2009"},null,{"$f":"'Main Menu'!D26","v":65}]
[null,{"$f":"'Main Menu'!B27","v":""},null,{"$f":"'Main Menu'!D27","v":""},{"$nulls":6},"SY 2018- 2019"]
[null,{"$f":"'Main Menu'!B28","v":""},{"$f":"(D27-D26)","v":{"$error":"#VALUE!"}},{"$f":"'Main Menu'!D28","v":""},{"$nulls":6},"SY 2019- 2020"]
[null,{"$f":"'Main Menu'!B29","v":""},{"$f":"(D28-D27)","v":{"$error":"#VALUE!"}},{"$f":"'Main Menu'!D29","v":""}]
[null,"Ave. % of decrease",{"$f":"AVERAGE(C27:C28)","v":{"$error":"#VALUE!"}}]
[]
[]
[{"$nulls":12},{"$f":"IF(D32>=95,\"3\",\"0\")","v":"0"}]
[{"$nulls":12},{"$f":"IF(D33>=95,\"3\",\"0\")","v":"0"}]
[{"$nulls":12},{"$f":"IF(D34>=95,\"3\",\"0\")","v":"0"}]
[{"$nulls":12},{"$f":"(M32+M33+M34)/3","v":0}]
["Quality (30%)","NAT MPS","% of Increase","NAT MPS",null,{"$f":"IF(C41>=10,\"3\",IF(C41>=8,\"2\",IF(C41>=7,\"1\",\"0\")))","v":{"$error":"#VALUE!"}},{"$f":"F36*0.3","v":{"$error":"#VALUE!"}},{"$f":"G36","v":{"$error":"#VALUE!"}}]
[null,{"$f":"'Main Menu'!B38","v":"SY 2008-2009"},null,{"$f":"'Main Menu'!D38","v":{"v":56,"d":"56.00"}}]
[null,{"$f":"'Main Menu'!B39","v":""},null,{"$f":"'Main Menu'!D39","v":""}]
[null,{"$f":"'Main Menu'!B40","v":""},{"$f":"((D39-D38))","v":{"$error":"#VALUE!"}},{"$f":"'Main Menu'!D40","v":""}]
[null,{"$f":"'Main Menu'!B41","v":""},{"$f":"((D40-D39))","v":{"$error":"#VALUE!"}},{"$f":"'Main Menu'!D41","v":""}]
[null,"Ave. % of Increase",{"$f":"AVERAGE(C39:C40)","v":{"$error":"#VALUE!"}}]
["Sub-Total",{"$nulls":6},{"$f":"SUM(H12:H41)","v":{"$error":"#VALUE!"}}]
[]
["Note: Only Schools having a Performance Improvement of \" Better\" can apply to the Division for SBM Validation."]
["Step 2: Compute for validated SBM Assessment Scores (40%)"]
["SBM Principles",null,"Weight",null,"Cummulative Scores of Validators per Principles",null,"Results"]
["Leadership",null,{"v":0.3,"d":"30%"},null,{"$f":"'Document Analysis, Obs. Discuss'!AP71","v":{"v":0,"d":"0.00"}},null,{"$f":"E47*0.3","v":0}]
["Curriculum & Learning",null,{"v":0.3,"d":"30%"},null,{"$f":"'Document Analysis, Obs. Discuss'!AP72","v":{"v":0,"d":"0.00"}},null,{"$f":"E48*0.3","v":0}]
["Accountability",null,{"v":0.25,"d":"25%"},null,{"$f":"'Document Analysis, Obs. Discuss'!AP73","v":{"v":0,"d":"0.00"}},null,{"$f":"E49*0.25","v":0}]
["Resource Management",null,{"v":0.15,"d":"15%"},null,{"$f":"'Document Analysis, Obs. Discuss'!AP74","v":{"v":0,"d":"0.00"}},null,{"$f":"E50*0.15","v":0}]
["Sub-total",null,{"v":1,"d":"100%"},{"$nulls":3},{"$f":"SUM(G47:G50)","v":{"v":0,"d":"0.00"}}]
["Interpretation:",null,"Good"]
[null,null,"Better"]
[null,null,"Best"]
["Legend:","Numerical Rating Scale",null,null,"Description"]
[null,"0.50-1.49",null,null,"Good"]
[null,"1.50-2.49",null,null,"Better"]
[null,"2.50-3.00",null,null,"Best"]
{"$rows_empty":7}
["Step 3: Compute for Final Rating"]
["Areas",null,"Weight",null,"Computation",null,"Results"]
["A. Performance Improvement",null,{"v":0.6,"d":"60%"},null,{"$f":"H42","v":{"$error":"#VALUE!"}},null,{"$f":"C68*E68","v":{"$error":"#VALUE!"}},{"$nulls":6},"Performance Improvement",{"$f":"E68","v":{"$error":"#VALUE!"}}]
["B. SBM Assessment Score (DOD)",null,{"v":0.4,"d":"40%"},null,{"$f":"G51","v":{"v":0,"d":"0.00"}},null,{"$f":"C69*E69","v":{"v":0,"d":"0.00"}},{"$nulls":6},"SBM Assessment Score",{"$f":"E69","v":{"v":0,"d":"0.00"}}]
["Total",null,{"v":1,"d":"100%"},{"$nulls":3},{"$f":"SUM(G68:G69)","v":{"$error":"#VALUE!"}},{"$nulls":6},"SBM Final Rating",{"$f":"G70","v":{"$error":"#VALUE!"}}]
[]
[]
[]
[]
[]
[]
["Description of SBM Level of Practice:"]
[null,"Numerical Rating Scale",null,null,"Description",null,"Interpretation"]
[null,"0.50-1.49",null,null,"Developing",null,"Level I"]
[null,"1.50-2.49",null,null,"Maturing",null,"Level II"]
[null,"2.50-3.00",null,null,"Advanced",null,"Level III"]
{"$rows_empty":18}
["Results:",{"$f":"IF(G70<1.5,\"Developing level- Structures and mechanisms with acceptable level and extent of community participation and impact on learning outcomes.\",IF(G70<2.5,\"Maturing level - Introducing and sustaining continuous improvement process that integrates wider community participation and improve sinificantly performance and learning outcomes.\",IF(G70<3,\"Advanced level - Ensuring the production of intended outputs/outcomes and meeting all standards of a system fully integrated in the local community and is self-renewing and self-sustaining.\",\"\")))","v":{"$error":"#VALUE!"}}]
["Remarks:",{"$f":"'Main Menu'!B56:H56","v":0}]
["Validators:"]
[null,{"$f":"'Input Menu'!B51","v":0},null,null,{"$f":"'Input Menu'!B52","v":0}]
[null,"Member",null,null,"Member"]
[]
[]
[null,{"$f":"'Input Menu'!B53","v":0},null,null,{"$f":"'Input Menu'!B54","v":0}]
[null,"Member",null,null,"Member"]
[]
[]
[]
[null,{"$f":"'Input Menu'!B50","v":0}]
[null,"Chairman"]
[{"$f":"'Main Menu'!A50","v":"Option1: ER, DR, RR, NAT1"}]

{"sheet":"2Elem. ER, CR1, CSR1, NAT2","index":9,"n_rows":114,"n_cols":15,"rows_kept":114,"merged":[[0,0,0,7],[1,0,1,7],[2,0,2,7],[4,0,4,7],[5,0,5,7],[6,1,6,3],[6,5,6,7],[7,1,7,3],[7,5,7,6],[8,0,8,3],[8,5,8,7],[9,1,9,2],[11,0,16,0],[11,4,16,4],[11,5,16,5],[11,6,16,6],[11,7,16,7],[17,0,34,0],[17,4,22,4],[17,5,22,5],[17,6,22,6],[17,7,34,7],[23,4,28,4],[23,5,28,5],[23,6,28,6],[29,4,34,4],[29,5,34,5],[29,6,34,6],[35,0,40,0],[35,4,40,4],[35,5,40,5],[35,6,40,6],[35,7,40,7],[41,0,41,4],[43,0,43,7],[44,0,44,7],[45,0,45,1],[45,2,45,3],[45,4,45,5],[45,6,45,7],[46,0,46,1],[46,2,46,3],[46,4,46,5],[46,6,46,7],[47,0,47,1],[47,2,47,3],[47,4,47,5],[47,6,47,7],[48,0,48,1],[48,2,48,3],[48,4,48,5],[48,6,48,7],[49,0,49,1],[49,2,49,3],[49,4,49,5],[49,6,49,7],[50,2,50,3],[50,6,50,7],[54,1,54,3],[54,4,54,5],[55,1,55,3],[55,4,55,5],[56,1,56,3],[56,4,56,5],[57,1,57,3],[57,4,57,5],[65,0,65,7],[66,0,66,1],[66,2,66,3],[66,4,66,5],[66,6,66,7],[67,0,67,1],[67,2,67,3],[67,4,67,5],[67,6,67,7],[68,0,68,1],[68,2,68,3],[68,4,68,5],[68,6,68,7],[69,2,69,3],[69,6,69,7],[76,0,76,7],[77,1,77,3],[77,4,77,5],[77,6,77,7],[78,1,78,3],[78,4,78,5],[78,6,78,7],[79,1,79,3],[79,4,79,5],[79,6,79,7],[80,1,80,3],[80,4,80,5],[80,6,80,7],[82,1,85,7],[99,1,99,7],[100,1,100,7],[102,1,102,2],[102,4,102,5],[103,1,103,2],[103,4,103,5],[106,1,106,2],[106,4,106,5],[107,1,107,2],[107,4,107,5],[111,1,111,5],[112,1,112,5]]}
[{"$f":"'Main Menu'!A1:F1","v":"Department of Education"}]
[{"$f":"'Main Menu'!A2:F2","v":"Region X"}]
[{"$f":"'Main Menu'!A3:F3","v":""}]
[]
["SBM Validation Form"]
[{"$f":"NOW()","v":"2018-07-01T09:22:28.720"}]
["Municipality:",{"$f":"'Input Menu'!B8:C8","v":""},null,null,"School Year:",{"$f":"'Main Menu'!B8","v":""},{"$nulls":4},{"$f":"B7","v":""}]
["School:",{"$f":"'Input Menu'!B7:C7","v":""},null,null,"School I.D.",{"$f":"'Input Menu'!K6","v":0}]
["Step 1: Determine Performance Improvement (60%)",{"$nulls":3},"Level:",{"$f":"'Main Menu'!O72","v":0}]
["Thematic Area","Performance Indicators",null,null,"Rating & Equivalent Points","Score","Computation","Results"]
[]
["Access (45%)","Enrolment Increase","% of Increase","Enrolment",null,{"$f":"IF(C17>=10,\"3\",IF(C17>=7,\"2\",IF(C17>5,\"1\",\"0\")))","v":{"$error":"#VALUE!"}},{"$f":"F12*0.45","v":{"$error":"#VALUE!"}},{"$f":"G12","v":{"$error":"#VALUE!"}}]
[null,{"$f":"'Main Menu'!B14","v":"SY 2009-2010"},null,{"$f":"'Main Menu'!D14","v":990}]
[null,{"$f":"'Main Menu'!B15","v":""},null,{"$f":"'Main Menu'!D15","v":""},{"$nulls":6},"SY 2009-2010"]
[null,{"$f":"'Main Menu'!B16","v":""},{"$f":"((D15-D14)/D14)*100","v":{"$error":"#VALUE!"}},{"$f":"'Main Menu'!D16","v":""},{"$nulls":6},"SY 2010-2011"]
[null,{"$f":"'Main Menu'!B17","v":""},{"$f":"((D16-D15)/D15)*100","v":{"$error":"#VALUE!"}},{"$f":"'Main Menu'!D17","v":""},{"$nulls":6},"SY 2011-2012"]
[null,"Ave. % of Increase",{"$f":"AVERAGE(C15:C16)","v":{"$error":"#VALUE!"}},{"$nulls":7},"SY 2012-2013"]
["Efficiency (25%)","Dropout Rate (DR):","% of decrease","Dropout %",null,{"$f":"IF(C23<2,\"3\",IF(C23<5,\"2\",IF(C23<=5,\"1\",\"0\")))","v":{"$error":"#VALUE!"}},{"$f":"F18*0.125","v":{"$error":"#VALUE!"}},{"$f":"SUM(G18:G35)","v":{"$error":"#VALUE!"}},null,null,"SY 2013-2014"]
[null,{"$f":"'Main Menu'!B20","v":"SY 2008-2009"},null,{"$f":"'Main Menu'!D20","v":0.02}]
[null,{"$f":"'Main Menu'!B21","v":""},null,{"$f":"'Main Menu'!D21","v":""},{"$nulls":6},"SY 2014- 2015"]
[null,{"$f":"'Main Menu'!B22","v":""},{"$f":"(D21-D20)","v":{"$error":"#VALUE!"}},{"$f":"'Main Menu'!D22","v":""},{"$nulls":6},"SY 2015- 2016"]
[null,{"$f":"'Main Menu'!B23","v":""},{"$f":"(D22-D21)","v":{"$error":"#VALUE!"}},{"$f":"'Main Menu'!D23","v":""},{"$nulls":6},"SY 2016-2017"]
[null,"Ave. % of decrease",{"$f":"AVERAGE(C21:C22)","v":{"$error":"#VALUE!"}}]
[null,"Repetition Rate","% of decrease","Repetition %",null,{"$f":"IF(C29<2,\"3\",IF(C29<5,\"2\",IF(C29<=5,\"1\",\"0\")))","v":{"$error":"#VALUE!"}},{"$f":"F24*0.125","v":{"$error":"#VALUE!"}},{"$nulls":3},"SY 2017-2018"]
[null,{"$f":"'Main Menu'!B26","v":"SY 2008-2009"},null,{"$f":"'Main Menu'!D26","v":65}]
[null,{"$f":"'Main Menu'!B27","v":""},null,{"$f":"'Main Menu'!D27","v":""},{"$nulls":6},"SY 2018- 2019"]
[null,{"$f":"'Main Menu'!B28","v":""},{"$f":"(D27-D26)","v":{"$error":"#VALUE!"}},{"$f":"'Main Menu'!D28","v":""},{"$nulls":6},"SY 2019- 2020"]
[null,{"$f":"'Main Menu'!B29","v":""},{"$f":"(D28-D27)","v":{"$error":"#VALUE!"}},{"$f":"'Main Menu'!D29","v":""}]
[null,"Ave. % of decrease",{"$f":"AVERAGE(C27:C28)","v":{"$error":"#VALUE!"}}]
[]
[]
[]
[]
[]
[]
["Quality (30%)","NAT MPS","% of Increase","NAT MPS",null,{"$f":"N41","v":{"v":3,"d":"3.00"}},{"$f":"F36*0.3","v":0.8999999999999999},{"$f":"G36","v":0.8999999999999999}]
[null,{"$f":"'Main Menu'!B38","v":"SY 2008-2009"},null,{"$f":"'Main Menu'!D38","v":{"v":56,"d":"56.00"}}]
[null,{"$f":"'Main Menu'!B39","v":""},null,{"$f":"'Main Menu'!D39","v":""},{"$nulls":9},{"$f":"IF(D38>=75,\"3\",\"0\")","v":"3"}]
[null,{"$f":"'Main Menu'!B40","v":""},null,{"$f":"'Main Menu'!D40","v":""},{"$nulls":9},{"$f":"IF(D39>=75,\"3\",\"0\")","v":"3"}]
[null,{"$f":"'Main Menu'!B41","v":""},null,{"$f":"'Main Menu'!D41","v":""},{"$nulls":9},{"$f":"IF(D40>=75,\"3\",\"0\")","v":"3"}]
[null,"Ave. % of Increase",{"$nulls":11},{"$f":"(N38+N39+N40)/3","v":{"v":3,"d":"3.00"}}]
["Sub-Total",{"$nulls":6},{"$f":"SUM(H12:H41)","v":{"$error":"#VALUE!"}}]
[]
["Note: Only Schools having a Performance Improvement of \" Better\" can apply to the Division for SBM Validation."]
["Step 2: Compute for validated SBM Assessment Scores (40%)"]
["SBM Principles",null,"Weight",null,"Cummulative Scores of Validators per Principles",null,"Results"]
["Leadership",null,{"v":0.3,"d":"30%"},null,{"$f":"'Document Analysis, Obs. Discuss'!AP71","v":{"v":0,"d":"0.00"}},null,{"$f":"E47*0.3","v":0}]
["Curriculum & Learning",null,{"v":0.3,"d":"30%"},null,{"$f":"'Document Analysis, Obs. Discuss'!AP72","v":{"v":0,"d":"0.00"}},null,{"$f":"E48*0.3","v":0}]
["Accountability",null,{"v":0.25,"d":"25%"},null,{"$f":"'Document Analysis, Obs. Discuss'!AP73","v":{"v":0,"d":"0.00"}},null,{"$f":"E49*0.25","v":0}]
["Resource Management",null,{"v":0.15,"d":"15%"},null,{"$f":"'Document Analysis, Obs. Discuss'!AP74","v":{"v":0,"d":"0.00"}},null,{"$f":"E50*0.15","v":0}]
["Sub-total",null,{"v":1,"d":"100%"},{"$nulls":3},{"$f":"SUM(G47:G50)","v":{"v":0,"d":"0.00"}}]
["Interpretation:",null,"Good"]
[null,null,"Better"]
[null,null,"Best"]
["Legend:","Numerical Rating Scale",null,null,"Description"]
[null,"0.50-1.49",null,null,"Good"]
[null,"1.50-2.49",null,null,"Better"]
[null,"2.50-3.00",null,null,"Best"]
{"$rows_empty":7}
["Step 3: Compute for Final Rating"]
["Areas",null,"Weight",null,"Computation",null,"Results"]
["A. Performance Improvement",null,{"v":0.6,"d":"60%"},null,{"$f":"H42","v":{"$error":"#VALUE!"}},null,{"$f":"C68*E68","v":{"$error":"#VALUE!"}},{"$nulls":6},"Performance Improvement",{"$f":"E68","v":{"$error":"#VALUE!"}}]
["B. SBM Assessment Score (DOD)",null,{"v":0.4,"d":"40%"},null,{"$f":"G51","v":{"v":0,"d":"0.00"}},null,{"$f":"C69*E69","v":{"v":0,"d":"0.00"}},{"$nulls":6},"SBM Assessment Score",{"$f":"E69","v":{"v":0,"d":"0.00"}}]
["Total",null,{"v":1,"d":"100%"},{"$nulls":3},{"$f":"SUM(G68:G69)","v":{"$error":"#VALUE!"}},{"$nulls":6},"SBM Final Rating",{"$f":"G70","v":{"$error":"#VALUE!"}}]
[]
[]
[]
[]
[]
[]
["Description of SBM Level of Practice:"]
[null,"Numerical Rating Scale",null,null,"Description",null,"Interpretation"]
[null,"0.50-1.49",null,null,"Developing",null,"Level I"]
[null,"1.50-2.49",null,null,"Maturing",null,"Level II"]
[null,"2.50-3.00",null,null,"Advanced",null,"Level III"]
{"$rows_empty":18}
["Results:",{"$f":"IF(G70<1.5,\"Developing level- Structures and mechanisms with acceptable level and extent of community participation and impact on learning outcomes.\",IF(G70<2.5,\"Maturing level - Introducing and sustaining continuous improvement process that integrates wider community participation and improve sinificantly performance and learning outcomes.\",IF(G70<3,\"Advanced level - Ensuring the production of intended outputs/outcomes and meeting all standards of a system fully integrated in the local community and is self-renewing and self-sustaining.\",\"\")))","v":{"$error":"#VALUE!"}}]
["Remarks:",{"$f":"'Main Menu'!B56:H56","v":{"v":0,"d":"0.00"}}]
["Validators:"]
[null,{"$f":"'Input Menu'!B51","v":0},null,null,{"$f":"'Input Menu'!B52","v":0}]
[null,"Member",null,null,"Member"]
[]
[]
[null,{"$f":"'Input Menu'!B53","v":0},null,null,{"$f":"'Input Menu'!B54","v":0}]
[null,"Member",null,null,"Member"]
[]
[]
[]
[null,{"$f":"'Input Menu'!B50","v":0}]
[null,"Chairman"]
[{"$f":"'Main Menu'!A51","v":"Option2: ER, DR, RR, NAT2"}]

{"sheet":"1Elem. ER, CR1, CSR1, NAT1","index":10,"n_rows":115,"n_cols":15,"rows_kept":115,"merged":[[0,0,0,7],[1,0,1,7],[2,0,2,7],[4,0,4,7],[5,0,5,7],[6,1,6,3],[6,5,6,7],[7,1,7,3],[7,5,7,6],[8,0,8,3],[8,5,8,7],[9,1,9,2],[11,0,16,0],[11,4,16,4],[11,5,16,5],[11,6,16,6],[11,7,16,7],[17,0,34,0],[17,4,22,4],[17,5,22,5],[17,6,22,6],[17,7,34,7],[23,4,28,4],[23,5,28,5],[23,6,28,6],[29,4,34,4],[29,5,34,5],[29,6,34,6],[35,0,40,0],[35,4,40,4],[35,5,40,5],[35,6,40,6],[35,7,40,7],[41,0,41,4],[43,0,43,7],[44,0,44,7],[45,0,45,1],[45,2,45,3],[45,4,45,5],[45,6,45,7],[46,0,46,1],[46,2,46,3],[46,4,46,5],[46,6,46,7],[47,0,47,1],[47,2,47,3],[47,4,47,5],[47,6,47,7],[48,0,48,1],[48,2,48,3],[48,4,48,5],[48,6,48,7],[49,0,49,1],[49,2,49,3],[49,4,49,5],[49,6,49,7],[50,2,50,3],[50,6,50,7],[54,1,54,3],[54,4,54,5],[55,1,55,3],[55,4,55,5],[56,1,56,3],[56,4,56,5],[57,1,57,3],[57,4,57,5],[66,0,66,7],[67,0,67,1],[67,2,67,3],[67,4,67,5],[67,6,67,7],[68,0,68,1],[68,2,68,3],[68,4,68,5],[68,6,68,7],[69,0,69,1],[69,2,69,3],[69,4,69,5],[69,6,69,7],[70,2,70,3],[70,6,70,7],[77,0,77,7],[78,1,78,3],[78,4,78,5],[78,6,78,7],[79,1,79,3],[79,4,79,5],[79,6,79,7],[80,1,80,3],[80,4,80,5],[80,6,80,7],[81,1,81,3],[81,4,81,5],[81,6,81,7],[83,1,86,7],[98,1,98,7],[99,1,99,7],[102,1,102,2],[102,4,102,5],[103,1,103,2],[103,4,103,5],[106,1,106,2],[106,4,106,5],[107,1,107,2],[107,4,107,5],[111,1,111,5],[112,1,112,5]]}
[{"$f":"'Main Menu'!A1:F1","v":"Department of Education"}]
[{"$f":"'Main Menu'!A2:F2","v":"Region X"}]
[{"$f":"'Main Menu'!A3:F3","v":""}]
[]
["SBM Validation Form"]
[{"$f":"NOW()","v":"2018-07-01T09:22:28.720"}]
["Municipality:",{"$f":"'Input Menu'!B8:C8","v":""},null,null,"School Year:",{"$f":"'Main Menu'!B8","v":""},{"$nulls":4},{"$f":"B7","v":""}]
["School:",{"$f":"'Input Menu'!B7:C7","v":""},null,null,"School I.D.",{"$f":"'Input Menu'!K6","v":0}]
["Step 1: Determine Performance Improvement (60%)",{"$nulls":3},"Level:",{"$f":"'Main Menu'!O72","v":0}]
["Thematic Area","Performance Indicators",null,null,"Rating & Equivalent Points","Score","Computation","Results"]
[]
["Access (45%)","Enrolment Increase","% of Increase","Enrolment (Raw Data)",null,{"$f":"IF(C17>=10,\"3\",IF(C17>=7,\"2\",IF(C17>5,\"1\",\"0\")))","v":{"$error":"#VALUE!"}},{"$f":"F12*0.45","v":{"$error":"#VALUE!"}},{"$f":"G12","v":{"$error":"#VALUE!"}}]
[null,{"$f":"'Main Menu'!B14","v":"SY 2009-2010"},null,{"$f":"'Main Menu'!D14","v":990}]
[null,{"$f":"'Main Menu'!B15","v":""},null,{"$f":"'Main Menu'!D15","v":""},{"$nulls":6},"SY 2009-2010"]
[null,{"$f":"'Main Menu'!B16","v":""},{"$f":"((D15-D14)/D14)*100","v":{"$error":"#VALUE!"}},{"$f":"'Main Menu'!D16","v":""},{"$nulls":6},"SY 2010-2011"]
[null,{"$f":"'Main Menu'!B17","v":""},{"$f":"((D16-D15)/D15)*100","v":{"$error":"#VALUE!"}},{"$f":"'Main Menu'!D17","v":""},{"$nulls":6},"SY 2011-2012"]
[null,"Ave. % of Increase",{"$f":"AVERAGE(C15:C16)","v":{"$error":"#VALUE!"}},{"$nulls":7},"SY 2012-2013"]
["Efficiency (25%)","Dropout Rate (DR):","% of decrease","Dropout %",null,{"$f":"IF(C23<2,\"3\",IF(C23<5,\"2\",IF(C23<=5,\"1\",\"0\")))","v":{"$error":"#VALUE!"}},{"$f":"F18*0.125","v":{"$error":"#VALUE!"}},{"$f":"SUM(G18:G29)","v":{"$error":"#VALUE!"}},null,null,"SY 2013-2014"]
[null,{"$f":"'Main Menu'!B20","v":"SY 2008-2009"},null,{"$f":"'Main Menu'!D20","v":0.02}]
[null,{"$f":"'Main Menu'!B21","v":""},null,{"$f":"'Main Menu'!D21","v":""},{"$nulls":6},"SY 2014- 2015"]
[null,{"$f":"'Main Menu'!B22","v":""},{"$f":"D21-D20","v":{"$error":"#VALUE!"}},{"$f":"'Main Menu'!D22","v":""},{"$nulls":6},"SY 2015- 2016"]
[null,{"$f":"'Main Menu'!B23","v":""},{"$f":"D22-D21","v":{"$error":"#VALUE!"}},{"$f":"'Main Menu'!D23","v":""},{"$nulls":6},"SY 2016-2017"]
[null,"Ave. % of Decrease",{"$f":"AVERAGE(C21:C22)","v":{"$error":"#VALUE!"}}]
[null,"Repetition Rate","% of decrease","Repetition %",null,{"$f":"IF(C29<2,\"3\",IF(C29<5,\"2\",IF(C29<=5,\"1\",\"0\")))","v":{"$error":"#VALUE!"}},{"$f":"F24*0.125","v":{"$error":"#VALUE!"}},{"$nulls":3},"SY 2017-2018"]
[null,{"$f":"'Main Menu'!B26","v":"SY 2008-2009"},null,{"$f":"'Main Menu'!D26","v":65}]
[null,{"$f":"'Main Menu'!B27","v":""},null,{"$f":"'Main Menu'!D27","v":""},{"$nulls":6},"SY 2018- 2019"]
[null,{"$f":"'Main Menu'!B28","v":""},{"$f":"(D27-D26)","v":{"$error":"#VALUE!"}},{"$f":"'Main Menu'!D28","v":""},{"$nulls":6},"SY 2019- 2020"]
[null,{"$f":"'Main Menu'!B29","v":""},{"$f":"(D28-D27)","v":{"$error":"#VALUE!"}},{"$f":"'Main Menu'!D29","v":""}]
[null,"Ave. % of decrease",{"$f":"AVERAGE(C27:C28)","v":{"$error":"#VALUE!"}}]
[null,"Cohort Survival Rate (CSR):","% of Increase","Cohort Survival"]
[null,{"$f":"'Main Menu'!B32","v":"SY 2008-2009"},null,{"$f":"'Main Menu'!D32","v":58}]
[]
[]
[]
[]
["Quality (30%)","Promotion Rate","% of Increase","Promotion %",null,{"$f":"N41","v":{"v":3,"d":"3.00"}},{"$f":"F36*0.3","v":0.8999999999999999},{"$f":"G36","v":0.8999999999999999}]
[null,{"$f":"'Main Menu'!B38","v":"SY 2008-2009"},null,{"$f":"'Main Menu'!D38","v":{"v":56,"d":"56.00"}}]
[null,{"$f":"'Main Menu'!B39","v":""},null,{"$f":"'Main Menu'!F39","v":""},{"$nulls":9},{"$f":"IF(D38>=95,\"3\",IF(D38>=90,\"2\",IF(D38>=85,\"1\",\"0\")))","v":"3"}]
[null,{"$f":"'Main Menu'!B40","v":""},null,{"$f":"'Main Menu'!F40","v":""},{"$nulls":9},{"$f":"IF(D39>=95,\"3\",IF(D39>=90,\"2\",IF(D39>=85,\"1\",\"0\")))","v":"3"}]
[null,{"$f":"'Main Menu'!B41","v":""},null,{"$f":"'Main Menu'!F41","v":""},{"$nulls":9},{"$f":"IF(D40>=95,\"3\",IF(D40>=90,\"2\",IF(D40>=85,\"1\",\"0\")))","v":"3"}]
[null,"Ave. % of Increase",{"$nulls":11},{"$f":"(N38+N39+N40)/3","v":{"v":3,"d":"3.00"}}]
["Sub-Total",{"$nulls":6},{"$f":"SUM(H12:H41)","v":{"$error":"#VALUE!"}}]
[]
["Note: Only Schools having a Performance Improvement of \" Better\" can apply to the Division for SBM Validation."]
["Step 2: Compute for validated SBM Assessment Scores (40%)"]
["SBM Principles",null,"Weight",null,"Cummulative Scores of Validators per Principles",null,"Results"]
["Leadership",null,{"v":0.3,"d":"30%"},null,{"$f":"'Document Analysis, Obs. Discuss'!AP71","v":{"v":0,"d":"0.00"}},null,{"$f":"E47*0.3","v":0}]
["Curriculum & Learning",null,{"v":0.3,"d":"30%"},null,{"$f":"'Document Analysis, Obs. Discuss'!AP72","v":{"v":0,"d":"0.00"}},null,{"$f":"E48*0.3","v":0}]
["Accountability",null,{"v":0.25,"d":"25%"},null,{"$f":"'Document Analysis, Obs. Discuss'!AP73","v":{"v":0,"d":"0.00"}},null,{"$f":"E49*0.25","v":0}]
["Resource Management",null,{"v":0.15,"d":"15%"},null,{"$f":"'Document Analysis, Obs. Discuss'!AP74","v":{"v":0,"d":"0.00"}},null,{"$f":"E50*0.15","v":0}]
["Sub-total",null,{"v":1,"d":"100%"},{"$nulls":3},{"$f":"SUM(G47:G50)","v":{"v":0,"d":"0.00"}}]
["Interpretation:",null,"Good"]
[null,null,"Better"]
[null,null,"Best"]
["Legend:","Numerical Rating Scale",null,null,"Description"]
[null,"0.50-1.49",null,null,"Good"]
[null,"1.50-2.49",null,null,"Better"]
[null,"2.50-3.00",null,null,"Best"]
{"$rows_empty":8}
["Step 3: Compute for Final Rating"]
["Areas",null,"Weight",null,"Computation",null,"Results"]
["A. Performance Improvement",null,{"v":0.6,"d":"60%"},null,{"$f":"H42","v":{"$error":"#VALUE!"}},null,{"$f":"C69*E69","v":{"$error":"#VALUE!"}},{"$nulls":6},"Performance Improvement",{"$f":"E69","v":{"$error":"#VALUE!"}}]
["B. SBM Assessment Score (DOD)",null,{"v":0.4,"d":"40%"},null,{"$f":"G51","v":{"v":0,"d":"0.00"}},null,{"$f":"C70*E70","v":{"v":0,"d":"0.00"}},{"$nulls":6},"SBM Assessment Score",{"$f":"E70","v":{"v":0,"d":"0.00"}}]
["Total",null,{"v":1,"d":"100%"},{"$nulls":3},{"$f":"SUM(G69:G70)","v":{"$error":"#VALUE!"}},{"$nulls":6},"SBM Final Rating",{"$f":"G71","v":{"$error":"#VALUE!"}}]
[]
[]
[]
[]
[]
[]
["Description of SBM Level of Practice:"]
[null,"Numerical Rating Scale",null,null,"Description",null,"Interpretation"]
[null,"0.50-1.49",null,null,"Developing",null,"Level I"]
[null,"1.50-2.49",null,null,"Maturing",null,"Level II"]
[null,"2.50-3.00",null,null,"Advanced",null,"Level III"]
{"$rows_empty":16}
["Results:",{"$f":"IF(G71<1.5,\"Developing level- Structures and mechanisms with acceptable level and extent of community participation and impact on learning outcomes.\",IF(G71<2.5,\"Maturing level - Introducing and sustaining continuous improvement process that integrates wider community participation and improve sinificantly performance and learning outcomes.\",IF(G71<3,\"Advanced level - Ensuring the production of intended outputs/outcomes and meeting all standards of a system fully integrated in the local community and is self-renewing and self-sustaining.\",\"\")))","v":{"$error":"#VALUE!"}}]
["Remarks:",{"$f":"'Main Menu'!B56:H56","v":{"v":0,"d":"0.00"}}]
[]
["Validators:"]
[null,{"$f":"'Input Menu'!B51","v":0},null,null,{"$f":"'Input Menu'!B52","v":0}]
[null,"Member",null,null,"Member"]
[]
[]
[null,{"$f":"'Input Menu'!B53","v":0},null,null,{"$f":"'Input Menu'!B54","v":0}]
[null,"Member",null,null,"Member"]
[]
[]
[]
[null,{"$f":"'Input Menu'!B50","v":0}]
[null,"Chairman"]
[]
[{"$f":"'Main Menu'!A52","v":"Option3: ER, DR, RR, PrR"}]

{"sheet":"9Elem. PR, CR1, CSR1, NAT1","index":11,"n_rows":113,"n_cols":15,"rows_kept":113,"merged":[[0,0,0,7],[1,0,1,7],[2,0,2,7],[4,0,4,7],[5,0,5,7],[6,1,6,3],[6,5,6,7],[7,1,7,3],[7,5,7,6],[8,0,8,3],[8,5,8,7],[9,1,9,2],[11,0,16,0],[11,4,16,4],[11,5,16,5],[11,6,16,6],[11,7,16,7],[16,1,16,3],[17,0,34,0],[17,4,22,4],[17,5,22,5],[17,6,22,6],[17,7,34,7],[23,4,28,4],[23,5,28,5],[23,6,28,6],[29,4,34,4],[29,5,34,5],[29,6,34,6],[35,0,40,0],[35,4,40,4],[35,5,40,5],[35,6,40,6],[35,7,40,7],[41,0,41,4],[43,0,43,7],[44,0,44,7],[45,0,45,1],[45,2,45,3],[45,4,45,5],[45,6,45,7],[46,0,46,1],[46,2,46,3],[46,4,46,5],[46,6,46,7],[47,0,47,1],[47,2,47,3],[47,4,47,5],[47,6,47,7],[48,0,48,1],[48,2,48,3],[48,4,48,5],[48,6,48,7],[49,0,49,1],[49,2,49,3],[49,4,49,5],[49,6,49,7],[50,2,50,3],[50,6,50,7],[54,1,54,3],[54,4,54,5],[55,1,55,3],[55,4,55,5],[56,1,56,3],[56,4,56,5],[57,1,57,3],[57,4,57,5],[65,0,65,7],[66,0,66,1],[66,2,66,3],[66,4,66,5],[66,6,66,7],[67,0,67,1],[67,2,67,3],[67,4,67,5],[67,6,67,7],[68,0,68,1],[68,2,68,3],[68,4,68,5],[68,6,68,7],[69,2,69,3],[69,6,69,7],[76,0,76,7],[77,1,77,3],[77,4,77,5],[77,6,77,7],[78,1,78,3],[78,4,78,5],[78,6,78,7],[79,1,79,3],[79,4,79,5],[79,6,79,7],[80,1,80,3],[80,4,80,5],[80,6,80,7],[82,1,85,7],[97,1,97,7],[98,1,98,7],[101,1,101,2],[101,4,101,5],[102,1,102,2],[102,4,102,5],[105,1,105,2],[105,4,105,5],[106,1,106,2],[106,4,106,5],[110,1,110,5],[111,1,111,5]]}
[{"$f":"'Main Menu'!A1:F1","v":"Department of Education"}]
[{"$f":"'Main Menu'!A2:F2","v":"Region X"}]
[{"$f":"'Main Menu'!A3:F3","v":""}]
[]
["SBM Validation Form"]
[{"$f":"NOW()","v":"2018-07-01T09:22:28.720"}]
["Municipality:",{"$f":"'Input Menu'!B8:C8","v":""},null,null,"School Year:",{"$f":"'Main Menu'!B8","v":""},{"$nulls":4},{"$f":"B7","v":""}]
["School:",{"$f":"'Input Menu'!B7:C7","v":""},null,null,"School I.D.",{"$f":"'Input Menu'!K6","v":0}]
["Step 1: Determine Performance Improvement (60%)",{"$nulls":3},"Level:",{"$f":"'Main Menu'!O72","v":0}]
["Thematic Area","Performance Indicators",null,null,"Rating & Equivalent Points","Score","Computation","Results"]
[]
["Access (45%)","Enrolment Increase","% of Increase","Community Mapping",null,{"$f":"N17","v":{"v":3,"d":"3.00"}},{"$f":"F12*0.45","v":1.35},{"$f":"G12","v":1.35}]
[null,{"$f":"'Main Menu'!B14","v":"SY 2009-2010"},null,{"$f":"'Main Menu'!D14","v":990}]
[null,{"$f":"'Main Menu'!B15","v":""},null,{"$f":"'Main Menu'!F15","v":""},{"$nulls":6},"SY 2009-2010",null,null,{"$f":"IF(D14>=95,\"3\",IF(D14>=90,\"2\",IF(D14>=85,\"1\",\"0\")))","v":"3"}]
[null,{"$f":"'Main Menu'!B16","v":""},null,{"$f":"'Main Menu'!F16","v":""},{"$nulls":6},"SY 2010-2011",null,null,{"$f":"IF(D15>=95,\"3\",IF(D15>=90,\"2\",IF(D15>=85,\"1\",\"0\")))","v":"3"}]
[null,{"$f":"'Main Menu'!B17","v":""},null,{"$f":"'Main Menu'!F17","v":""},{"$nulls":6},"SY 2011-2012",null,null,{"$f":"IF(D16>=95,\"3\",IF(D16>=90,\"2\",IF(D16>=85,\"1\",\"0\")))","v":"3"}]
[{"$nulls":10},"SY 2012-2013",null,null,{"$f":"(N14+N16+N15)/3","v":{"v":3,"d":"3.00"}}]
["Efficiency (25%)","Dropout Rate (DR):","% of decrease","Dropout %",null,{"$f":"IF(C23<2,\"3\",IF(C23<5,\"2\",IF(C23<=5,\"1\",\"0\")))","v":{"$error":"#VALUE!"}},{"$f":"F18*0.125","v":{"$error":"#VALUE!"}},{"$f":"SUM(G18:G35)","v":{"$error":"#VALUE!"}},null,null,"SY 2013-2014"]
[null,{"$f":"'Main Menu'!B20","v":"SY 2008-2009"},null,{"$f":"'Main Menu'!D20","v":0.02}]
[null,{"$f":"'Main Menu'!B21","v":""},null,{"$f":"'Main Menu'!D21","v":""},{"$nulls":6},"SY 2014- 2015"]
[null,{"$f":"'Main Menu'!B22","v":""},{"$f":"D21-D20","v":{"$error":"#VALUE!"}},{"$f":"'Main Menu'!D22","v":""},{"$nulls":6},"SY 2015- 2016"]
[null,{"$f":"'Main Menu'!B23","v":""},{"$f":"D22-D21","v":{"$error":"#VALUE!"}},{"$f":"'Main Menu'!D23","v":""},{"$nulls":6},"SY 2016-2017"]
[null,"Ave. % of Decrease",{"$f":"AVERAGE(C21:C22)","v":{"$error":"#VALUE!"}}]
[null,"Repetition Rate","% of decrease","Repetition %",null,{"$f":"IF(C29<2,\"3\",IF(C29<5,\"2\",IF(C29<=5,\"1\",\"0\")))","v":{"$error":"#VALUE!"}},{"$f":"F24*0.125","v":{"$error":"#VALUE!"}},{"$nulls":3},"SY 2017-2018"]
[null,{"$f":"'Main Menu'!B26","v":"SY 2008-2009"},null,{"$f":"'Main Menu'!D26","v":65}]
[null,{"$f":"'Main Menu'!B27","v":""},null,{"$f":"'Main Menu'!D27","v":""},{"$nulls":6},"SY 2018- 2019"]
[null,{"$f":"'Main Menu'!B28","v":""},{"$f":"(D27-D26)","v":{"$error":"#VALUE!"}},{"$f":"'Main Menu'!D28","v":""},{"$nulls":6},"SY 2019- 2020"]
[null,{"$f":"'Main Menu'!B29","v":""},{"$f":"(D28-D27)","v":{"$error":"#VALUE!"}},{"$f":"'Main Menu'!D29","v":""}]
[null,"Ave. % of decrease",{"$f":"AVERAGE(C27:C28)","v":{"$error":"#VALUE!"}}]
[]
[]
[]
[]
[]
[]
["Quality (30%)","NAT MPS","% of Increase","NAT MPS",null,{"$f":"IF(C41>=10,\"3\",IF(C41>=8,\"2\",IF(C41>=7,\"1\",\"0\")))","v":{"$error":"#VALUE!"}},{"$f":"F36*0.3","v":{"$error":"#VALUE!"}},{"$f":"G36","v":{"$error":"#VALUE!"}}]
[null,{"$f":"'Main Menu'!B38","v":"SY 2008-2009"},null,{"$f":"'Main Menu'!D38","v":{"v":56,"d":"56.00"}}]
[null,{"$f":"'Main Menu'!B39","v":""},null,{"$f":"'Main Menu'!D39","v":""}]
[null,{"$f":"'Main Menu'!B40","v":""},{"$f":"(D39-D38)","v":{"$error":"#VALUE!"}},{"$f":"'Main Menu'!D40","v":""}]
[null,{"$f":"'Main Menu'!B41","v":""},{"$f":"(D40-D39)","v":{"$error":"#VALUE!"}},{"$f":"'Main Menu'!D41","v":""}]
[null,"Ave. % of Increase",{"$f":"AVERAGE(C39:C40)","v":{"$error":"#VALUE!"}}]
["Sub-Total",{"$nulls":6},{"$f":"SUM(H12:H41)","v":{"$error":"#VALUE!"}}]
[]
["Note: Only Schools having a Performance Improvement of \" Better\" can apply to the Division for SBM Validation."]
["Step 2: Compute for validated SBM Assessment Scores (40%)"]
["SBM Principles",null,"Weight",null,"Cummulative Scores of Validators per Principles",null,"Results"]
["Leadership",null,{"v":0.3,"d":"30%"},null,{"$f":"'Document Analysis, Obs. Discuss'!AP71","v":{"v":0,"d":"0.00"}},null,{"$f":"E47*0.3","v":0}]
["Curriculum & Learning",null,{"v":0.3,"d":"30%"},null,{"$f":"'Document Analysis, Obs. Discuss'!AP72","v":{"v":0,"d":"0.00"}},null,{"$f":"E48*0.3","v":0}]
["Accountability",null,{"v":0.25,"d":"25%"},null,{"$f":"'Document Analysis, Obs. Discuss'!AP73","v":{"v":0,"d":"0.00"}},null,{"$f":"E49*0.25","v":0}]
["Resource Management",null,{"v":0.15,"d":"15%"},null,{"$f":"'Document Analysis, Obs. Discuss'!AP74","v":{"v":0,"d":"0.00"}},null,{"$f":"E50*0.15","v":0}]
["Sub-total",null,{"v":1,"d":"100%"},{"$nulls":3},{"$f":"SUM(G47:G50)","v":{"v":0,"d":"0.00"}}]
["Interpretation:",null,"Good"]
[null,null,"Better"]
[null,null,"Best"]
["Legend:","Numerical Rating Scale",null,null,"Description"]
[null,"0.50-1.49",null,null,"Good"]
[null,"1.50-2.49",null,null,"Better"]
[null,"2.50-3.00",null,null,"Best"]
{"$rows_empty":7}
["Step 3: Compute for Final Rating"]
["Areas",null,"Weight",null,"Computation",null,"Results"]
["A. Performance Improvement",null,{"v":0.6,"d":"60%"},null,{"$f":"H42","v":{"$error":"#VALUE!"}},null,{"$f":"C68*E68","v":{"$error":"#VALUE!"}},{"$nulls":6},"Performance Improvement",{"$f":"E68","v":{"$error":"#VALUE!"}}]
["B. SBM Assessment Score (DOD)",null,{"v":0.4,"d":"40%"},null,{"$f":"G51","v":{"v":0,"d":"0.00"}},null,{"$f":"C69*E69","v":{"v":0,"d":"0.00"}},{"$nulls":6},"SBM Assessment Score",{"$f":"E69","v":{"v":0,"d":"0.00"}}]
["Total",null,{"v":1,"d":"100%"},{"$nulls":3},{"$f":"SUM(G68:G69)","v":{"$error":"#VALUE!"}},{"$nulls":6},"SBM Final Rating",{"$f":"G70","v":{"$error":"#VALUE!"}}]
[]
[]
[]
[]
[]
[]
["Description of SBM Level of Practice:"]
[null,"Numerical Rating Scale",null,null,"Description",null,"Interpretation"]
[null,"0.50-1.49",null,null,"Developing",null,"Level I"]
[null,"1.50-2.49",null,null,"Maturing",null,"Level II"]
[null,"2.50-3.00",null,null,"Advanced",null,"Level III"]
{"$rows_empty":16}
["Results:",{"$f":"IF(G70<1.5,\"Developing level- Structures and mechanisms with acceptable level and extent of community participation and impact on learning outcomes.\",IF(G70<2.5,\"Maturing level - Introducing and sustaining continuous improvement process that integrates wider community participation and improve sinificantly performance and learning outcomes.\",IF(G70<3,\"Advanced level - Ensuring the production of intended outputs/outcomes and meeting all standards of a system fully integrated in the local community and is self-renewing and self-sustaining.\",\"\")))","v":{"$error":"#VALUE!"}}]
["Remarks:",{"$f":"'Main Menu'!B56:H56","v":{"v":0,"d":"0.00"}}]
[]
["Validators:"]
[null,{"$f":"'Input Menu'!B51","v":0},null,null,{"$f":"'Input Menu'!B52","v":0}]
[null,"Member",null,null,"Member"]
[]
[]
[null,{"$f":"'Input Menu'!B53","v":0},null,null,{"$f":"'Input Menu'!B54","v":0}]
[null,"Member",null,null,"Member"]
[]
[]
[]
[null,{"$f":"'Input Menu'!B50","v":0}]
[null,"Chairman"]
[{"$f":"'Main Menu'!A53","v":"Option4: CM, DR, RR, NAT1"}]

{"sheet":"10Elem. PR, CR1, CSR1, NAT2","index":12,"n_rows":113,"n_cols":16,"rows_kept":113,"merged":[[0,0,0,7],[1,0,1,7],[2,0,2,7],[4,0,4,7],[5,0,5,7],[6,1,6,3],[6,5,6,7],[7,1,7,3],[7,5,7,6],[8,0,8,3],[8,5,8,7],[9,1,9,2],[11,0,16,0],[11,4,16,4],[11,5,16,5],[11,6,16,6],[11,7,16,7],[16,1,16,3],[17,0,34,0],[17,4,22,4],[17,5,22,5],[17,6,22,6],[17,7,34,7],[23,4,28,4],[23,5,28,5],[23,6,28,6],[29,4,34,4],[29,5,34,5],[29,6,34,6],[35,0,40,0],[35,4,40,4],[35,5,40,5],[35,6,40,6],[35,7,40,7],[41,0,41,4],[43,0,43,7],[44,0,44,7],[45,0,45,1],[45,2,45,3],[45,4,45,5],[45,6,45,7],[46,0,46,1],[46,2,46,3],[46,4,46,5],[46,6,46,7],[47,0,47,1],[47,2,47,3],[47,4,47,5],[47,6,47,7],[48,0,48,1],[48,2,48,3],[48,4,48,5],[48,6,48,7],[49,0,49,1],[49,2,49,3],[49,4,49,5],[49,6,49,7],[50,2,50,3],[50,6,50,7],[54,1,54,3],[54,4,54,5],[55,1,55,3],[55,4,55,5],[56,1,56,3],[56,4,56,5],[57,1,57,3],[57,4,57,5],[65,0,65,7],[66,0,66,1],[66,2,66,3],[66,4,66,5],[66,6,66,7],[67,0,67,1],[67,2,67,3],[67,4,67,5],[67,6,67,7],[68,0,68,1],[68,2,68,3],[68,4,68,5],[68,6,68,7],[69,2,69,3],[69,6,69,7],[76,0,76,7],[77,1,77,3],[77,4,77,5],[77,6,77,7],[78,1,78,3],[78,4,78,5],[78,6,78,7],[79,1,79,3],[79,4,79,5],[79,6,79,7],[80,1,80,3],[80,4,80,5],[80,6,80,7],[82,1,85,7],[98,1,98,7],[99,1,99,7],[101,1,101,2],[101,4,101,5],[102,1,102,2],[102,4,102,5],[105,1,105,2],[105,4,105,5],[106,1,106,2],[106,4,106,5],[110,1,110,5],[111,1,111,5]]}
[{"$f":"'Main Menu'!A1:F1","v":"Department of Education"}]
[{"$f":"'Main Menu'!A2:F2","v":"Region X"}]
[{"$f":"'Main Menu'!A3:F3","v":""}]
[]
["SBM Validation Form"]
[{"$f":"NOW()","v":"2018-07-01T09:22:28.720"}]
["Municipality:",{"$f":"'Input Menu'!B8:C8","v":""},null,null,"School Year:",{"$f":"'Main Menu'!B8","v":""},{"$nulls":4},{"$f":"B7","v":""}]
["School:",{"$f":"'Input Menu'!B7:C7","v":""},null,null,"School I.D.",{"$f":"'Input Menu'!K6","v":0}]
["Step 1: Determine Performance Improvement (60%)",{"$nulls":3},"Level:",{"$f":"'Main Menu'!O72","v":0}]
["Thematic Area","Performance Indicators",null,null,"Rating & Equivalent Points","Score","Computation","Results"]
[]
["Access (45%)","Enrolment Increase","% of Increase","Community Mapping",null,{"$f":"N17","v":{"v":3,"d":"3.00"}},{"$f":"F12*0.45","v":1.35},{"$f":"G12","v":1.35}]
[null,{"$f":"'Main Menu'!B14","v":"SY 2009-2010"},null,{"$f":"'Main Menu'!D14","v":990}]
[null,{"$f":"'Main Menu'!B15","v":""},null,{"$f":"'Main Menu'!F15","v":""},{"$nulls":6},"SY 2009-2010",null,null,{"$f":"IF(D14>=95,\"3\",IF(D14>=90,\"2\",IF(D14>85,\"1\",\"0\")))","v":"3"}]
[null,{"$f":"'Main Menu'!B16","v":""},null,{"$f":"'Main Menu'!F16","v":""},{"$nulls":6},"SY 2010-2011",null,null,{"$f":"IF(D15>=95,\"3\",IF(D15>=90,\"2\",IF(D15>85,\"1\",\"0\")))","v":"3"}]
[null,{"$f":"'Main Menu'!B17","v":""},null,{"$f":"'Main Menu'!F17","v":""},{"$nulls":6},"SY 2011-2012",null,null,{"$f":"IF(D16>=95,\"3\",IF(D16>=90,\"2\",IF(D16>85,\"1\",\"0\")))","v":"3"}]
[{"$nulls":10},"SY 2012-2013",null,null,{"$f":"(N14+N15+N16)/3","v":3}]
["Efficiency (25%)","Dropout Rate (DR):","% of decrease","Dropout",null,{"$f":"IF(C23<2,\"3\",IF(C23<5,\"2\",IF(C23<=5,\"1\",\"0\")))","v":{"$error":"#VALUE!"}},{"$f":"F18*0.125","v":{"$error":"#VALUE!"}},{"$f":"SUM(G18:G35)","v":{"$error":"#VALUE!"}},null,null,"SY 2013-2014"]
[null,{"$f":"'Main Menu'!B20","v":"SY 2008-2009"},null,{"$f":"'Main Menu'!D20","v":0.02}]
[null,{"$f":"'Main Menu'!B21","v":""},null,{"$f":"'Main Menu'!D21","v":""},{"$nulls":6},"SY 2014- 2015"]
[null,{"$f":"'Main Menu'!B22","v":""},{"$f":"D21-D20","v":{"$error":"#VALUE!"}},{"$f":"'Main Menu'!D22","v":""},{"$nulls":6},"SY 2015- 2016"]
[null,{"$f":"'Main Menu'!B23","v":""},{"$f":"D22-D21","v":{"$error":"#VALUE!"}},{"$f":"'Main Menu'!D23","v":""},{"$nulls":6},"SY 2016-2017"]
[null,"Ave. % of Decrease",{"$f":"AVERAGE(C21:C22)","v":{"$error":"#VALUE!"}}]
[null,"Repetition Rate","% of decrease","Repetition %",null,{"$f":"IF(C29<2,\"3\",IF(C29<5,\"2\",IF(C29<=5,\"1\",\"0\")))","v":{"$error":"#VALUE!"}},{"$f":"F24*0.125","v":{"$error":"#VALUE!"}},{"$nulls":3},"SY 2017-2018"]
[null,{"$f":"'Main Menu'!B26","v":"SY 2008-2009"},null,{"$f":"'Main Menu'!D26","v":65}]
[null,{"$f":"'Main Menu'!B27","v":""},null,{"$f":"'Main Menu'!D27","v":""},{"$nulls":6},"SY 2018- 2019"]
[null,{"$f":"'Main Menu'!B28","v":""},{"$f":"(D27-D26)","v":{"$error":"#VALUE!"}},{"$f":"'Main Menu'!D28","v":""},{"$nulls":6},"SY 2019- 2020"]
[null,{"$f":"'Main Menu'!B29","v":""},{"$f":"(D28-D27)","v":{"$error":"#VALUE!"}},{"$f":"'Main Menu'!D29","v":""}]
[null,"Ave. % of decrease",{"$f":"AVERAGE(C27:C28)","v":{"$error":"#VALUE!"}}]
[]
[]
[]
[]
[]
[]
["Quality (30%)","NAT MPS","% of Increase","NAT MPS",null,{"$f":"P41","v":{"v":3,"d":"3.00"}},{"$f":"F36*0.3","v":0.8999999999999999},{"$f":"G36","v":0.8999999999999999}]
[null,{"$f":"'Main Menu'!B38","v":"SY 2008-2009"},null,{"$f":"'Main Menu'!D38","v":{"v":56,"d":"56.00"}}]
[null,{"$f":"'Main Menu'!B39","v":""},null,{"$f":"'Main Menu'!D39","v":""},{"$nulls":11},{"$f":"IF(D38>75,\"3\",\"0\")","v":"3"}]
[null,{"$f":"'Main Menu'!B40","v":""},null,{"$f":"'Main Menu'!D40","v":""},{"$nulls":11},{"$f":"IF(D39>75,\"3\",\"0\")","v":"3"}]
[null,{"$f":"'Main Menu'!B41","v":""},null,{"$f":"'Main Menu'!D41","v":""},{"$nulls":11},{"$f":"IF(D40>75,\"3\",\"0\")","v":"3"}]
[null,"Ave. % of Increase",{"$nulls":13},{"$f":"(P38+P39+P40)/3","v":{"v":3,"d":"3.00"}}]
["Sub-Total",{"$nulls":6},{"$f":"SUM(H12:H41)","v":{"$error":"#VALUE!"}}]
[]
["Note: Only Schools having a Performance Improvement of \" Better\" can apply to the Division for SBM Validation."]
["Step 2: Compute for validated SBM Assessment Scores (40%)"]
["SBM Principles",null,"Weight",null,"Cummulative Scores of Validators per Principles",null,"Results"]
["Leadership",null,{"v":0.3,"d":"30%"},null,{"$f":"'Document Analysis, Obs. Discuss'!AP71","v":{"v":0,"d":"0.00"}},null,{"$f":"E47*0.3","v":0}]
["Curriculum & Learning",null,{"v":0.3,"d":"30%"},null,{"$f":"'Document Analysis, Obs. Discuss'!AP72","v":{"v":0,"d":"0.00"}},null,{"$f":"E48*0.3","v":0}]
["Accountability",null,{"v":0.25,"d":"25%"},null,{"$f":"'Document Analysis, Obs. Discuss'!AP73","v":{"v":0,"d":"0.00"}},null,{"$f":"E49*0.25","v":0}]
["Resource Management",null,{"v":0.15,"d":"15%"},null,{"$f":"'Document Analysis, Obs. Discuss'!AP74","v":{"v":0,"d":"0.00"}},null,{"$f":"E50*0.15","v":0}]
["Sub-total",null,{"v":1,"d":"100%"},{"$nulls":3},{"$f":"SUM(G47:G50)","v":{"v":0,"d":"0.00"}}]
["Interpretation:",null,"Good"]
[null,null,"Better"]
[null,null,"Best"]
["Legend:","Numerical Rating Scale",null,null,"Description"]
[null,"0.50-1.49",null,null,"Good"]
[null,"1.50-2.49",null,null,"Better"]
[null,"2.50-3.00",null,null,"Best"]
{"$rows_empty":7}
["Step 3: Compute for Final Rating"]
["Areas",null,"Weight",null,"Computation",null,"Results"]
["A. Performance Improvement",null,{"v":0.6,"d":"60%"},null,{"$f":"H42","v":{"$error":"#VALUE!"}},null,{"$f":"C68*E68","v":{"$error":"#VALUE!"}},{"$nulls":6},"Performance Improvement",{"$f":"E68","v":{"$error":"#VALUE!"}}]
["B. SBM Assessment Score (DOD)",null,{"v":0.4,"d":"40%"},null,{"$f":"G51","v":{"v":0,"d":"0.00"}},null,{"$f":"C69*E69","v":{"v":0,"d":"0.00"}},{"$nulls":6},"SBM Assessment Score",{"$f":"E69","v":{"v":0,"d":"0.00"}}]
["Total",null,{"v":1,"d":"100%"},{"$nulls":3},{"$f":"SUM(G68:G69)","v":{"$error":"#VALUE!"}},{"$nulls":6},"SBM Final Rating",{"$f":"G70","v":{"$error":"#VALUE!"}}]
[]
[]
[]
[]
[]
[]
["Description of SBM Level of Practice:"]
[null,"Numerical Rating Scale",null,null,"Description",null,"Interpretation"]
[null,"0.50-1.49",null,null,"Developing",null,"Level I"]
[null,"1.50-2.49",null,null,"Maturing",null,"Level II"]
[null,"2.50-3.00",null,null,"Advanced",null,"Level III"]
{"$rows_empty":17}
["Results:",{"$f":"IF(G70<1.5,\"Developing level- Structures and mechanisms with acceptable level and extent of community participation and impact on learning outcomes.\",IF(G70<2.5,\"Maturing level - Introducing and sustaining continuous improvement process that integrates wider community participation and improve sinificantly performance and learning outcomes.\",IF(G70<3,\"Advanced level - Ensuring the production of intended outputs/outcomes and meeting all standards of a system fully integrated in the local community and is self-renewing and self-sustaining.\",\"\")))","v":{"$error":"#VALUE!"}}]
["Remarks:",{"$f":"'Main Menu'!B56:H56","v":{"v":0,"d":"0.00"}}]
["Validators:"]
[null,{"$f":"'Input Menu'!B51","v":0},null,null,{"$f":"'Input Menu'!B52","v":0}]
[null,"Member",null,null,"Member"]
[]
[]
[null,{"$f":"'Input Menu'!B53","v":0},null,null,{"$f":"'Input Menu'!B54","v":0}]
[null,"Member",null,null,"Member"]
[]
[]
[]
[null,{"$f":"'Input Menu'!B50","v":0}]
[null,"Chairman"]
[{"$f":"'Main Menu'!A54","v":"Option5: CM, DR, RR, NAT2"}]

{"sheet":"4Elem. ER, CR1, CSR2, NAT2","index":13,"n_rows":112,"n_cols":17,"rows_kept":112,"hidden":true,"merged":[[0,0,0,7],[1,0,1,7],[2,0,2,7],[4,0,4,7],[5,1,5,3],[5,5,5,7],[7,0,7,7],[8,1,8,2],[10,0,15,0],[10,4,15,4],[10,5,15,5],[10,6,15,6],[10,7,15,7],[16,0,33,0],[16,4,21,4],[16,5,21,5],[16,6,21,6],[16,7,33,7],[22,4,27,4],[22,5,27,5],[22,6,27,6],[28,4,33,4],[28,5,33,5],[28,6,33,6],[34,0,39,0],[34,4,39,4],[34,5,39,5],[34,6,39,6],[34,7,39,7],[40,0,40,4],[42,0,42,7],[43,0,43,7],[44,0,44,1],[44,2,44,3],[44,4,44,5],[44,6,44,7],[45,0,45,1],[45,2,45,3],[45,4,45,5],[45,6,45,7],[46,0,46,1],[46,2,46,3],[46,4,46,5],[46,6,46,7],[47,0,47,1],[47,2,47,3],[47,4,47,5],[47,6,47,7],[48,0,48,1],[48,2,48,3],[48,4,48,5],[48,6,48,7],[49,0,49,5],[49,6,49,7],[53,1,53,3],[53,4,53,5],[54,1,54,3],[54,4,54,5],[55,1,55,3],[55,4,55,5],[56,1,56,3],[56,4,56,5],[64,0,64,7],[65,0,65,1],[65,2,65,3],[65,4,65,5],[65,6,65,7],[66,0,66,1],[66,2,66,3],[66,4,66,5],[66,6,66,7],[67,0,67,1],[67,2,67,3],[67,4,67,5],[67,6,67,7],[68,0,68,5],[68,6,68,7],[75,0,75,7],[76,1,76,3],[76,4,76,5],[77,1,77,3],[77,4,77,5],[78,1,78,3],[78,4,78,5],[79,1,79,3],[79,4,79,5],[81,1,84,7],[100,1,100,2],[100,4,100,5],[101,1,101,2],[101,4,101,5],[104,1,104,2],[104,4,104,5],[105,1,105,2],[105,4,105,5],[109,1,109,5],[110,1,110,5]]}
[{"$f":"'Main Menu'!A1:F1","v":"Department of Education"}]
[{"$f":"'Main Menu'!A2:F2","v":"Region X"}]
[{"$f":"'Main Menu'!A3:F3","v":""}]
[]
["SBM Validation"]
["Name of School:",{"$f":"'Main Menu'!G6","v":0},null,null,"School Year:",{"$f":"'Main Menu'!B8","v":""},{"$nulls":4},{"$f":"B6","v":0}]
[]
["Step 1: Determine Performance Improvement (60%)"]
["Thematic Area","Performance Indicators",null,null,"Rating & Equivalent Points","Computation","Computation","Results"]
[]
["Access (45%)","Enrolment Increase","% of Increase","Enrolment",null,{"$f":"grd(C16)","v":{"$error":"#VALUE!"}},{"$f":"F11*0.45","v":{"$error":"#VALUE!"}},{"$f":"G11","v":{"$error":"#VALUE!"}}]
[null,{"$f":"'Main Menu'!B14","v":"SY 2009-2010"},null,{"$f":"'Main Menu'!D14","v":990}]
[null,{"$f":"'Main Menu'!B15","v":""},null,{"$f":"'Main Menu'!D15","v":""},{"$nulls":6},"SY 2009-2010"]
[null,{"$f":"'Main Menu'!B16","v":""},{"$f":"((D14-D13)/D13)*100","v":{"$error":"#VALUE!"}},{"$f":"'Main Menu'!D16","v":""},{"$nulls":6},"SY 2010-2011"]
[null,{"$f":"'Main Menu'!B17","v":""},{"$f":"((D15-D14)/D14)*100","v":{"$error":"#VALUE!"}},{"$f":"'Main Menu'!D17","v":""},{"$nulls":6},"SY 2011-2012"]
[null,"Ave. % of Increase",{"$f":"AVERAGE(C14:C15)","v":{"$error":"#VALUE!"}},{"$nulls":7},"SY 2012-2013"]
["Efficiency (25%)","Dropout Rate (DR):","% of decrease","Dropout",null,{"$f":"IF(C22>=5,\"1\",IF(C22>=2,\"2\",IF(C22<2,\"3\",\"0\")))","v":{"$error":"#VALUE!"}},{"$f":"F17*0.0833","v":{"$error":"#VALUE!"}},{"$f":"SUM(G17:G34)","v":{"$error":"#VALUE!"}},null,null,"SY 2013-2014"]
[null,{"$f":"'Main Menu'!B20","v":"SY 2008-2009"},null,{"$f":"'Main Menu'!D20","v":0.02}]
[null,{"$f":"'Main Menu'!B21","v":""},null,{"$f":"'Main Menu'!D21","v":""},{"$nulls":6},"SY 2014- 2015"]
[null,{"$f":"'Main Menu'!B22","v":""},{"$f":"((D20-D19))","v":{"$error":"#VALUE!"}},{"$f":"'Main Menu'!D22","v":""},{"$nulls":6},"SY 2015- 2016"]
[null,{"$f":"'Main Menu'!B23","v":""},{"$f":"D21-D20","v":{"$error":"#VALUE!"}},{"$f":"'Main Menu'!D23","v":""},{"$nulls":6},"SY 2016-2017"]
[null,"Ave. % of Decrease",{"$f":"(C20+C21)/2","v":{"$error":"#VALUE!"}}]
[null,"Completion Rate (CR):","% of Increase","Completion",null,{"$f":"grd(C28)","v":{"$error":"#VALUE!"}},{"$f":"F23*0.0833","v":{"$error":"#VALUE!"}},{"$nulls":3},"SY 2017-2018"]
[null,{"$f":"'Main Menu'!B26","v":"SY 2008-2009"},null,{"$f":"'Main Menu'!D26","v":65}]
[null,{"$f":"'Main Menu'!B27","v":""},null,{"$f":"'Main Menu'!D27","v":""},{"$nulls":6},"SY 2018- 2019"]
[null,{"$f":"'Main Menu'!B28","v":""},{"$f":"((D26-D25)/D25)*100","v":{"$error":"#VALUE!"}},{"$f":"'Main Menu'!D28","v":""},{"$nulls":6},"SY 2019- 2020"]
[null,{"$f":"'Main Menu'!B29","v":""},{"$f":"((D27-D26)/D26)*100","v":{"$error":"#VALUE!"}},{"$f":"'Main Menu'!D29","v":""}]
[null,"Ave. % of Increase",{"$f":"(C26+C27)/2","v":{"$error":"#VALUE!"}}]
[null,"Cohort Survival Rate (CSR):","% of Increase","Cohort Survival",null,{"$f":"M34","v":2},{"$f":"F29*0.0834","v":{"v":0.1668,"d":"0.17"}}]
[null,{"$f":"'Main Menu'!B32","v":"SY 2008-2009"},null,{"$f":"'Main Menu'!D32","v":58}]
[null,{"$f":"'Main Menu'!B33","v":""},null,{"$f":"'Main Menu'!D33","v":{"v":95,"d":"95.00"}},{"$nulls":8},{"$f":"IF(D31>=95,\"3\",\"0\")","v":"3"}]
[null,{"$f":"'Main Menu'!B34","v":""},null,{"$f":"'Main Menu'!D34","v":{"v":96,"d":"96.00"}},{"$nulls":8},{"$f":"IF(D32>=95,\"3\",\"0\")","v":"3"}]
[null,{"$f":"'Main Menu'!B35","v":""},null,{"$f":"'Main Menu'!D35","v":83.72},{"$nulls":8},{"$f":"IF(D33>=95,\"3\",\"0\")","v":"0"}]
[null,"Ave. % of Increase",{"$nulls":10},{"$f":"(M31+M32+M33)/3","v":2}]
["Quality (30%)","NAT MPS","% of Increase","NAT MPS",null,{"$f":"Q40","v":3},{"$f":"F35*0.3","v":0.8999999999999999},{"$f":"G35","v":0.8999999999999999}]
[null,{"$f":"'Main Menu'!B38","v":"SY 2008-2009"},null,{"$f":"'Main Menu'!D38","v":{"v":56,"d":"56.00"}}]
[null,{"$f":"'Main Menu'!B39","v":""},null,{"$f":"'Main Menu'!D39","v":""},{"$nulls":12},{"$f":"IF(D37>=75,\"3\",\"0\")","v":"3"}]
[null,{"$f":"'Main Menu'!B40","v":""},null,{"$f":"'Main Menu'!D40","v":""},{"$nulls":12},{"$f":"IF(D38>=75,\"3\",\"0\")","v":"3"}]
[null,{"$f":"'Main Menu'!B41","v":""},null,{"$f":"'Main Menu'!D41","v":""},{"$nulls":12},{"$f":"IF(D39>=75,\"3\",\"0\")","v":"3"}]
[null,"Ave. % of Increase",{"$nulls":14},{"$f":"(Q37+Q38+Q39)/3","v":3}]
["Sub-Total",{"$nulls":6},{"$f":"SUM(H11:H40)","v":{"$error":"#VALUE!"}}]
[]
["Note: Only Schools having a Performance Improvement of \" Better\" can apply to the Division for SBM Validation."]
["Step 2: Compute for validated SBM Assessment Scores (40%)"]
["SBM Principles",null,"Weight",null,"Cummulative Scores of Validators per Principles",null,"Results"]
["Leadership",null,{"v":0.3,"d":"30%"},null,{"$f":"'Document Analysis, Obs. Discuss'!AP71","v":{"v":0,"d":"0.00"}},null,{"$f":"E46*0.3","v":0}]
["Curriculum & Learning",null,{"v":0.3,"d":"30%"},null,{"$f":"'Document Analysis, Obs. Discuss'!AP72","v":{"v":0,"d":"0.00"}},null,{"$f":"E47*0.3","v":0}]
["Accountability",null,{"v":0.25,"d":"25%"},null,{"$f":"'Document Analysis, Obs. Discuss'!AP73","v":{"v":0,"d":"0.00"}},null,{"$f":"E48*0.25","v":0}]
["Resource Management",null,{"v":0.15,"d":"15%"},null,{"$f":"'Document Analysis, Obs. Discuss'!AP74","v":{"v":0,"d":"0.00"}},null,{"$f":"E49*0.15","v":0}]
["Sub-total",{"$nulls":5},{"$f":"SUM(G46:G49)","v":{"v":0,"d":"0.00"}}]
["Interpretation:",null,"Good"]
[null,null,"Better"]
[null,null,"Best"]
["Legend:","Numerical Rating Scale",null,null,"Description"]
[null,"0.50-1.49",null,null,"Good"]
[null,"1.50-2.49",null,null,"Better"]
[null,"2.50-3.00",null,null,"Best"]
{"$rows_empty":7}
["Step 3: Compute for Final Rating"]
["Areas",null,"Weight",null,"Computation",null,"Results"]
["A. Performance Improvement",null,{"v":0.6,"d":"60%"},null,{"$f":"H41","v":{"$error":"#VALUE!"}},null,{"$f":"C67*E67","v":{"$error":"#VALUE!"}},{"$nulls":6},"Performance Improvement",{"$f":"E67","v":{"$error":"#VALUE!"}}]
["B. SBM Assessment Score (DOD)",null,{"v":0.4,"d":"40%"},null,{"$f":"G50","v":{"v":0,"d":"0.00"}},null,{"$f":"C68*E68","v":{"v":0,"d":"0.00"}},{"$nulls":6},"SBM Assessment Score",{"$f":"E68","v":{"v":0,"d":"0.00"}}]
["Total",{"$nulls":5},{"$f":"SUM(G67:G68)","v":{"$error":"#VALUE!"}},{"$nulls":6},"SBM Final Rating",{"$f":"G69","v":{"$error":"#VALUE!"}}]
[]
["Interpretation:"]
[null,"Developing ( Level I)"]
[null,"Maturing (Level II)"]
[null,"Advanced (Level III)"]
[]
["Description of SBM Level of Practice:"]
[null,"Numerical Rating Scale",null,null,"Description"]
[null,"0.50-1.49",null,null,"Developing"]
[null,"1.50-2.49",null,null,"Maturing"]
[null,"2.50-3.00",null,null,"Advanced"]
[]
["Results:",{"$f":"IF(G69<1.5,\"Developing level- Structures and mechanisms with acceptable level and extent of community participation and impact on learning outcomes.\",IF(G69<2.5,\"Maturing level - Introducing and sustaining continuous improvement process that integrates wider community participation and improve sinificantly performance and learning outcomes.\",IF(G69<3,\"Advanced level - Ensuring the production of intended outputs/outcomes and meeting all standards of a system fully integrated in the local community and is self-renewing and self-sustaining.\",\"\")))","v":{"$error":"#VALUE!"}}]
{"$rows_empty":17}
["Validators:"]
[null,{"$f":"'Input Menu'!B51","v":0},null,null,{"$f":"'Input Menu'!B52","v":0}]
[null,"Member",null,null,"Member"]
[]
[]
[null,{"$f":"'Input Menu'!B53","v":0},null,null,{"$f":"'Input Menu'!B54","v":0}]
[null,"Member",null,null,"Member"]
[]
[]
[]
[null,{"$f":"'Input Menu'!B50","v":0}]
[null,"Chairman"]
[{"$f":"'Main Menu'!#REF!","v":{"$error":"#REF!"}}]

{"sheet":"5Elem. ER, CR2, CSR1, NAT1","index":14,"n_rows":112,"n_cols":15,"rows_kept":112,"hidden":true,"merged":[[0,0,0,7],[1,0,1,7],[2,0,2,7],[4,0,4,7],[5,1,5,3],[5,5,5,7],[7,0,7,7],[8,1,8,2],[10,0,15,0],[10,4,15,4],[10,5,15,5],[10,6,15,6],[10,7,15,7],[16,0,33,0],[16,4,21,4],[16,5,21,5],[16,6,21,6],[16,7,33,7],[22,4,27,4],[22,5,27,5],[22,6,27,6],[28,4,33,4],[28,5,33,5],[28,6,33,6],[34,0,39,0],[34,4,39,4],[34,5,39,5],[34,6,39,6],[34,7,39,7],[40,0,40,4],[42,0,42,7],[43,0,43,7],[44,0,44,1],[44,2,44,3],[44,4,44,5],[44,6,44,7],[45,0,45,1],[45,2,45,3],[45,4,45,5],[45,6,45,7],[46,0,46,1],[46,2,46,3],[46,4,46,5],[46,6,46,7],[47,0,47,1],[47,2,47,3],[47,4,47,5],[47,6,47,7],[48,0,48,1],[48,2,48,3],[48,4,48,5],[48,6,48,7],[49,0,49,5],[49,6,49,7],[53,1,53,3],[53,4,53,5],[54,1,54,3],[54,4,54,5],[55,1,55,3],[55,4,55,5],[56,1,56,3],[56,4,56,5],[64,0,64,7],[65,0,65,1],[65,2,65,3],[65,4,65,5],[65,6,65,7],[66,0,66,1],[66,2,66,3],[66,4,66,5],[66,6,66,7],[67,0,67,1],[67,2,67,3],[67,4,67,5],[67,6,67,7],[68,0,68,5],[68,6,68,7],[75,0,75,7],[76,1,76,3],[76,4,76,5],[77,1,77,3],[77,4,77,5],[78,1,78,3],[78,4,78,5],[79,1,79,3],[79,4,79,5],[81,1,84,7],[100,1,100,2],[100,4,100,5],[101,1,101,2],[101,4,101,5],[104,1,104,2],[104,4,104,5],[105,1,105,2],[105,4,105,5],[109,1,109,5],[110,1,110,5]]}
[{"$f":"'Main Menu'!A1:F1","v":"Department of Education"}]
[{"$f":"'Main Menu'!A2:F2","v":"Region X"}]
[{"$f":"'Main Menu'!A3:F3","v":""}]
[]
["SBM Validation"]
["Name of School:",{"$f":"'Main Menu'!G6","v":0},null,null,"School Year:",{"$f":"'Main Menu'!B8","v":""},{"$nulls":4},{"$f":"B6","v":0}]
[]
["Step 1: Determine Performance Improvement (60%)"]
["Thematic Area","Performance Indicators",null,null,"Rating & Equivalent Points","Computation","Computation","Results"]
[]
["Access (45%)","Enrolment Increase","% of Increase","Enrolment",null,{"$f":"grd(C16)","v":{"$error":"#VALUE!"}},{"$f":"F11*0.45","v":{"$error":"#VALUE!"}},{"$f":"G11","v":{"$error":"#VALUE!"}}]
[null,{"$f":"'Main Menu'!B14","v":"SY 2009-2010"},null,{"$f":"'Main Menu'!D14","v":990}]
[null,{"$f":"'Main Menu'!B15","v":""},null,{"$f":"'Main Menu'!D15","v":""},{"$nulls":6},"SY 2009-2010"]
[null,{"$f":"'Main Menu'!B16","v":""},{"$f":"((D14-D13)/D13)*100","v":{"$error":"#VALUE!"}},{"$f":"'Main Menu'!D16","v":""},{"$nulls":6},"SY 2010-2011"]
[null,{"$f":"'Main Menu'!B17","v":""},{"$f":"((D15-D14)/D14)*100","v":{"$error":"#VALUE!"}},{"$f":"'Main Menu'!D17","v":""},{"$nulls":6},"SY 2011-2012"]
[null,"Ave. % of Increase",{"$f":"AVERAGE(C14:C15)","v":{"$error":"#VALUE!"}},{"$nulls":7},"SY 2012-2013"]
["Efficiency (25%)","Dropout Rate (DR):","% of decrease","Dropout",null,{"$f":"IF(C22>=5,\"1\",IF(C22>=2,\"2\",IF(C22<2,\"3\",\"0\")))","v":{"$error":"#VALUE!"}},{"$f":"F17*0.0833","v":{"$error":"#VALUE!"}},{"$f":"SUM(G17:G34)","v":{"$error":"#VALUE!"}},null,null,"SY 2013-2014"]
[null,{"$f":"'Main Menu'!B20","v":"SY 2008-2009"},null,{"$f":"'Main Menu'!D20","v":0.02}]
[null,{"$f":"'Main Menu'!B21","v":""},null,{"$f":"'Main Menu'!D21","v":""},{"$nulls":6},"SY 2014- 2015"]
[null,{"$f":"'Main Menu'!B22","v":""},{"$f":"((D20-D19))","v":{"$error":"#VALUE!"}},{"$f":"'Main Menu'!D22","v":""},{"$nulls":6},"SY 2015- 2016"]
[null,{"$f":"'Main Menu'!B23","v":""},{"$f":"D21-D20","v":{"$error":"#VALUE!"}},{"$f":"'Main Menu'!D23","v":""},{"$nulls":6},"SY 2016-2017"]
[null,"Ave. % of Decrease",{"$f":"(C20+C21)/2","v":{"$error":"#VALUE!"}}]
[null,"Completion Rate (CR):","% of Increase","Completion",null,{"$f":"N28","v":3},{"$f":"F23*0.0833","v":{"v":0.2499,"d":"0.25"}},{"$nulls":3},"SY 2017-2018"]
[null,{"$f":"'Main Menu'!B26","v":"SY 2008-2009"},null,{"$f":"'Main Menu'!D26","v":65}]
[null,{"$f":"'Main Menu'!B27","v":""},null,{"$f":"'Main Menu'!D27","v":""},{"$nulls":6},"SY 2018- 2019",null,null,{"$f":"IF(D25>=95,\"3\",\"0\")","v":"3"}]
[null,{"$f":"'Main Menu'!B28","v":""},null,{"$f":"'Main Menu'!D28","v":""},{"$nulls":6},"SY 2019- 2020",null,null,{"$f":"IF(D26>=95,\"3\",\"0\")","v":"3"}]
[null,{"$f":"'Main Menu'!B29","v":""},null,{"$f":"'Main Menu'!D29","v":""},{"$nulls":9},{"$f":"IF(D27>=95,\"3\",\"0\")","v":"3"}]
[null,"Ave. % of Increase",{"$nulls":11},{"$f":"(N25+N26+N27)/3","v":3}]
[null,"Cohort Survival Rate (CSR):","% of Increase","Cohort Survival",null,{"$f":"IF(C34>=5,\"1\",IF(C34>=7,\"2\",IF(C34>=10,\"3\",\"0\")))","v":"0"},{"$f":"F29*0.0834","v":{"v":0,"d":"0.00"}}]
[null,{"$f":"'Main Menu'!B32","v":"SY 2008-2009"},null,{"$f":"'Main Menu'!D32","v":58}]
[null,{"$f":"'Main Menu'!B33","v":""},null,{"$f":"'Main Menu'!D33","v":{"v":95,"d":"95.00"}}]
[null,{"$f":"'Main Menu'!B34","v":""},{"$f":"(D32-D31)/D31*100","v":{"v":1.0526315789473684,"d":"1.05"}},{"$f":"'Main Menu'!D34","v":{"v":96,"d":"96.00"}}]
[null,{"$f":"'Main Menu'!B35","v":""},{"$f":"(D33-D32)/D32*100","v":{"v":-12.791666666666668,"d":"-12.79"}},{"$f":"'Main Menu'!D35","v":83.72}]
[null,"Ave. % of Increase",{"$f":"(C32+C33)/2","v":{"v":-5.86951754385965,"d":"-5.87"}}]
["Quality (30%)","NAT MPS","% of Increase","NAT MPS",null,{"$f":"IF(C40>=7,\"3\",IF(C40>=5,\"2\",IF(C40>=2,\"1\",\"0\")))","v":{"$error":"#VALUE!"}},{"$f":"F35*0.3","v":{"$error":"#VALUE!"}},{"$f":"G35","v":{"$error":"#VALUE!"}}]
[null,{"$f":"'Main Menu'!B38","v":"SY 2008-2009"},null,{"$f":"'Main Menu'!D38","v":{"v":56,"d":"56.00"}}]
[null,{"$f":"'Main Menu'!B39","v":""},null,{"$f":"'Main Menu'!D39","v":""}]
[null,{"$f":"'Main Menu'!B40","v":""},{"$f":"((D38-D37)/D37)*100","v":{"$error":"#VALUE!"}},{"$f":"'Main Menu'!D40","v":""}]
[null,{"$f":"'Main Menu'!B41","v":""},{"$f":"((D39-D38)/D38)*100","v":{"$error":"#VALUE!"}},{"$f":"'Main Menu'!D41","v":""}]
[null,"Ave. % of Increase",{"$f":"AVERAGE(C38:C39)","v":{"$error":"#VALUE!"}}]
["Sub-Total",{"$nulls":6},{"$f":"SUM(H11:H40)","v":{"$error":"#VALUE!"}}]
[]
["Note: Only Schools having a Performance Improvement of \" Better\" can apply to the Division for SBM Validation."]
["Step 2: Compute for validated SBM Assessment Scores (40%)"]
["SBM Principles",null,"Weight",null,"Cummulative Scores of Validators per Principles",null,"Results"]
["Leadership",null,{"v":0.3,"d":"30%"},null,{"$f":"'Document Analysis, Obs. Discuss'!AP71","v":{"v":0,"d":"0.00"}},null,{"$f":"E46*0.3","v":0}]
["Curriculum & Learning",null,{"v":0.3,"d":"30%"},null,{"$f":"'Document Analysis, Obs. Discuss'!AP72","v":{"v":0,"d":"0.00"}},null,{"$f":"E47*0.3","v":0}]
["Accountability",null,{"v":0.25,"d":"25%"},null,{"$f":"'Document Analysis, Obs. Discuss'!AP73","v":{"v":0,"d":"0.00"}},null,{"$f":"E48*0.25","v":0}]
["Resource Management",null,{"v":0.15,"d":"15%"},null,{"$f":"'Document Analysis, Obs. Discuss'!AP74","v":{"v":0,"d":"0.00"}},null,{"$f":"E49*0.15","v":0}]
["Sub-total",{"$nulls":5},{"$f":"SUM(G46:G49)","v":{"v":0,"d":"0.00"}}]
["Interpretation:",null,"Good"]
[null,null,"Better"]
[null,null,"Best"]
["Legend:","Numerical Rating Scale",null,null,"Description"]
[null,"0.50-1.49",null,null,"Good"]
[null,"1.50-2.49",null,null,"Better"]
[null,"2.50-3.00",null,null,"Best"]
{"$rows_empty":7}
["Step 3: Compute for Final Rating"]
["Areas",null,"Weight",null,"Computation",null,"Results"]
["A. Performance Improvement",null,{"v":0.6,"d":"60%"},null,{"$f":"H41","v":{"$error":"#VALUE!"}},null,{"$f":"C67*E67","v":{"$error":"#VALUE!"}},{"$nulls":6},"Performance Improvement",{"$f":"E67","v":{"$error":"#VALUE!"}}]
["B. SBM Assessment Score (DOD)",null,{"v":0.4,"d":"40%"},null,{"$f":"G50","v":{"v":0,"d":"0.00"}},null,{"$f":"C68*E68","v":{"v":0,"d":"0.00"}},{"$nulls":6},"SBM Assessment Score",{"$f":"E68","v":{"v":0,"d":"0.00"}}]
["Total",{"$nulls":5},{"$f":"SUM(G67:G68)","v":{"$error":"#VALUE!"}},{"$nulls":6},"SBM Final Rating",{"$f":"G69","v":{"$error":"#VALUE!"}}]
[]
["Interpretation:"]
[null,"Developing ( Level I)"]
[null,"Maturing (Level II)"]
[null,"Advanced (Level III)"]
[]
["Description of SBM Level of Practice:"]
[null,"Numerical Rating Scale",null,null,"Description"]
[null,"0.50-1.49",null,null,"Developing"]
[null,"1.50-2.49",null,null,"Maturing"]
[null,"2.50-3.00",null,null,"Advanced"]
[]
["Results:",{"$f":"IF(G69<1.5,\"Developing level- Structures and mechanisms with acceptable level and extent of community participation and impact on learning outcomes.\",IF(G69<2.5,\"Maturing level - Introducing and sustaining continuous improvement process that integrates wider community participation and improve sinificantly performance and learning outcomes.\",IF(G69<3,\"Advanced level - Ensuring the production of intended outputs/outcomes and meeting all standards of a system fully integrated in the local community and is self-renewing and self-sustaining.\",\"\")))","v":{"$error":"#VALUE!"}}]
{"$rows_empty":17}
["Validators:"]
[null,{"$f":"'Input Menu'!B51","v":0},null,null,{"$f":"'Input Menu'!B52","v":0}]
[null,"Member",null,null,"Member"]
[]
[]
[null,{"$f":"'Input Menu'!B53","v":0},null,null,{"$f":"'Input Menu'!B54","v":0}]
[null,"Member",null,null,"Member"]
[]
[]
[]
[null,{"$f":"'Input Menu'!B50","v":0}]
[null,"Chairman"]
[{"$f":"'Main Menu'!#REF!","v":{"$error":"#REF!"}}]

{"sheet":"6Elem. ER, CR2, CSR1, NAT2","index":15,"n_rows":112,"n_cols":16,"rows_kept":112,"hidden":true,"merged":[[0,0,0,7],[1,0,1,7],[2,0,2,7],[4,0,4,7],[5,1,5,3],[5,5,5,7],[7,0,7,7],[8,1,8,2],[10,0,15,0],[10,4,15,4],[10,5,15,5],[10,6,15,6],[10,7,15,7],[16,0,33,0],[16,4,21,4],[16,5,21,5],[16,6,21,6],[16,7,33,7],[22,4,27,4],[22,5,27,5],[22,6,27,6],[28,4,33,4],[28,5,33,5],[28,6,33,6],[34,0,39,0],[34,4,39,4],[34,5,39,5],[34,6,39,6],[34,7,39,7],[40,0,40,4],[42,0,42,7],[43,0,43,7],[44,0,44,1],[44,2,44,3],[44,4,44,5],[44,6,44,7],[45,0,45,1],[45,2,45,3],[45,4,45,5],[45,6,45,7],[46,0,46,1],[46,2,46,3],[46,4,46,5],[46,6,46,7],[47,0,47,1],[47,2,47,3],[47,4,47,5],[47,6,47,7],[48,0,48,1],[48,2,48,3],[48,4,48,5],[48,6,48,7],[49,0,49,5],[49,6,49,7],[53,1,53,3],[53,4,53,5],[54,1,54,3],[54,4,54,5],[55,1,55,3],[55,4,55,5],[56,1,56,3],[56,4,56,5],[64,0,64,7],[65,0,65,1],[65,2,65,3],[65,4,65,5],[65,6,65,7],[66,0,66,1],[66,2,66,3],[66,4,66,5],[66,6,66,7],[67,0,67,1],[67,2,67,3],[67,4,67,5],[67,6,67,7],[68,0,68,5],[68,6,68,7],[75,0,75,7],[76,1,76,3],[76,4,76,5],[77,1,77,3],[77,4,77,5],[78,1,78,3],[78,4,78,5],[79,1,79,3],[79,4,79,5],[81,1,84,7],[100,1,100,2],[100,4,100,5],[101,1,101,2],[101,4,101,5],[104,1,104,2],[104,4,104,5],[105,1,105,2],[105,4,105,5],[109,1,109,5],[110,1,110,5]]}
[{"$f":"'Main Menu'!A1:F1","v":"Department of Education"}]
[{"$f":"'Main Menu'!A2:F2","v":"Region X"}]
[{"$f":"'Main Menu'!A3:F3","v":""}]
[]
["SBM Validation"]
["Name of School:",{"$f":"'Main Menu'!G6","v":0},null,null,"School Year:",{"$f":"'Main Menu'!B8","v":""},{"$nulls":4},{"$f":"B6","v":0}]
[]
["Step 1: Determine Performance Improvement (60%)"]
["Thematic Area","Performance Indicators",null,null,"Rating & Equivalent Points","Computation","Computation","Results"]
[]
["Access (45%)","Enrolment Increase","% of Increase","Enrolment",null,{"$f":"grd(C16)","v":{"$error":"#VALUE!"}},{"$f":"F11*0.45","v":{"$error":"#VALUE!"}},{"$f":"G11","v":{"$error":"#VALUE!"}}]
[null,{"$f":"'Main Menu'!B14","v":"SY 2009-2010"},null,{"$f":"'Main Menu'!D14","v":990}]
[null,{"$f":"'Main Menu'!B15","v":""},null,{"$f":"'Main Menu'!D15","v":""},{"$nulls":6},"SY 2009-2010"]
[null,{"$f":"'Main Menu'!B16","v":""},{"$f":"((D14-D13)/D13)*100","v":{"$error":"#VALUE!"}},{"$f":"'Main Menu'!D16","v":""},{"$nulls":6},"SY 2010-2011"]
[null,{"$f":"'Main Menu'!B17","v":""},{"$f":"((D15-D14)/D14)*100","v":{"$error":"#VALUE!"}},{"$f":"'Main Menu'!D17","v":""},{"$nulls":6},"SY 2011-2012"]
[null,"Ave. % of Increase",{"$f":"AVERAGE(C14:C15)","v":{"$error":"#VALUE!"}},{"$nulls":7},"SY 2012-2013"]
["Efficiency (25%)","Dropout Rate (DR):","% of decrease","Dropout",null,{"$f":"IF(C22>=5,\"1\",IF(C22>=2,\"2\",IF(C22<2,\"3\",\"0\")))","v":{"$error":"#VALUE!"}},{"$f":"F17*0.0833","v":{"$error":"#VALUE!"}},{"$f":"SUM(G17:G34)","v":{"$error":"#VALUE!"}},null,null,"SY 2013-2014"]
[null,{"$f":"'Main Menu'!B20","v":"SY 2008-2009"},null,{"$f":"'Main Menu'!D20","v":0.02}]
[null,{"$f":"'Main Menu'!B21","v":""},null,{"$f":"'Main Menu'!D21","v":""},{"$nulls":6},"SY 2014- 2015"]
[null,{"$f":"'Main Menu'!B22","v":""},{"$f":"((D20-D19))","v":{"$error":"#VALUE!"}},{"$f":"'Main Menu'!D22","v":""},{"$nulls":6},"SY 2015- 2016"]
[null,{"$f":"'Main Menu'!B23","v":""},{"$f":"D21-D20","v":{"$error":"#VALUE!"}},{"$f":"'Main Menu'!D23","v":""},{"$nulls":6},"SY 2016-2017"]
[null,"Ave. % of Decrease",{"$f":"(C20+C21)/2","v":{"$error":"#VALUE!"}}]
[null,"Completion Rate (CR):","% of Increase","Completion",null,{"$f":"N28","v":3},{"$f":"F23*0.0833","v":{"v":0.2499,"d":"0.25"}},{"$nulls":3},"SY 2017-2018"]
[null,{"$f":"'Main Menu'!B26","v":"SY 2008-2009"},null,{"$f":"'Main Menu'!D26","v":65}]
[null,{"$f":"'Main Menu'!B27","v":""},null,{"$f":"'Main Menu'!D27","v":""},{"$nulls":6},"SY 2018- 2019",null,null,{"$f":"IF(D25>=95,\"3\",\"0\")","v":"3"}]
[null,{"$f":"'Main Menu'!B28","v":""},null,{"$f":"'Main Menu'!D28","v":""},{"$nulls":6},"SY 2019- 2020",null,null,{"$f":"IF(D26>=95,\"3\",\"0\")","v":"3"}]
[null,{"$f":"'Main Menu'!B29","v":""},null,{"$f":"'Main Menu'!D29","v":""},{"$nulls":9},{"$f":"IF(D27>=95,\"3\",\"0\")","v":"3"}]
[null,"Ave. % of Increase",{"$nulls":11},{"$f":"(N25+N26+N27)/3","v":3}]
[null,"Cohort Survival Rate (CSR):","% of Increase","Cohort Survival",null,{"$f":"IF(C34>=5,\"1\",IF(C34>=7,\"2\",IF(C34>=10,\"3\",\"0\")))","v":"0"},{"$f":"F29*0.0834","v":{"v":0,"d":"0.00"}}]
[null,{"$f":"'Main Menu'!B32","v":"SY 2008-2009"},null,{"$f":"'Main Menu'!D32","v":58}]
[null,{"$f":"'Main Menu'!B33","v":""},null,{"$f":"'Main Menu'!D33","v":{"v":95,"d":"95.00"}}]
[null,{"$f":"'Main Menu'!B34","v":""},{"$f":"(D32-D31)/D31*100","v":{"v":1.0526315789473684,"d":"1.05"}},{"$f":"'Main Menu'!D34","v":{"v":96,"d":"96.00"}}]
[null,{"$f":"'Main Menu'!B35","v":""},{"$f":"(D33-D32)/D32*100","v":{"v":-12.791666666666668,"d":"-12.79"}},{"$f":"'Main Menu'!D35","v":83.72}]
[null,"Ave. % of Increase",{"$f":"(C32+C33)/2","v":{"v":-5.86951754385965,"d":"-5.87"}}]
["Quality (30%)","NAT MPS","% of Increase","NAT MPS",null,{"$f":"P40","v":3},{"$f":"F35*0.3","v":0.8999999999999999},{"$f":"G35","v":0.8999999999999999}]
[null,{"$f":"'Main Menu'!B38","v":"SY 2008-2009"},null,{"$f":"'Main Menu'!D38","v":{"v":56,"d":"56.00"}}]
[null,{"$f":"'Main Menu'!B39","v":""},null,{"$f":"'Main Menu'!D39","v":""},{"$nulls":11},{"$f":"IF(D37>=75,\"3\",\"0\")","v":"3"}]
[null,{"$f":"'Main Menu'!B40","v":""},null,{"$f":"'Main Menu'!D40","v":""},{"$nulls":11},{"$f":"IF(D38>=75,\"3\",\"0\")","v":"3"}]
[null,{"$f":"'Main Menu'!B41","v":""},null,{"$f":"'Main Menu'!D41","v":""},{"$nulls":11},{"$f":"IF(D39>=75,\"3\",\"0\")","v":"3"}]
[null,"Ave. % of Increase",{"$nulls":13},{"$f":"(P37+P38+P39)/3","v":3}]
["Sub-Total",{"$nulls":6},{"$f":"SUM(H11:H40)","v":{"$error":"#VALUE!"}}]
[]
["Note: Only Schools having a Performance Improvement of \" Better\" can apply to the Division for SBM Validation."]
["Step 2: Compute for validated SBM Assessment Scores (40%)"]
["SBM Principles",null,"Weight",null,"Cummulative Scores of Validators per Principles",null,"Results"]
["Leadership",null,{"v":0.3,"d":"30%"},null,{"$f":"'Document Analysis, Obs. Discuss'!AP71","v":{"v":0,"d":"0.00"}},null,{"$f":"E46*0.3","v":0}]
["Curriculum & Learning",null,{"v":0.3,"d":"30%"},null,{"$f":"'Document Analysis, Obs. Discuss'!AP72","v":{"v":0,"d":"0.00"}},null,{"$f":"E47*0.3","v":0}]
["Accountability",null,{"v":0.25,"d":"25%"},null,{"$f":"'Document Analysis, Obs. Discuss'!AP73","v":{"v":0,"d":"0.00"}},null,{"$f":"E48*0.25","v":0}]
["Resource Management",null,{"v":0.15,"d":"15%"},null,{"$f":"'Document Analysis, Obs. Discuss'!AP74","v":{"v":0,"d":"0.00"}},null,{"$f":"E49*0.15","v":0}]
["Sub-total",{"$nulls":5},{"$f":"SUM(G46:G49)","v":{"v":0,"d":"0.00"}}]
["Interpretation:",null,"Good"]
[null,null,"Better"]
[null,null,"Best"]
["Legend:","Numerical Rating Scale",null,null,"Description"]
[null,"0.50-1.49",null,null,"Good"]
[null,"1.50-2.49",null,null,"Better"]
[null,"2.50-3.00",null,null,"Best"]
{"$rows_empty":7}
["Step 3: Compute for Final Rating"]
["Areas",null,"Weight",null,"Computation",null,"Results"]
["A. Performance Improvement",null,{"v":0.6,"d":"60%"},null,{"$f":"H41","v":{"$error":"#VALUE!"}},null,{"$f":"C67*E67","v":{"$error":"#VALUE!"}},{"$nulls":6},"Performance Improvement",{"$f":"E67","v":{"$error":"#VALUE!"}}]
["B. SBM Assessment Score (DOD)",null,{"v":0.4,"d":"40%"},null,{"$f":"G50","v":{"v":0,"d":"0.00"}},null,{"$f":"C68*E68","v":{"v":0,"d":"0.00"}},{"$nulls":6},"SBM Assessment Score",{"$f":"E68","v":{"v":0,"d":"0.00"}}]
["Total",{"$nulls":5},{"$f":"SUM(G67:G68)","v":{"$error":"#VALUE!"}},{"$nulls":6},"SBM Final Rating",{"$f":"G69","v":{"$error":"#VALUE!"}}]
[]
["Interpretation:"]
[null,"Developing ( Level I)"]
[null,"Maturing (Level II)"]
[null,"Advanced (Level III)"]
[]
["Description of SBM Level of Practice:"]
[null,"Numerical Rating Scale",null,null,"Description"]
[null,"0.50-1.49",null,null,"Developing"]
[null,"1.50-2.49",null,null,"Maturing"]
[null,"2.50-3.00",null,null,"Advanced"]
[]
["Results:",{"$f":"IF(G69<1.5,\"Developing level- Structures and mechanisms with acceptable level and extent of community participation and impact on learning outcomes.\",IF(G69<2.5,\"Maturing level - Introducing and sustaining continuous improvement process that integrates wider community participation and improve sinificantly performance and learning outcomes.\",IF(G69<3,\"Advanced level - Ensuring the production of intended outputs/outcomes and meeting all standards of a system fully integrated in the local community and is self-renewing and self-sustaining.\",\"\")))","v":{"$error":"#VALUE!"}}]
{"$rows_empty":17}
["Validators:"]
[null,{"$f":"'Input Menu'!B51","v":0},null,null,{"$f":"'Input Menu'!B52","v":0}]
[null,"Member",null,null,"Member"]
[]
[]
[null,{"$f":"'Input Menu'!B53","v":0},null,null,{"$f":"'Input Menu'!B54","v":0}]
[null,"Member",null,null,"Member"]
[]
[]
[]
[null,{"$f":"'Input Menu'!B50","v":0}]
[null,"Chairman"]
[{"$f":"'Main Menu'!#REF!","v":{"$error":"#REF!"}}]

{"sheet":"7Elem. ER, CR2, CSR2, NAT1","index":16,"n_rows":112,"n_cols":18,"rows_kept":112,"hidden":true,"merged":[[0,0,0,7],[1,0,1,7],[2,0,2,7],[4,0,4,7],[5,1,5,3],[5,5,5,7],[7,0,7,7],[8,1,8,2],[10,0,15,0],[10,4,15,4],[10,5,15,5],[10,6,15,6],[10,7,15,7],[16,0,33,0],[16,4,21,4],[16,5,21,5],[16,6,21,6],[16,7,33,7],[22,4,27,4],[22,5,27,5],[22,6,27,6],[28,4,33,4],[28,5,33,5],[28,6,33,6],[34,0,39,0],[34,4,39,4],[34,5,39,5],[34,6,39,6],[34,7,39,7],[40,0,40,4],[42,0,42,7],[43,0,43,7],[44,0,44,1],[44,2,44,3],[44,4,44,5],[44,6,44,7],[45,0,45,1],[45,2,45,3],[45,4,45,5],[45,6,45,7],[46,0,46,1],[46,2,46,3],[46,4,46,5],[46,6,46,7],[47,0,47,1],[47,2,47,3],[47,4,47,5],[47,6,47,7],[48,0,48,1],[48,2,48,3],[48,4,48,5],[48,6,48,7],[49,0,49,5],[49,6,49,7],[53,1,53,3],[53,4,53,5],[54,1,54,3],[54,4,54,5],[55,1,55,3],[55,4,55,5],[56,1,56,3],[56,4,56,5],[64,0,64,7],[65,0,65,1],[65,2,65,3],[65,4,65,5],[65,6,65,7],[66,0,66,1],[66,2,66,3],[66,4,66,5],[66,6,66,7],[67,0,67,1],[67,2,67,3],[67,4,67,5],[67,6,67,7],[68,0,68,5],[68,6,68,7],[75,0,75,7],[76,1,76,3],[76,4,76,5],[77,1,77,3],[77,4,77,5],[78,1,78,3],[78,4,78,5],[79,1,79,3],[79,4,79,5],[81,1,84,7],[100,1,100,2],[100,4,100,5],[101,1,101,2],[101,4,101,5],[104,1,104,2],[104,4,104,5],[105,1,105,2],[105,4,105,5],[109,1,109,5],[110,1,110,5]]}
[{"$f":"'Main Menu'!A1:F1","v":"Department of Education"}]
[{"$f":"'Main Menu'!A2:F2","v":"Region X"}]
[{"$f":"'Main Menu'!A3:F3","v":""}]
[]
["SBM Validation"]
["Name of School:",{"$f":"'Main Menu'!G6","v":0},null,null,"School Year:",{"$f":"'Main Menu'!B8","v":""},{"$nulls":4},{"$f":"B6","v":0}]
[]
["Step 1: Determine Performance Improvement (60%)"]
["Thematic Area","Performance Indicators",null,null,"Rating & Equivalent Points","Computation","Computation","Results"]
[]
["Access (45%)","Enrolment Increase","% of Increase","Enrolment",null,{"$f":"grd(C16)","v":{"$error":"#VALUE!"}},{"$f":"F11*0.45","v":{"$error":"#VALUE!"}},{"$f":"G11","v":{"$error":"#VALUE!"}}]
[null,{"$f":"'Main Menu'!B14","v":"SY 2009-2010"},null,{"$f":"'Main Menu'!D14","v":990}]
[null,{"$f":"'Main Menu'!B15","v":""},null,{"$f":"'Main Menu'!D15","v":""},{"$nulls":6},"SY 2009-2010"]
[null,{"$f":"'Main Menu'!B16","v":""},{"$f":"((D14-D13)/D13)*100","v":{"$error":"#VALUE!"}},{"$f":"'Main Menu'!D16","v":""},{"$nulls":6},"SY 2010-2011"]
[null,{"$f":"'Main Menu'!B17","v":""},{"$f":"((D15-D14)/D14)*100","v":{"$error":"#VALUE!"}},{"$f":"'Main Menu'!D17","v":""},{"$nulls":6},"SY 2011-2012"]
[null,"Ave. % of Increase",{"$f":"AVERAGE(C14:C15)","v":{"$error":"#VALUE!"}},{"$nulls":7},"SY 2012-2013"]
["Efficiency (25%)","Dropout Rate (DR):","% of decrease","Dropout",null,{"$f":"IF(C22>=5,\"1\",IF(C22>=2,\"2\",IF(C22<2,\"3\",\"0\")))","v":{"$error":"#VALUE!"}},{"$f":"F17*0.0833","v":{"$error":"#VALUE!"}},{"$f":"SUM(G17:G34)","v":{"$error":"#VALUE!"}},null,null,"SY 2013-2014"]
[null,{"$f":"'Main Menu'!B20","v":"SY 2008-2009"},null,{"$f":"'Main Menu'!D20","v":0.02}]
[null,{"$f":"'Main Menu'!B21","v":""},null,{"$f":"'Main Menu'!D21","v":""},{"$nulls":6},"SY 2014- 2015"]
[null,{"$f":"'Main Menu'!B22","v":""},{"$f":"((D20-D19))","v":{"$error":"#VALUE!"}},{"$f":"'Main Menu'!D22","v":""},{"$nulls":6},"SY 2015- 2016"]
[null,{"$f":"'Main Menu'!B23","v":""},{"$f":"D21-D20","v":{"$error":"#VALUE!"}},{"$f":"'Main Menu'!D23","v":""},{"$nulls":6},"SY 2016-2017"]
[null,"Ave. % of Decrease",{"$f":"(C20+C21)/2","v":{"$error":"#VALUE!"}}]
[null,"Completion Rate (CR):","% of Increase","Completion",null,{"$f":"N28","v":3},{"$f":"F23*0.0833","v":{"v":0.2499,"d":"0.25"}},{"$nulls":3},"SY 2017-2018"]
[null,{"$f":"'Main Menu'!B26","v":"SY 2008-2009"},null,{"$f":"'Main Menu'!D26","v":65}]
[null,{"$f":"'Main Menu'!B27","v":""},null,{"$f":"'Main Menu'!D27","v":""},{"$nulls":6},"SY 2018- 2019",null,null,{"$f":"IF(D25>=95,\"3\",\"0\")","v":"3"}]
[null,{"$f":"'Main Menu'!B28","v":""},null,{"$f":"'Main Menu'!D28","v":""},{"$nulls":6},"SY 2019- 2020",null,null,{"$f":"IF(D26>=95,\"3\",\"0\")","v":"3"}]
[null,{"$f":"'Main Menu'!B29","v":""},null,{"$f":"'Main Menu'!D29","v":""},{"$nulls":9},{"$f":"IF(D27>=95,\"3\",\"0\")","v":"3"}]
[null,"Ave. % of Increase",{"$nulls":11},{"$f":"(N25+N26+N27)/3","v":3}]
[null,"Cohort Survival Rate (CSR):","% of Increase","Cohort Survival",null,{"$f":"R34","v":2},{"$f":"F29*0.0834","v":{"v":0.1668,"d":"0.17"}}]
[null,{"$f":"'Main Menu'!B32","v":"SY 2008-2009"},null,{"$f":"'Main Menu'!D32","v":58}]
[null,{"$f":"'Main Menu'!B33","v":""},null,{"$f":"'Main Menu'!D33","v":{"v":95,"d":"95.00"}},{"$nulls":13},{"$f":"IF(D31>=95,\"3\",\"0\")","v":"3"}]
[null,{"$f":"'Main Menu'!B34","v":""},null,{"$f":"'Main Menu'!D34","v":{"v":96,"d":"96.00"}},{"$nulls":13},{"$f":"IF(D32>=95,\"3\",\"0\")","v":"3"}]
[null,{"$f":"'Main Menu'!B35","v":""},null,{"$f":"'Main Menu'!D35","v":83.72},{"$nulls":13},{"$f":"IF(D33>=95,\"3\",\"0\")","v":"0"}]
[null,"Ave. % of Increase",{"$nulls":15},{"$f":"(R31+R32+R33)/3","v":2}]
["Quality (30%)","NAT MPS","% of Increase","NAT MPS",null,{"$f":"IF(C40>=7,\"3\",IF(C40>=5,\"2\",IF(C40>2,\"1\",\"0\")))","v":{"$error":"#VALUE!"}},{"$f":"F35*0.3","v":{"$error":"#VALUE!"}},{"$f":"G35","v":{"$error":"#VALUE!"}}]
[null,{"$f":"'Main Menu'!B38","v":"SY 2008-2009"},null,{"$f":"'Main Menu'!D38","v":{"v":56,"d":"56.00"}}]
[null,{"$f":"'Main Menu'!B39","v":""},null,{"$f":"'Main Menu'!D39","v":""},{"$nulls":11},{"$f":"IF(D37>=75,\"3\",\"0\")","v":"3"}]
[null,{"$f":"'Main Menu'!B40","v":""},{"$f":"(D38-D37)/D37*100","v":{"$error":"#VALUE!"}},{"$f":"'Main Menu'!D40","v":""},{"$nulls":11},{"$f":"IF(D38>=75,\"3\",\"0\")","v":"3"}]
[null,{"$f":"'Main Menu'!B41","v":""},{"$f":"(D39-D38)/D38*100","v":{"$error":"#VALUE!"}},{"$f":"'Main Menu'!D41","v":""},{"$nulls":11},{"$f":"IF(D39>=75,\"3\",\"0\")","v":"3"}]
[null,"Ave. % of Increase",{"$f":"(C38+C39)/2","v":{"$error":"#VALUE!"}},{"$nulls":12},{"$f":"(P37+P38+P39)/3","v":3}]
["Sub-Total",{"$nulls":6},{"$f":"SUM(H11:H40)","v":{"$error":"#VALUE!"}}]
[]
["Note: Only Schools having a Performance Improvement of \" Better\" can apply to the Division for SBM Validation."]
["Step 2: Compute for validated SBM Assessment Scores (40%)"]
["SBM Principles",null,"Weight",null,"Cummulative Scores of Validators per Principles",null,"Results"]
["Leadership",null,{"v":0.3,"d":"30%"},null,{"$f":"'Document Analysis, Obs. Discuss'!AP71","v":{"v":0,"d":"0.00"}},null,{"$f":"E46*0.3","v":0}]
["Curriculum & Learning",null,{"v":0.3,"d":"30%"},null,{"$f":"'Document Analysis, Obs. Discuss'!AP72","v":{"v":0,"d":"0.00"}},null,{"$f":"E47*0.3","v":0}]
["Accountability",null,{"v":0.25,"d":"25%"},null,{"$f":"'Document Analysis, Obs. Discuss'!AP73","v":{"v":0,"d":"0.00"}},null,{"$f":"E48*0.25","v":0}]
["Resource Management",null,{"v":0.15,"d":"15%"},null,{"$f":"'Document Analysis, Obs. Discuss'!AP74","v":{"v":0,"d":"0.00"}},null,{"$f":"E49*0.15","v":0}]
["Sub-total",{"$nulls":5},{"$f":"SUM(G46:G49)","v":{"v":0,"d":"0.00"}}]
["Interpretation:",null,"Good"]
[null,null,"Better"]
[null,null,"Best"]
["Legend:","Numerical Rating Scale",null,null,"Description"]
[null,"0.50-1.49",null,null,"Good"]
[null,"1.50-2.49",null,null,"Better"]
[null,"2.50-3.00",null,null,"Best"]
{"$rows_empty":7}
["Step 3: Compute for Final Rating"]
["Areas",null,"Weight",null,"Computation",null,"Results"]
["A. Performance Improvement",null,{"v":0.6,"d":"60%"},null,{"$f":"H41","v":{"$error":"#VALUE!"}},null,{"$f":"C67*E67","v":{"$error":"#VALUE!"}},{"$nulls":6},"Performance Improvement",{"$f":"E67","v":{"$error":"#VALUE!"}}]
["B. SBM Assessment Score (DOD)",null,{"v":0.4,"d":"40%"},null,{"$f":"G50","v":{"v":0,"d":"0.00"}},null,{"$f":"C68*E68","v":{"v":0,"d":"0.00"}},{"$nulls":6},"SBM Assessment Score",{"$f":"E68","v":{"v":0,"d":"0.00"}}]
["Total",{"$nulls":5},{"$f":"SUM(G67:G68)","v":{"$error":"#VALUE!"}},{"$nulls":6},"SBM Final Rating",{"$f":"G69","v":{"$error":"#VALUE!"}}]
[]
["Interpretation:"]
[null,"Developing ( Level I)"]
[null,"Maturing (Level II)"]
[null,"Advanced (Level III)"]
[]
["Description of SBM Level of Practice:"]
[null,"Numerical Rating Scale",null,null,"Description"]
[null,"0.50-1.49",null,null,"Developing"]
[null,"1.50-2.49",null,null,"Maturing"]
[null,"2.50-3.00",null,null,"Advanced"]
[]
["Results:",{"$f":"IF(G69<1.5,\"Developing level- Structures and mechanisms with acceptable level and extent of community participation and impact on learning outcomes.\",IF(G69<2.5,\"Maturing level - Introducing and sustaining continuous improvement process that integrates wider community participation and improve sinificantly performance and learning outcomes.\",IF(G69<3,\"Advanced level - Ensuring the production of intended outputs/outcomes and meeting all standards of a system fully integrated in the local community and is self-renewing and self-sustaining.\",\"\")))","v":{"$error":"#VALUE!"}}]
{"$rows_empty":17}
["Validators:"]
[null,{"$f":"'Input Menu'!B51","v":0},null,null,{"$f":"'Input Menu'!B52","v":0}]
[null,"Member",null,null,"Member"]
[]
[]
[null,{"$f":"'Input Menu'!B53","v":0},null,null,{"$f":"'Input Menu'!B54","v":0}]
[null,"Member",null,null,"Member"]
[]
[]
[]
[null,{"$f":"'Input Menu'!B50","v":0}]
[null,"Chairman"]
[{"$f":"'Main Menu'!#REF!","v":{"$error":"#REF!"}}]

{"sheet":"8Elem. ER, CR2, CSR2, NAT2","index":17,"n_rows":112,"n_cols":21,"rows_kept":112,"hidden":true,"merged":[[0,0,0,7],[1,0,1,7],[2,0,2,7],[4,0,4,7],[5,1,5,3],[5,5,5,7],[7,0,7,7],[8,1,8,2],[10,0,15,0],[10,4,15,4],[10,5,15,5],[10,6,15,6],[10,7,15,7],[16,0,33,0],[16,4,21,4],[16,5,21,5],[16,6,21,6],[16,7,33,7],[22,4,27,4],[22,5,27,5],[22,6,27,6],[28,4,33,4],[28,5,33,5],[28,6,33,6],[34,0,39,0],[34,4,39,4],[34,5,39,5],[34,6,39,6],[34,7,39,7],[40,0,40,4],[42,0,42,7],[43,0,43,7],[44,0,44,1],[44,2,44,3],[44,4,44,5],[44,6,44,7],[45,0,45,1],[45,2,45,3],[45,4,45,5],[45,6,45,7],[46,0,46,1],[46,2,46,3],[46,4,46,5],[46,6,46,7],[47,0,47,1],[47,2,47,3],[47,4,47,5],[47,6,47,7],[48,0,48,1],[48,2,48,3],[48,4,48,5],[48,6,48,7],[49,0,49,5],[49,6,49,7],[53,1,53,3],[53,4,53,5],[54,1,54,3],[54,4,54,5],[55,1,55,3],[55,4,55,5],[56,1,56,3],[56,4,56,5],[64,0,64,7],[65,0,65,1],[65,2,65,3],[65,4,65,5],[65,6,65,7],[66,0,66,1],[66,2,66,3],[66,4,66,5],[66,6,66,7],[67,0,67,1],[67,2,67,3],[67,4,67,5],[67,6,67,7],[68,0,68,5],[68,6,68,7],[75,0,75,7],[76,1,76,3],[76,4,76,5],[77,1,77,3],[77,4,77,5],[78,1,78,3],[78,4,78,5],[79,1,79,3],[79,4,79,5],[81,1,84,7],[100,1,100,2],[100,4,100,5],[101,1,101,2],[101,4,101,5],[104,1,104,2],[104,4,104,5],[105,1,105,2],[105,4,105,5],[109,1,109,5],[110,1,110,5]]}
[{"$f":"'Main Menu'!A1:F1","v":"Department of Education"}]
[{"$f":"'Main Menu'!A2:F2","v":"Region X"}]
[{"$f":"'Main Menu'!A3:F3","v":""}]
[]
["SBM Validation"]
["Name of School:",{"$f":"'Main Menu'!G6","v":0},null,null,"School Year:",{"$f":"'Main Menu'!B8","v":""},{"$nulls":4},{"$f":"B6","v":0}]
[]
["Step 1: Determine Performance Improvement (60%)"]
["Thematic Area","Performance Indicators",null,null,"Rating & Equivalent Points","Computation","Computation","Results"]
[]
["Access (45%)","Enrolment Increase","% of Increase","Enrolment",null,{"$f":"grd(C16)","v":{"$error":"#VALUE!"}},{"$f":"F11*0.45","v":{"$error":"#VALUE!"}},{"$f":"G11","v":{"$error":"#VALUE!"}}]
[null,{"$f":"'Main Menu'!B14","v":"SY 2009-2010"},null,{"$f":"'Main Menu'!D14","v":990}]
[null,{"$f":"'Main Menu'!B15","v":""},null,{"$f":"'Main Menu'!D15","v":""},{"$nulls":6},"SY 2009-2010"]
[null,{"$f":"'Main Menu'!B16","v":""},{"$f":"((D14-D13)/D13)*100","v":{"$error":"#VALUE!"}},{"$f":"'Main Menu'!D16","v":""},{"$nulls":6},"SY 2010-2011"]
[null,{"$f":"'Main Menu'!B17","v":""},{"$f":"((D15-D14)/D14)*100","v":{"$error":"#VALUE!"}},{"$f":"'Main Menu'!D17","v":""},{"$nulls":6},"SY 2011-2012"]
[null,"Ave. % of Increase",{"$f":"AVERAGE(C14:C15)","v":{"$error":"#VALUE!"}},{"$nulls":7},"SY 2012-2013"]
["Efficiency (25%)","Dropout Rate (DR):","% of decrease","Dropout",null,{"$f":"IF(C22>=5,\"1\",IF(C22>=2,\"2\",IF(C22<2,\"3\",\"0\")))","v":{"$error":"#VALUE!"}},{"$f":"F17*0.0833","v":{"$error":"#VALUE!"}},{"$f":"SUM(G17:G34)","v":{"$error":"#VALUE!"}},null,null,"SY 2013-2014"]
[null,{"$f":"'Main Menu'!B20","v":"SY 2008-2009"},null,{"$f":"'Main Menu'!D20","v":0.02}]
[null,{"$f":"'Main Menu'!B21","v":""},null,{"$f":"'Main Menu'!D21","v":""},{"$nulls":6},"SY 2014- 2015"]
[null,{"$f":"'Main Menu'!B22","v":""},{"$f":"((D20-D19))","v":{"$error":"#VALUE!"}},{"$f":"'Main Menu'!D22","v":""},{"$nulls":6},"SY 2015- 2016"]
[null,{"$f":"'Main Menu'!B23","v":""},{"$f":"D21-D20","v":{"$error":"#VALUE!"}},{"$f":"'Main Menu'!D23","v":""},{"$nulls":6},"SY 2016-2017"]
[null,"Ave. % of Decrease",{"$f":"(C20+C21)/2","v":{"$error":"#VALUE!"}}]
[null,"Completion Rate (CR):","% of Increase","Completion",null,{"$f":"N28","v":3},{"$f":"F23*0.0833","v":{"v":0.2499,"d":"0.25"}},{"$nulls":3},"SY 2017-2018"]
[null,{"$f":"'Main Menu'!B26","v":"SY 2008-2009"},null,{"$f":"'Main Menu'!D26","v":65}]
[null,{"$f":"'Main Menu'!B27","v":""},null,{"$f":"'Main Menu'!D27","v":""},{"$nulls":6},"SY 2018- 2019",null,null,{"$f":"IF(D25>=95,\"3\",\"0\")","v":"3"}]
[null,{"$f":"'Main Menu'!B28","v":""},null,{"$f":"'Main Menu'!D28","v":""},{"$nulls":6},"SY 2019- 2020",null,null,{"$f":"IF(D26>=95,\"3\",\"0\")","v":"3"}]
[null,{"$f":"'Main Menu'!B29","v":""},null,{"$f":"'Main Menu'!D29","v":""},{"$nulls":9},{"$f":"IF(D27>=95,\"3\",\"0\")","v":"3"}]
[null,"Ave. % of Increase",{"$nulls":11},{"$f":"(N25+N26+N27)/3","v":3}]
[null,"Cohort Survival Rate (CSR):","% of Increase","Cohort Survival",null,{"$f":"R34","v":2},{"$f":"F29*0.0834","v":{"v":0.1668,"d":"0.17"}}]
[null,{"$f":"'Main Menu'!B32","v":"SY 2008-2009"},null,{"$f":"'Main Menu'!D32","v":58}]
[null,{"$f":"'Main Menu'!B33","v":""},null,{"$f":"'Main Menu'!D33","v":{"v":95,"d":"95.00"}},{"$nulls":13},{"$f":"IF(D31>=95,\"3\",\"0\")","v":"3"}]
[null,{"$f":"'Main Menu'!B34","v":""},null,{"$f":"'Main Menu'!D34","v":{"v":96,"d":"96.00"}},{"$nulls":13},{"$f":"IF(D32>=95,\"3\",\"0\")","v":"3"}]
[null,{"$f":"'Main Menu'!B35","v":""},null,{"$f":"'Main Menu'!D35","v":83.72},{"$nulls":13},{"$f":"IF(D33>=95,\"3\",\"0\")","v":"0"}]
[null,"Ave. % of Increase",{"$nulls":15},{"$f":"(R31+R32+R33)/3","v":2}]
["Quality (30%)","NAT MPS","% of Increase","NAT MPS",null,{"$f":"U40","v":3},{"$f":"F35*0.3","v":0.8999999999999999},{"$f":"G35","v":0.8999999999999999}]
[null,{"$f":"'Main Menu'!B38","v":"SY 2008-2009"},null,{"$f":"'Main Menu'!D38","v":{"v":56,"d":"56.00"}}]
[null,{"$f":"'Main Menu'!B39","v":""},null,{"$f":"'Main Menu'!D39","v":""},{"$nulls":11},{"$f":"IF(D37>=75,\"3\",\"0\")","v":"3"},{"$nulls":4},{"$f":"IF(D37>=75,\"3\",\"0\")","v":"3"}]
[null,{"$f":"'Main Menu'!B40","v":""},null,{"$f":"'Main Menu'!D40","v":""},{"$nulls":11},{"$f":"IF(D38>=75,\"3\",\"0\")","v":"3"},{"$nulls":4},{"$f":"IF(D38>=75,\"3\",\"0\")","v":"3"}]
[null,{"$f":"'Main Menu'!B41","v":""},null,{"$f":"'Main Menu'!D41","v":""},{"$nulls":11},{"$f":"IF(D39>=75,\"3\",\"0\")","v":"3"},{"$nulls":4},{"$f":"IF(D39>=75,\"3\",\"0\")","v":"3"}]
[null,"Ave. % of Increase",{"$nulls":13},{"$f":"(P37+P38+P39)/3","v":3},{"$nulls":4},{"$f":"(U37+U38+U39)/3","v":3}]
["Sub-Total",{"$nulls":6},{"$f":"SUM(H11:H40)","v":{"$error":"#VALUE!"}}]
[]
["Note: Only Schools having a Performance Improvement of \" Better\" can apply to the Division for SBM Validation."]
["Step 2: Compute for validated SBM Assessment Scores (40%)"]
["SBM Principles",null,"Weight",null,"Cummulative Scores of Validators per Principles",null,"Results"]
["Leadership",null,{"v":0.3,"d":"30%"},null,{"$f":"'Document Analysis, Obs. Discuss'!AP71","v":{"v":0,"d":"0.00"}},null,{"$f":"E46*0.3","v":0}]
["Curriculum & Learning",null,{"v":0.3,"d":"30%"},null,{"$f":"'Document Analysis, Obs. Discuss'!AP72","v":{"v":0,"d":"0.00"}},null,{"$f":"E47*0.3","v":0}]
["Accountability",null,{"v":0.25,"d":"25%"},null,{"$f":"'Document Analysis, Obs. Discuss'!AP73","v":{"v":0,"d":"0.00"}},null,{"$f":"E48*0.25","v":0}]
["Resource Management",null,{"v":0.15,"d":"15%"},null,{"$f":"'Document Analysis, Obs. Discuss'!AP74","v":{"v":0,"d":"0.00"}},null,{"$f":"E49*0.15","v":0}]
["Sub-total",{"$nulls":5},{"$f":"SUM(G46:G49)","v":{"v":0,"d":"0.00"}}]
["Interpretation:",null,"Good"]
[null,null,"Better"]
[null,null,"Best"]
["Legend:","Numerical Rating Scale",null,null,"Description"]
[null,"0.50-1.49",null,null,"Good"]
[null,"1.50-2.49",null,null,"Better"]
[null,"2.50-3.00",null,null,"Best"]
{"$rows_empty":7}
["Step 3: Compute for Final Rating"]
["Areas",null,"Weight",null,"Computation",null,"Results"]
["A. Performance Improvement",null,{"v":0.6,"d":"60%"},null,{"$f":"H41","v":{"$error":"#VALUE!"}},null,{"$f":"C67*E67","v":{"$error":"#VALUE!"}},{"$nulls":6},"Performance Improvement",{"$f":"E67","v":{"$error":"#VALUE!"}}]
["B. SBM Assessment Score (DOD)",null,{"v":0.4,"d":"40%"},null,{"$f":"G50","v":{"v":0,"d":"0.00"}},null,{"$f":"C68*E68","v":{"v":0,"d":"0.00"}},{"$nulls":6},"SBM Assessment Score",{"$f":"E68","v":{"v":0,"d":"0.00"}}]
["Total",{"$nulls":5},{"$f":"SUM(G67:G68)","v":{"$error":"#VALUE!"}},{"$nulls":6},"SBM Final Rating",{"$f":"G69","v":{"$error":"#VALUE!"}}]
[]
["Interpretation:"]
[null,"Developing ( Level I)"]
[null,"Maturing (Level II)"]
[null,"Advanced (Level III)"]
[]
["Description of SBM Level of Practice:"]
[null,"Numerical Rating Scale",null,null,"Description"]
[null,"0.50-1.49",null,null,"Developing"]
[null,"1.50-2.49",null,null,"Maturing"]
[null,"2.50-3.00",null,null,"Advanced"]
[]
["Results:",{"$f":"IF(G69<1.5,\"Developing level- Structures and mechanisms with acceptable level and extent of community participation and impact on learning outcomes.\",IF(G69<2.5,\"Maturing level - Introducing and sustaining continuous improvement process that integrates wider community participation and improve sinificantly performance and learning outcomes.\",IF(G69<3,\"Advanced level - Ensuring the production of intended outputs/outcomes and meeting all standards of a system fully integrated in the local community and is self-renewing and self-sustaining.\",\"\")))","v":{"$error":"#VALUE!"}}]
{"$rows_empty":17}
["Validators:"]
[null,{"$f":"'Input Menu'!B51","v":0},null,null,{"$f":"'Input Menu'!B52","v":0}]
[null,"Member",null,null,"Member"]
[]
[]
[null,{"$f":"'Input Menu'!B53","v":0},null,null,{"$f":"'Input Menu'!B54","v":0}]
[null,"Member",null,null,"Member"]
[]
[]
[]
[null,{"$f":"'Input Menu'!B50","v":0}]
[null,"Chairman"]
[{"$f":"'Main Menu'!#REF!","v":{"$error":"#REF!"}}]

{"sheet":"11Elem. PR, CR1, CSR2, NAT1","index":18,"n_rows":112,"n_cols":15,"rows_kept":112,"hidden":true,"merged":[[0,0,0,7],[1,0,1,7],[2,0,2,7],[4,0,4,7],[5,1,5,3],[5,5,5,7],[7,0,7,7],[8,1,8,2],[10,0,15,0],[10,4,15,4],[10,5,15,5],[10,6,15,6],[10,7,15,7],[15,1,15,3],[16,0,33,0],[16,4,21,4],[16,5,21,5],[16,6,21,6],[16,7,33,7],[22,4,27,4],[22,5,27,5],[22,6,27,6],[28,4,33,4],[28,5,33,5],[28,6,33,6],[34,0,39,0],[34,4,39,4],[34,5,39,5],[34,6,39,6],[34,7,39,7],[40,0,40,4],[42,0,42,7],[43,0,43,7],[44,0,44,1],[44,2,44,3],[44,4,44,5],[44,6,44,7],[45,0,45,1],[45,2,45,3],[45,4,45,5],[45,6,45,7],[46,0,46,1],[46,2,46,3],[46,4,46,5],[46,6,46,7],[47,0,47,1],[47,2,47,3],[47,4,47,5],[47,6,47,7],[48,0,48,1],[48,2,48,3],[48,4,48,5],[48,6,48,7],[49,0,49,5],[49,6,49,7],[53,1,53,3],[53,4,53,5],[54,1,54,3],[54,4,54,5],[55,1,55,3],[55,4,55,5],[56,1,56,3],[56,4,56,5],[64,0,64,7],[65,0,65,1],[65,2,65,3],[65,4,65,5],[65,6,65,7],[66,0,66,1],[66,2,66,3],[66,4,66,5],[66,6,66,7],[67,0,67,1],[67,2,67,3],[67,4,67,5],[67,6,67,7],[68,0,68,5],[68,6,68,7],[75,0,75,7],[76,1,76,3],[76,4,76,5],[77,1,77,3],[77,4,77,5],[78,1,78,3],[78,4,78,5],[79,1,79,3],[79,4,79,5],[81,1,84,7],[100,1,100,2],[100,4,100,5],[101,1,101,2],[101,4,101,5],[104,1,104,2],[104,4,104,5],[105,1,105,2],[105,4,105,5],[109,1,109,5],[110,1,110,5]]}
[{"$f":"'Main Menu'!A1:F1","v":"Department of Education"}]
[{"$f":"'Main Menu'!A2:F2","v":"Region X"}]
[{"$f":"'Main Menu'!A3:F3","v":""}]
[]
["SBM Validation"]
["Name of School:",{"$f":"'Main Menu'!G6","v":0},null,null,"School Year:",{"$f":"'Main Menu'!B8","v":""},{"$nulls":4},{"$f":"B6","v":0}]
[]
["Step 1: Determine Performance Improvement (60%)"]
["Thematic Area","Performance Indicators",null,null,"Rating & Equivalent Points","Computation","Computation","Results"]
[]
["Access (45%)","Enrolment Increase","% of Increase","Participation Rate",null,{"$f":"N16","v":3},{"$f":"F11*0.45","v":1.35},{"$f":"G11","v":1.35}]
[null,{"$f":"'Main Menu'!B14","v":"SY 2009-2010"},null,{"$f":"'Main Menu'!D14","v":990}]
[null,{"$f":"'Main Menu'!B15","v":""},null,{"$f":"'Main Menu'!F15","v":""},{"$nulls":6},"SY 2009-2010",null,null,{"$f":"IF(D13>=95,\"3\",IF(D13>=90,\"2\",IF(D13>=85,\"1\",\"0\")))","v":"3"}]
[null,{"$f":"'Main Menu'!B16","v":""},null,{"$f":"'Main Menu'!F16","v":""},{"$nulls":6},"SY 2010-2011",null,null,{"$f":"IF(D14>=95,\"3\",IF(D14>=90,\"2\",IF(D14>=85,\"1\",\"0\")))","v":"3"}]
[null,{"$f":"'Main Menu'!B17","v":""},null,{"$f":"'Main Menu'!F17","v":""},{"$nulls":6},"SY 2011-2012",null,null,{"$f":"IF(D15>=95,\"3\",IF(D15>=90,\"2\",IF(D15>=85,\"1\",\"0\")))","v":"3"}]
[null,{"$f":"'Main Menu'!M72","v":0},{"$nulls":8},"SY 2012-2013",null,null,{"$f":"(N13+N14+N15)/3","v":3}]
["Efficiency (25%)","Dropout Rate (DR):","% of decrease","Dropout",null,{"$f":"IF(C22>=5,\"1\",IF(C22>=2,\"2\",IF(C22<2,\"3\",\"0\")))","v":{"$error":"#VALUE!"}},{"$f":"F17*0.0833","v":{"$error":"#VALUE!"}},{"$f":"SUM(G17:G34)","v":{"$error":"#VALUE!"}},null,null,"SY 2013-2014"]
[null,{"$f":"'Main Menu'!B20","v":"SY 2008-2009"},null,{"$f":"'Main Menu'!D20","v":0.02}]
[null,{"$f":"'Main Menu'!B21","v":""},null,{"$f":"'Main Menu'!D21","v":""},{"$nulls":6},"SY 2014- 2015"]
[null,{"$f":"'Main Menu'!B22","v":""},{"$f":"D20-D19","v":{"$error":"#VALUE!"}},{"$f":"'Main Menu'!D22","v":""},{"$nulls":6},"SY 2015- 2016"]
[null,{"$f":"'Main Menu'!B23","v":""},{"$f":"D21-D20","v":{"$error":"#VALUE!"}},{"$f":"'Main Menu'!D23","v":""},{"$nulls":6},"SY 2016-2017"]
[null,"Ave. % of Decrease",{"$f":"(C20+C21)/2","v":{"$error":"#VALUE!"}}]
[null,"Completion Rate (CR):","% of Increase","Completion",null,{"$f":"IF(C28>=5,\"1\",IF(C28>=7,\"2\",IF(C28>=10,\"3\",\"0\")))","v":{"$error":"#VALUE!"}},{"$f":"F23*0.0833","v":{"$error":"#VALUE!"}},{"$nulls":3},"SY 2017-2018"]
[null,{"$f":"'Main Menu'!B26","v":"SY 2008-2009"},null,{"$f":"'Main Menu'!D26","v":65}]
[null,{"$f":"'Main Menu'!B27","v":""},null,{"$f":"'Main Menu'!D27","v":""},{"$nulls":6},"SY 2018- 2019",null,null,{"$f":"IF(D25>=95,\"3\",\"0\")","v":"3"}]
[null,{"$f":"'Main Menu'!B28","v":""},{"$f":"(D26-D25)/D25*100","v":{"$error":"#VALUE!"}},{"$f":"'Main Menu'!D28","v":""},{"$nulls":6},"SY 2019- 2020",null,null,{"$f":"IF(D26>=95,\"3\",\"0\")","v":"3"}]
[null,{"$f":"'Main Menu'!B29","v":""},{"$f":"(D27-D26)/D26*100","v":{"$error":"#VALUE!"}},{"$f":"'Main Menu'!D29","v":""},{"$nulls":9},{"$f":"IF(D27>=95,\"3\",\"0\")","v":"3"}]
[null,"Ave. % of Increase",{"$f":"AVERAGE(C26:C27)","v":{"$error":"#VALUE!"}},{"$nulls":10},{"$f":"(N25+N26+N27)/3","v":3}]
[null,"Cohort Survival Rate (CSR):","% of Increase","Cohort Survival",null,{"$f":"N34","v":2},{"$f":"F29*0.0834","v":{"v":0.1668,"d":"0.17"}}]
[null,{"$f":"'Main Menu'!B32","v":"SY 2008-2009"},null,{"$f":"'Main Menu'!D32","v":58}]
[null,{"$f":"'Main Menu'!B33","v":""},null,{"$f":"'Main Menu'!D33","v":{"v":95,"d":"95.00"}},{"$nulls":9},{"$f":"IF(D31>=95,\"3\",\"0\")","v":"3"}]
[null,{"$f":"'Main Menu'!B34","v":""},null,{"$f":"'Main Menu'!D34","v":{"v":96,"d":"96.00"}},{"$nulls":9},{"$f":"IF(D32>=95,\"3\",\"0\")","v":"3"}]
[null,{"$f":"'Main Menu'!B35","v":""},null,{"$f":"'Main Menu'!D35","v":83.72},{"$nulls":9},{"$f":"IF(D33>=95,\"3\",\"0\")","v":"0"}]
[null,"Ave. % of Increase",{"$nulls":11},{"$f":"(N31+N32+N33)/3","v":2}]
["Quality (30%)","NAT MPS","% of Increase","NAT MPS",null,{"$f":"IF(C40>=7,\"3\",IF(C40>=5,\"2\",IF(C40>=2,\"1\",\"0\")))","v":{"$error":"#VALUE!"}},{"$f":"F35*0.3","v":{"$error":"#VALUE!"}},{"$f":"G35","v":{"$error":"#VALUE!"}}]
[null,{"$f":"'Main Menu'!B38","v":"SY 2008-2009"},null,{"$f":"'Main Menu'!D38","v":{"v":56,"d":"56.00"}}]
[null,{"$f":"'Main Menu'!B39","v":""},null,{"$f":"'Main Menu'!D39","v":""}]
[null,{"$f":"'Main Menu'!B40","v":""},{"$f":"(D38-D37)/D37*100","v":{"$error":"#VALUE!"}},{"$f":"'Main Menu'!D40","v":""}]
[null,{"$f":"'Main Menu'!B41","v":""},{"$f":"(D39-D38)/D38*100","v":{"$error":"#VALUE!"}},{"$f":"'Main Menu'!D41","v":""}]
[null,"Ave. % of Increase",{"$f":"AVERAGE(C38:C39)","v":{"$error":"#VALUE!"}}]
["Sub-Total",{"$nulls":6},{"$f":"SUM(H11:H40)","v":{"$error":"#VALUE!"}}]
[]
["Note: Only Schools having a Performance Improvement of \" Better\" can apply to the Division for SBM Validation."]
["Step 2: Compute for validated SBM Assessment Scores (40%)"]
["SBM Principles",null,"Weight",null,"Cummulative Scores of Validators per Principles",null,"Results"]
["Leadership",null,{"v":0.3,"d":"30%"},null,{"$f":"'Document Analysis, Obs. Discuss'!AP71","v":{"v":0,"d":"0.00"}},null,{"$f":"E46*0.3","v":0}]
["Curriculum & Learning",null,{"v":0.3,"d":"30%"},null,{"$f":"'Document Analysis, Obs. Discuss'!AP72","v":{"v":0,"d":"0.00"}},null,{"$f":"E47*0.3","v":0}]
["Accountability",null,{"v":0.25,"d":"25%"},null,{"$f":"'Document Analysis, Obs. Discuss'!AP73","v":{"v":0,"d":"0.00"}},null,{"$f":"E48*0.25","v":0}]
["Resource Management",null,{"v":0.15,"d":"15%"},null,{"$f":"'Document Analysis, Obs. Discuss'!AP74","v":{"v":0,"d":"0.00"}},null,{"$f":"E49*0.15","v":0}]
["Sub-total",{"$nulls":5},{"$f":"SUM(G46:G49)","v":{"v":0,"d":"0.00"}}]
["Interpretation:",null,"Good"]
[null,null,"Better"]
[null,null,"Best"]
["Legend:","Numerical Rating Scale",null,null,"Description"]
[null,"0.50-1.49",null,null,"Good"]
[null,"1.50-2.49",null,null,"Better"]
[null,"2.50-3.00",null,null,"Best"]
{"$rows_empty":7}
["Step 3: Compute for Final Rating"]
["Areas",null,"Weight",null,"Computation",null,"Results"]
["A. Performance Improvement",null,{"v":0.6,"d":"60%"},null,{"$f":"H41","v":{"$error":"#VALUE!"}},null,{"$f":"C67*E67","v":{"$error":"#VALUE!"}},{"$nulls":6},"Performance Improvement",{"$f":"E67","v":{"$error":"#VALUE!"}}]
["B. SBM Assessment Score (DOD)",null,{"v":0.4,"d":"40%"},null,{"$f":"G50","v":{"v":0,"d":"0.00"}},null,{"$f":"C68*E68","v":{"v":0,"d":"0.00"}},{"$nulls":6},"SBM Assessment Score",{"$f":"E68","v":{"v":0,"d":"0.00"}}]
["Total",{"$nulls":5},{"$f":"SUM(G67:G68)","v":{"$error":"#VALUE!"}},{"$nulls":6},"SBM Final Rating",{"$f":"G69","v":{"$error":"#VALUE!"}}]
[]
["Interpretation:"]
[null,"Developing ( Level I)"]
[null,"Maturing (Level II)"]
[null,"Advanced (Level III)"]
[]
["Description of SBM Level of Practice:"]
[null,"Numerical Rating Scale",null,null,"Description"]
[null,"0.50-1.49",null,null,"Developing"]
[null,"1.50-2.49",null,null,"Maturing"]
[null,"2.50-3.00",null,null,"Advanced"]
[]
["Results:",{"$f":"IF(G69<1.5,\"Developing level- Structures and mechanisms with acceptable level and extent of community participation and impact on learning outcomes.\",IF(G69<2.5,\"Maturing level - Introducing and sustaining continuous improvement process that integrates wider community participation and improve sinificantly performance and learning outcomes.\",IF(G69<3,\"Advanced level - Ensuring the production of intended outputs/outcomes and meeting all standards of a system fully integrated in the local community and is self-renewing and self-sustaining.\",\"\")))","v":{"$error":"#VALUE!"}}]
{"$rows_empty":17}
["Validators:"]
[null,{"$f":"'Input Menu'!B51","v":0},null,null,{"$f":"'Input Menu'!B52","v":0}]
[null,"Member",null,null,"Member"]
[]
[]
[null,{"$f":"'Input Menu'!B53","v":0},null,null,{"$f":"'Input Menu'!B54","v":0}]
[null,"Member",null,null,"Member"]
[]
[]
[]
[null,{"$f":"'Input Menu'!B50","v":0}]
[null,"Chairman"]
[{"$f":"'Main Menu'!#REF!","v":{"$error":"#REF!"}}]

{"sheet":"12Elem. PR, CR1, CSR2, NAT2","index":19,"n_rows":112,"n_cols":16,"rows_kept":112,"hidden":true,"merged":[[0,0,0,7],[1,0,1,7],[2,0,2,7],[4,0,4,7],[5,1,5,3],[5,5,5,7],[7,0,7,7],[8,1,8,2],[10,0,15,0],[10,4,15,4],[10,5,15,5],[10,6,15,6],[10,7,15,7],[15,1,15,3],[16,0,33,0],[16,4,21,4],[16,5,21,5],[16,6,21,6],[16,7,33,7],[22,4,27,4],[22,5,27,5],[22,6,27,6],[28,4,33,4],[28,5,33,5],[28,6,33,6],[34,0,39,0],[34,4,39,4],[34,5,39,5],[34,6,39,6],[34,7,39,7],[40,0,40,4],[42,0,42,7],[43,0,43,7],[44,0,44,1],[44,2,44,3],[44,4,44,5],[44,6,44,7],[45,0,45,1],[45,2,45,3],[45,4,45,5],[45,6,45,7],[46,0,46,1],[46,2,46,3],[46,4,46,5],[46,6,46,7],[47,0,47,1],[47,2,47,3],[47,4,47,5],[47,6,47,7],[48,0,48,1],[48,2,48,3],[48,4,48,5],[48,6,48,7],[49,0,49,5],[49,6,49,7],[53,1,53,3],[53,4,53,5],[54,1,54,3],[54,4,54,5],[55,1,55,3],[55,4,55,5],[56,1,56,3],[56,4,56,5],[64,0,64,7],[65,0,65,1],[65,2,65,3],[65,4,65,5],[65,6,65,7],[66,0,66,1],[66,2,66,3],[66,4,66,5],[66,6,66,7],[67,0,67,1],[67,2,67,3],[67,4,67,5],[67,6,67,7],[68,0,68,5],[68,6,68,7],[75,0,75,7],[76,1,76,3],[76,4,76,5],[77,1,77,3],[77,4,77,5],[78,1,78,3],[78,4,78,5],[79,1,79,3],[79,4,79,5],[81,1,84,7],[100,1,100,2],[100,4,100,5],[101,1,101,2],[101,4,101,5],[104,1,104,2],[104,4,104,5],[105,1,105,2],[105,4,105,5],[109,1,109,5],[110,1,110,5]]}
[{"$f":"'Main Menu'!A1:F1","v":"Department of Education"}]
[{"$f":"'Main Menu'!A2:F2","v":"Region X"}]
[{"$f":"'Main Menu'!A3:F3","v":""}]
[]
["SBM Validation"]
["Name of School:",{"$f":"'Main Menu'!G6","v":0},null,null,"School Year:",{"$f":"'Main Menu'!B8","v":""},{"$nulls":4},{"$f":"B6","v":0}]
[]
["Step 1: Determine Performance Improvement (60%)"]
["Thematic Area","Performance Indicators",null,null,"Rating & Equivalent Points","Computation","Computation","Results"]
[]
["Access (45%)","Enrolment Increase","% of Increase","Participation Rate",null,{"$f":"P16","v":3},{"$f":"F11*0.45","v":1.35},{"$f":"G11","v":1.35}]
[null,{"$f":"'Main Menu'!B14","v":"SY 2009-2010"},null,{"$f":"'Main Menu'!D14","v":990}]
[null,{"$f":"'Main Menu'!B15","v":""},null,{"$f":"'Main Menu'!F15","v":""},{"$nulls":6},"SY 2009-2010",{"$nulls":4},{"$f":"IF(D13>=95,\"3\",IF(D13>=90,\"2\",IF(D13>=85,\"1\",\"0\")))","v":"3"}]
[null,{"$f":"'Main Menu'!B16","v":""},null,{"$f":"'Main Menu'!F16","v":""},{"$nulls":6},"SY 2010-2011",{"$nulls":4},{"$f":"IF(D14>=95,\"3\",IF(D14>=90,\"2\",IF(D14>=85,\"1\",\"0\")))","v":"3"}]
[null,{"$f":"'Main Menu'!B17","v":""},null,{"$f":"'Main Menu'!F17","v":""},{"$nulls":6},"SY 2011-2012",{"$nulls":4},{"$f":"IF(D15>=95,\"3\",IF(D15>=90,\"2\",IF(D15>=85,\"1\",\"0\")))","v":"3"}]
[null,{"$f":"'Main Menu'!M72","v":0},{"$nulls":8},"SY 2012-2013",{"$nulls":4},{"$f":"(P13+P14+P15)/3","v":3}]
["Efficiency (25%)","Dropout Rate (DR):","% of decrease","Dropout",null,{"$f":"IF(C22>=5,\"1\",IF(C22>=2,\"2\",IF(C22<2,\"3\",\"0\")))","v":{"$error":"#VALUE!"}},{"$f":"F17*0.0833","v":{"$error":"#VALUE!"}},{"$f":"SUM(G17:G34)","v":{"$error":"#VALUE!"}},null,null,"SY 2013-2014"]
[null,{"$f":"'Main Menu'!B20","v":"SY 2008-2009"},null,{"$f":"'Main Menu'!D20","v":0.02}]
[null,{"$f":"'Main Menu'!B21","v":""},null,{"$f":"'Main Menu'!D21","v":""},{"$nulls":6},"SY 2014- 2015"]
[null,{"$f":"'Main Menu'!B22","v":""},{"$f":"D20-D19","v":{"$error":"#VALUE!"}},{"$f":"'Main Menu'!D22","v":""},{"$nulls":6},"SY 2015- 2016"]
[null,{"$f":"'Main Menu'!B23","v":""},{"$f":"D21-D20","v":{"$error":"#VALUE!"}},{"$f":"'Main Menu'!D23","v":""},{"$nulls":6},"SY 2016-2017"]
[null,"Ave. % of Decrease",{"$f":"(C20+C21)/2","v":{"$error":"#VALUE!"}}]
[null,"Completion Rate (CR):","% of Increase","Completion",null,{"$f":"grd(C28)","v":{"$error":"#VALUE!"}},{"$f":"F23*0.0833","v":{"$error":"#VALUE!"}},{"$nulls":3},"SY 2017-2018"]
[null,{"$f":"'Main Menu'!B26","v":"SY 2008-2009"},null,{"$f":"'Main Menu'!D26","v":65}]
[null,{"$f":"'Main Menu'!B27","v":""},null,{"$f":"'Main Menu'!D27","v":""},{"$nulls":6},"SY 2018- 2019"]
[null,{"$f":"'Main Menu'!B28","v":""},{"$f":"(D26-D25)/D25*100","v":{"$error":"#VALUE!"}},{"$f":"'Main Menu'!D28","v":""},{"$nulls":6},"SY 2019- 2020"]
[null,{"$f":"'Main Menu'!B29","v":""},{"$f":"(D27-D26)/D26*100","v":{"$error":"#VALUE!"}},{"$f":"'Main Menu'!D29","v":""}]
[null,"Ave. % of Increase",{"$f":"(C26+C27)/2","v":{"$error":"#VALUE!"}}]
[null,"Cohort Survival Rate (CSR):","% of Increase","Cohort Survival",null,{"$f":"P34","v":2},{"$f":"F29*0.0834","v":{"v":0.1668,"d":"0.17"}}]
[null,{"$f":"'Main Menu'!B32","v":"SY 2008-2009"},null,{"$f":"'Main Menu'!D32","v":58}]
[null,{"$f":"'Main Menu'!B33","v":""},null,{"$f":"'Main Menu'!D33","v":{"v":95,"d":"95.00"}},{"$nulls":11},{"$f":"IF(D31>=95,\"3\",\"0\")","v":"3"}]
[null,{"$f":"'Main Menu'!B34","v":""},null,{"$f":"'Main Menu'!D34","v":{"v":96,"d":"96.00"}},{"$nulls":11},{"$f":"IF(D32>=95,\"3\",\"0\")","v":"3"}]
[null,{"$f":"'Main Menu'!B35","v":""},null,{"$f":"'Main Menu'!D35","v":83.72},{"$nulls":11},{"$f":"IF(D33>=95,\"3\",\"0\")","v":"0"}]
[null,"Ave. % of Increase",{"$nulls":13},{"$f":"(P31+P32+P33)/3","v":2}]
["Quality (30%)","NAT MPS","% of Increase","NAT MPS",null,{"$f":"O40","v":3},{"$f":"F35*0.3","v":0.8999999999999999},{"$f":"G35","v":0.8999999999999999}]
[null,{"$f":"'Main Menu'!B38","v":"SY 2008-2009"},null,{"$f":"'Main Menu'!D38","v":{"v":56,"d":"56.00"}}]
[null,{"$f":"'Main Menu'!B39","v":""},null,{"$f":"'Main Menu'!D39","v":""},{"$nulls":10},{"$f":"IF(D37>=75,\"3\",\"0\")","v":"3"}]
[null,{"$f":"'Main Menu'!B40","v":""},null,{"$f":"'Main Menu'!D40","v":""},{"$nulls":10},{"$f":"IF(D38>=75,\"3\",\"0\")","v":"3"}]
[null,{"$f":"'Main Menu'!B41","v":""},null,{"$f":"'Main Menu'!D41","v":""},{"$nulls":10},{"$f":"IF(D39>=75,\"3\",\"0\")","v":"3"}]
[null,"Ave. % of Increase",{"$nulls":12},{"$f":"(O37+O38+O39)/3","v":3}]
["Sub-Total",{"$nulls":6},{"$f":"SUM(H11:H40)","v":{"$error":"#VALUE!"}}]
[]
["Note: Only Schools having a Performance Improvement of \" Better\" can apply to the Division for SBM Validation."]
["Step 2: Compute for validated SBM Assessment Scores (40%)"]
["SBM Principles",null,"Weight",null,"Cummulative Scores of Validators per Principles",null,"Results"]
["Leadership",null,{"v":0.3,"d":"30%"},null,{"$f":"'Document Analysis, Obs. Discuss'!AP71","v":{"v":0,"d":"0.00"}},null,{"$f":"E46*0.3","v":0}]
["Curriculum & Learning",null,{"v":0.3,"d":"30%"},null,{"$f":"'Document Analysis, Obs. Discuss'!AP72","v":{"v":0,"d":"0.00"}},null,{"$f":"E47*0.3","v":0}]
["Accountability",null,{"v":0.25,"d":"25%"},null,{"$f":"'Document Analysis, Obs. Discuss'!AP73","v":{"v":0,"d":"0.00"}},null,{"$f":"E48*0.25","v":0}]
["Resource Management",null,{"v":0.15,"d":"15%"},null,{"$f":"'Document Analysis, Obs. Discuss'!AP74","v":{"v":0,"d":"0.00"}},null,{"$f":"E49*0.15","v":0}]
["Sub-total",{"$nulls":5},{"$f":"SUM(G46:G49)","v":{"v":0,"d":"0.00"}}]
["Interpretation:",null,"Good"]
[null,null,"Better"]
[null,null,"Best"]
["Legend:","Numerical Rating Scale",null,null,"Description"]
[null,"0.50-1.49",null,null,"Good"]
[null,"1.50-2.49",null,null,"Better"]
[null,"2.50-3.00",null,null,"Best"]
{"$rows_empty":7}
["Step 3: Compute for Final Rating"]
["Areas",null,"Weight",null,"Computation",null,"Results"]
["A. Performance Improvement",null,{"v":0.6,"d":"60%"},null,{"$f":"H41","v":{"$error":"#VALUE!"}},null,{"$f":"C67*E67","v":{"$error":"#VALUE!"}},{"$nulls":6},"Performance Improvement",{"$f":"E67","v":{"$error":"#VALUE!"}}]
["B. SBM Assessment Score (DOD)",null,{"v":0.4,"d":"40%"},null,{"$f":"G50","v":{"v":0,"d":"0.00"}},null,{"$f":"C68*E68","v":{"v":0,"d":"0.00"}},{"$nulls":6},"SBM Assessment Score",{"$f":"E68","v":{"v":0,"d":"0.00"}}]
["Total",{"$nulls":5},{"$f":"SUM(G67:G68)","v":{"$error":"#VALUE!"}},{"$nulls":6},"SBM Final Rating",{"$f":"G69","v":{"$error":"#VALUE!"}}]
[]
["Interpretation:"]
[null,"Developing ( Level I)"]
[null,"Maturing (Level II)"]
[null,"Advanced (Level III)"]
[]
["Description of SBM Level of Practice:"]
[null,"Numerical Rating Scale",null,null,"Description"]
[null,"0.50-1.49",null,null,"Developing"]
[null,"1.50-2.49",null,null,"Maturing"]
[null,"2.50-3.00",null,null,"Advanced"]
[]
["Results:",{"$f":"IF(G69<1.5,\"Developing level- Structures and mechanisms with acceptable level and extent of community participation and impact on learning outcomes.\",IF(G69<2.5,\"Maturing level - Introducing and sustaining continuous improvement process that integrates wider community participation and improve sinificantly performance and learning outcomes.\",IF(G69<3,\"Advanced level - Ensuring the production of intended outputs/outcomes and meeting all standards of a system fully integrated in the local community and is self-renewing and self-sustaining.\",\"\")))","v":{"$error":"#VALUE!"}}]
{"$rows_empty":17}
["Validators:"]
[null,{"$f":"'Input Menu'!B51","v":0},null,null,{"$f":"'Input Menu'!B52","v":0}]
[null,"Member",null,null,"Member"]
[]
[]
[null,{"$f":"'Input Menu'!B53","v":0},null,null,{"$f":"'Input Menu'!B54","v":0}]
[null,"Member",null,null,"Member"]
[]
[]
[]
[null,{"$f":"'Input Menu'!B50","v":0}]
[null,"Chairman"]
[{"$f":"'Main Menu'!#REF!","v":{"$error":"#REF!"}}]

{"sheet":"13Elem. PR, CR2, CSR1, NAT1","index":20,"n_rows":112,"n_cols":17,"rows_kept":112,"hidden":true,"merged":[[0,0,0,7],[1,0,1,7],[2,0,2,7],[4,0,4,7],[5,1,5,3],[5,5,5,7],[7,0,7,7],[8,1,8,2],[10,0,15,0],[10,4,15,4],[10,5,15,5],[10,6,15,6],[10,7,15,7],[15,1,15,3],[16,0,33,0],[16,4,21,4],[16,5,21,5],[16,6,21,6],[16,7,33,7],[22,4,27,4],[22,5,27,5],[22,6,27,6],[28,4,33,4],[28,5,33,5],[28,6,33,6],[34,0,39,0],[34,4,39,4],[34,5,39,5],[34,6,39,6],[34,7,39,7],[40,0,40,4],[42,0,42,7],[43,0,43,7],[44,0,44,1],[44,2,44,3],[44,4,44,5],[44,6,44,7],[45,0,45,1],[45,2,45,3],[45,4,45,5],[45,6,45,7],[46,0,46,1],[46,2,46,3],[46,4,46,5],[46,6,46,7],[47,0,47,1],[47,2,47,3],[47,4,47,5],[47,6,47,7],[48,0,48,1],[48,2,48,3],[48,4,48,5],[48,6,48,7],[49,0,49,5],[49,6,49,7],[53,1,53,3],[53,4,53,5],[54,1,54,3],[54,4,54,5],[55,1,55,3],[55,4,55,5],[56,1,56,3],[56,4,56,5],[64,0,64,7],[65,0,65,1],[65,2,65,3],[65,4,65,5],[65,6,65,7],[66,0,66,1],[66,2,66,3],[66,4,66,5],[66,6,66,7],[67,0,67,1],[67,2,67,3],[67,4,67,5],[67,6,67,7],[68,0,68,5],[68,6,68,7],[75,0,75,7],[76,1,76,3],[76,4,76,5],[77,1,77,3],[77,4,77,5],[78,1,78,3],[78,4,78,5],[79,1,79,3],[79,4,79,5],[81,1,84,7],[100,1,100,2],[100,4,100,5],[101,1,101,2],[101,4,101,5],[104,1,104,2],[104,4,104,5],[105,1,105,2],[105,4,105,5],[109,1,109,5],[110,1,110,5]]}
[{"$f":"'Main Menu'!A1:F1","v":"Department of Education"}]
[{"$f":"'Main Menu'!A2:F2","v":"Region X"}]
[{"$f":"'Main Menu'!A3:F3","v":""}]
[]
["SBM Validation"]
["Name of School:",{"$f":"'Main Menu'!G6","v":0},null,null,"School Year:",{"$f":"'Main Menu'!B8","v":""},{"$nulls":4},{"$f":"B6","v":0}]
[]
["Step 1: Determine Performance Improvement (60%)"]
["Thematic Area","Performance Indicators",null,null,"Rating & Equivalent Points","Computation","Computation","Results"]
[]
["Access (45%)","Enrolment Increase","% of Increase","Participation Rate",null,{"$f":"Q16","v":3},{"$f":"F11*0.45","v":1.35},{"$f":"G11","v":1.35}]
[null,{"$f":"'Main Menu'!B14","v":"SY 2009-2010"},null,{"$f":"'Main Menu'!D14","v":990}]
[null,{"$f":"'Main Menu'!B15","v":""},null,{"$f":"'Main Menu'!F15","v":""},{"$nulls":6},"SY 2009-2010",{"$nulls":5},{"$f":"IF(D13>=95,\"3\",IF(D13>=90,\"2\",IF(D13>=85,\"1\",\"0\")))","v":"3"}]
[null,{"$f":"'Main Menu'!B16","v":""},null,{"$f":"'Main Menu'!F16","v":""},{"$nulls":6},"SY 2010-2011",{"$nulls":5},{"$f":"IF(D14>=95,\"3\",IF(D14>=90,\"2\",IF(D14>=85,\"1\",\"0\")))","v":"3"}]
[null,{"$f":"'Main Menu'!B17","v":""},null,{"$f":"'Main Menu'!F17","v":""},{"$nulls":6},"SY 2011-2012",{"$nulls":5},{"$f":"IF(D15>=95,\"3\",IF(D15>=90,\"2\",IF(D15>=85,\"1\",\"0\")))","v":"3"}]
[null,{"$f":"'Main Menu'!M72","v":0},{"$nulls":8},"SY 2012-2013",{"$nulls":5},{"$f":"(Q13+Q14+Q15)/3","v":3}]
["Efficiency (25%)","Dropout Rate (DR):","% of decrease","Dropout",null,{"$f":"IF(C22>=5,\"1\",IF(C22>=2,\"2\",IF(C22<2,\"3\",\"0\")))","v":{"$error":"#VALUE!"}},{"$f":"F17*0.0833","v":{"$error":"#VALUE!"}},{"$f":"SUM(G17:G34)","v":{"$error":"#VALUE!"}},null,null,"SY 2013-2014"]
[null,{"$f":"'Main Menu'!B20","v":"SY 2008-2009"},null,{"$f":"'Main Menu'!D20","v":0.02}]
[null,{"$f":"'Main Menu'!B21","v":""},null,{"$f":"'Main Menu'!D21","v":""},{"$nulls":6},"SY 2014- 2015"]
[null,{"$f":"'Main Menu'!B22","v":""},{"$f":"D20-D19","v":{"$error":"#VALUE!"}},{"$f":"'Main Menu'!D22","v":""},{"$nulls":6},"SY 2015- 2016"]
[null,{"$f":"'Main Menu'!B23","v":""},{"$f":"D21-D20","v":{"$error":"#VALUE!"}},{"$f":"'Main Menu'!D23","v":""},{"$nulls":6},"SY 2016-2017"]
[null,"Ave. % of Decrease",{"$f":"(C20+C21)/2","v":{"$error":"#VALUE!"}}]
[null,"Completion Rate (CR):","% of Increase","Completion",null,{"$f":"P28","v":3},{"$f":"F23*0.0833","v":{"v":0.2499,"d":"0.25"}},{"$nulls":3},"SY 2017-2018"]
[null,{"$f":"'Main Menu'!B26","v":"SY 2008-2009"},null,{"$f":"'Main Menu'!D26","v":65}]
[null,{"$f":"'Main Menu'!B27","v":""},null,{"$f":"'Main Menu'!D27","v":""},{"$nulls":6},"SY 2018- 2019",{"$nulls":4},{"$f":"IF(D25>=95,\"3\",\"0\")","v":"3"}]
[null,{"$f":"'Main Menu'!B28","v":""},null,{"$f":"'Main Menu'!D28","v":""},{"$nulls":6},"SY 2019- 2020",{"$nulls":4},{"$f":"IF(D26>=95,\"3\",\"0\")","v":"3"}]
[null,{"$f":"'Main Menu'!B29","v":""},null,{"$f":"'Main Menu'!D29","v":""},{"$nulls":11},{"$f":"IF(D27>=95,\"3\",\"0\")","v":"3"}]
[null,"Ave. % of Increase",{"$nulls":13},{"$f":"(P25+P26+P27)/3","v":3}]
[null,"Cohort Survival Rate (CSR):","% of Increase","Cohort Survival",null,{"$f":"IF(C34>=5,\"1\",IF(C34>=7,\"2\",IF(C34>=10,\"3\",\"0\")))","v":"0"},{"$f":"F29*0.0834","v":{"v":0,"d":"0.00"}}]
[null,{"$f":"'Main Menu'!B32","v":"SY 2008-2009"},null,{"$f":"'Main Menu'!D32","v":58}]
[null,{"$f":"'Main Menu'!B33","v":""},null,{"$f":"'Main Menu'!D33","v":{"v":95,"d":"95.00"}}]
[null,{"$f":"'Main Menu'!B34","v":""},{"$f":"(D32-D31)/D31*100","v":{"v":1.0526315789473684,"d":"1.05"}},{"$f":"'Main Menu'!D34","v":{"v":96,"d":"96.00"}}]
[null,{"$f":"'Main Menu'!B35","v":""},{"$f":"(D33-D32)/D32*100","v":{"v":-12.791666666666668,"d":"-12.79"}},{"$f":"'Main Menu'!D35","v":83.72}]
[null,"Ave. % of Increase",{"$f":"AVERAGE(C32:C33)","v":{"v":-5.86951754385965,"d":"-5.87"}}]
["Quality (30%)","NAT MPS","% of Increase","NAT MPS",null,{"$f":"IF(C40>=7,\"3\",IF(C40>=5,\"2\",IF(C40>=2,\"1\",\"0\")))","v":{"$error":"#VALUE!"}},{"$f":"F35*0.3","v":{"$error":"#VALUE!"}},{"$f":"G35","v":{"$error":"#VALUE!"}}]
[null,{"$f":"'Main Menu'!B38","v":"SY 2008-2009"},null,{"$f":"'Main Menu'!D38","v":{"v":56,"d":"56.00"}}]
[null,{"$f":"'Main Menu'!B39","v":""},null,{"$f":"'Main Menu'!D39","v":""}]
[null,{"$f":"'Main Menu'!B40","v":""},{"$f":"(D38-D37)/D37*100","v":{"$error":"#VALUE!"}},{"$f":"'Main Menu'!D40","v":""}]
[null,{"$f":"'Main Menu'!B41","v":""},{"$f":"(D39-D38)/D38*100","v":{"$error":"#VALUE!"}},{"$f":"'Main Menu'!D41","v":""}]
[null,"Ave. % of Increase",{"$f":"AVERAGE(C38:C39)","v":{"$error":"#VALUE!"}}]
["Sub-Total",{"$nulls":6},{"$f":"SUM(H11:H40)","v":{"$error":"#VALUE!"}}]
[]
["Note: Only Schools having a Performance Improvement of \" Better\" can apply to the Division for SBM Validation."]
["Step 2: Compute for validated SBM Assessment Scores (40%)"]
["SBM Principles",null,"Weight",null,"Cummulative Scores of Validators per Principles",null,"Results"]
["Leadership",null,{"v":0.3,"d":"30%"},null,{"$f":"'Document Analysis, Obs. Discuss'!AP71","v":{"v":0,"d":"0.00"}},null,{"$f":"E46*0.3","v":0}]
["Curriculum & Learning",null,{"v":0.3,"d":"30%"},null,{"$f":"'Document Analysis, Obs. Discuss'!AP72","v":{"v":0,"d":"0.00"}},null,{"$f":"E47*0.3","v":0}]
["Accountability",null,{"v":0.25,"d":"25%"},null,{"$f":"'Document Analysis, Obs. Discuss'!AP73","v":{"v":0,"d":"0.00"}},null,{"$f":"E48*0.25","v":0}]
["Resource Management",null,{"v":0.15,"d":"15%"},null,{"$f":"'Document Analysis, Obs. Discuss'!AP74","v":{"v":0,"d":"0.00"}},null,{"$f":"E49*0.15","v":0}]
["Sub-total",{"$nulls":5},{"$f":"SUM(G46:G49)","v":{"v":0,"d":"0.00"}}]
["Interpretation:",null,"Good"]
[null,null,"Better"]
[null,null,"Best"]
["Legend:","Numerical Rating Scale",null,null,"Description"]
[null,"0.50-1.49",null,null,"Good"]
[null,"1.50-2.49",null,null,"Better"]
[null,"2.50-3.00",null,null,"Best"]
{"$rows_empty":7}
["Step 3: Compute for Final Rating"]
["Areas",null,"Weight",null,"Computation",null,"Results"]
["A. Performance Improvement",null,{"v":0.6,"d":"60%"},null,{"$f":"H41","v":{"$error":"#VALUE!"}},null,{"$f":"C67*E67","v":{"$error":"#VALUE!"}},{"$nulls":6},"Performance Improvement",{"$f":"E67","v":{"$error":"#VALUE!"}}]
["B. SBM Assessment Score (DOD)",null,{"v":0.4,"d":"40%"},null,{"$f":"G50","v":{"v":0,"d":"0.00"}},null,{"$f":"C68*E68","v":{"v":0,"d":"0.00"}},{"$nulls":6},"SBM Assessment Score",{"$f":"E68","v":{"v":0,"d":"0.00"}}]
["Total",{"$nulls":5},{"$f":"SUM(G67:G68)","v":{"$error":"#VALUE!"}},{"$nulls":6},"SBM Final Rating",{"$f":"G69","v":{"$error":"#VALUE!"}}]
[]
["Interpretation:"]
[null,"Developing ( Level I)"]
[null,"Maturing (Level II)"]
[null,"Advanced (Level III)"]
[]
["Description of SBM Level of Practice:"]
[null,"Numerical Rating Scale",null,null,"Description"]
[null,"0.50-1.49",null,null,"Developing"]
[null,"1.50-2.49",null,null,"Maturing"]
[null,"2.50-3.00",null,null,"Advanced"]
[]
["Results:",{"$f":"IF(G69<1.5,\"Developing level- Structures and mechanisms with acceptable level and extent of community participation and impact on learning outcomes.\",IF(G69<2.5,\"Maturing level - Introducing and sustaining continuous improvement process that integrates wider community participation and improve sinificantly performance and learning outcomes.\",IF(G69<3,\"Advanced level - Ensuring the production of intended outputs/outcomes and meeting all standards of a system fully integrated in the local community and is self-renewing and self-sustaining.\",\"\")))","v":{"$error":"#VALUE!"}}]
{"$rows_empty":17}
["Validators:"]
[null,{"$f":"'Input Menu'!B51","v":0},null,null,{"$f":"'Input Menu'!B52","v":0}]
[null,"Member",null,null,"Member"]
[]
[]
[null,{"$f":"'Input Menu'!B53","v":0},null,null,{"$f":"'Input Menu'!B54","v":0}]
[null,"Member",null,null,"Member"]
[]
[]
[]
[null,{"$f":"'Input Menu'!B50","v":0}]
[null,"Chairman"]
[{"$f":"'Main Menu'!#REF!","v":{"$error":"#REF!"}}]

{"sheet":"14Elem. PR, CR2, CSR1, NAT2","index":21,"n_rows":113,"n_cols":16,"rows_kept":113,"merged":[[0,0,0,7],[1,0,1,7],[2,0,2,7],[4,0,4,7],[5,0,5,7],[6,1,6,3],[6,5,6,7],[7,1,7,3],[7,5,7,6],[8,0,8,3],[8,5,8,7],[9,1,9,2],[11,0,16,0],[11,4,16,4],[11,5,16,5],[11,6,16,6],[11,7,16,7],[16,1,16,3],[17,0,34,0],[17,4,22,4],[17,5,22,5],[17,6,22,6],[17,7,34,7],[23,4,28,4],[23,5,28,5],[23,6,28,6],[29,4,34,4],[29,5,34,5],[29,6,34,6],[35,0,40,0],[35,4,40,4],[35,5,40,5],[35,6,40,6],[35,7,40,7],[41,0,41,4],[43,0,43,7],[44,0,44,7],[45,0,45,1],[45,2,45,3],[45,4,45,5],[45,6,45,7],[46,0,46,1],[46,2,46,3],[46,4,46,5],[46,6,46,7],[47,0,47,1],[47,2,47,3],[47,4,47,5],[47,6,47,7],[48,0,48,1],[48,2,48,3],[48,4,48,5],[48,6,48,7],[49,0,49,1],[49,2,49,3],[49,4,49,5],[49,6,49,7],[50,2,50,3],[50,6,50,7],[54,1,54,3],[54,4,54,5],[55,1,55,3],[55,4,55,5],[56,1,56,3],[56,4,56,5],[57,1,57,3],[57,4,57,5],[65,0,65,7],[66,0,66,1],[66,2,66,3],[66,4,66,5],[66,6,66,7],[67,0,67,1],[67,2,67,3],[67,4,67,5],[67,6,67,7],[68,0,68,1],[68,2,68,3],[68,4,68,5],[68,6,68,7],[69,2,69,3],[69,6,69,7],[76,0,76,7],[77,1,77,3],[77,4,77,5],[77,6,77,7],[78,1,78,3],[78,4,78,5],[78,6,78,7],[79,1,79,3],[79,4,79,5],[79,6,79,7],[80,1,80,3],[80,4,80,5],[80,6,80,7],[82,1,85,7],[98,1,98,7],[99,1,99,7],[101,1,101,2],[101,4,101,5],[102,1,102,2],[102,4,102,5],[105,1,105,2],[105,4,105,5],[106,1,106,2],[106,4,106,5],[110,1,110,5],[111,1,111,5]]}
[{"$f":"'Main Menu'!A1:F1","v":"Department of Education"}]
[{"$f":"'Main Menu'!A2:F2","v":"Region X"}]
[{"$f":"'Main Menu'!A3:F3","v":""}]
[]
["SBM Validation Form"]
[{"$f":"NOW()","v":"2018-07-01T09:22:28.720"}]
["Municipality:",{"$f":"'Input Menu'!B8:C8","v":""},null,null,"School Year:",{"$f":"'Main Menu'!B8","v":""},{"$nulls":4},{"$f":"B7","v":""}]
["School:",{"$f":"'Input Menu'!B7:C7","v":""},null,null,"School I.D.",{"$f":"'Input Menu'!K6","v":0}]
["Step 1: Determine Performance Improvement (60%)",{"$nulls":3},"Level:",{"$f":"'Main Menu'!O72","v":0}]
["Thematic Area","Performance Indicators",null,null,"Rating & Equivalent Points","Score","Computation","Results"]
[]
["Access (45%)","Enrolment Increase","% of Increase","Community Mapping",null,{"$f":"P17","v":{"v":3,"d":"3.00"}},{"$f":"F12*0.45","v":1.35},{"$f":"G12","v":1.35}]
[null,{"$f":"'Main Menu'!B14","v":"SY 2009-2010"},null,{"$f":"'Main Menu'!D14","v":990}]
[null,{"$f":"'Main Menu'!B15","v":""},null,{"$f":"'Main Menu'!F15","v":""},{"$nulls":6},"SY 2009-2010",{"$nulls":4},{"$f":"IF(D14>=95,\"3\",IF(D14>=90,\"2\",IF(D14>=85,\"1\",\"0\")))","v":"3"}]
[null,{"$f":"'Main Menu'!B16","v":""},null,{"$f":"'Main Menu'!F16","v":""},{"$nulls":6},"SY 2010-2011",{"$nulls":4},{"$f":"IF(D15>=95,\"3\",IF(D15>=90,\"2\",IF(D15>=85,\"1\",\"0\")))","v":"3"}]
[null,{"$f":"'Main Menu'!B17","v":""},null,{"$f":"'Main Menu'!F17","v":""},{"$nulls":6},"SY 2011-2012",{"$nulls":4},{"$f":"IF(D16>=95,\"3\",IF(D16>=90,\"2\",IF(D16>=85,\"1\",\"0\")))","v":"3"}]
[{"$nulls":10},"SY 2012-2013",{"$nulls":4},{"$f":"(P14+P15+P16)/3","v":3}]
["Efficiency (25%)","Dropout Rate (DR):","% of decrease","Dropout %",null,{"$f":"IF(C23<2,\"3\",IF(C23<5,\"2\",IF(C23<=5,\"1\",\"0\")))","v":{"$error":"#VALUE!"}},{"$f":"F18*0.125","v":{"$error":"#VALUE!"}},{"$f":"SUM(G18:G35)","v":{"$error":"#VALUE!"}},null,null,"SY 2013-2014"]
[null,{"$f":"'Main Menu'!B20","v":"SY 2008-2009"},null,{"$f":"'Main Menu'!D20","v":0.02}]
[null,{"$f":"'Main Menu'!B21","v":""},null,{"$f":"'Main Menu'!D21","v":""},{"$nulls":6},"SY 2014- 2015"]
[null,{"$f":"'Main Menu'!B22","v":""},{"$f":"D21-D20","v":{"$error":"#VALUE!"}},{"$f":"'Main Menu'!D22","v":""},{"$nulls":6},"SY 2015- 2016"]
[null,{"$f":"'Main Menu'!B23","v":""},{"$f":"D22-D21","v":{"$error":"#VALUE!"}},{"$f":"'Main Menu'!D23","v":""},{"$nulls":6},"SY 2016-2017"]
[null,"Ave. % of Decrease",{"$f":"AVERAGE(C21:C22)","v":{"$error":"#VALUE!"}}]
[null,"Repetition Rate","% of decrease","Repetition %",null,{"$f":"IF(C29<2,\"3\",IF(C29<5,\"2\",IF(C29<=5,\"1\",\"0\")))","v":{"$error":"#VALUE!"}},{"$f":"F24*0.125","v":{"$error":"#VALUE!"}},{"$nulls":3},"SY 2017-2018"]
[null,{"$f":"'Main Menu'!B26","v":"SY 2008-2009"},null,{"$f":"'Main Menu'!D26","v":65}]
[null,{"$f":"'Main Menu'!B27","v":""},null,{"$f":"'Main Menu'!D27","v":""},{"$nulls":6},"SY 2018- 2019"]
[null,{"$f":"'Main Menu'!B28","v":""},{"$f":"D27-D26","v":{"$error":"#VALUE!"}},{"$f":"'Main Menu'!D28","v":""},{"$nulls":6},"SY 2019- 2020"]
[null,{"$f":"'Main Menu'!B29","v":""},{"$f":"D28-D27","v":{"$error":"#VALUE!"}},{"$f":"'Main Menu'!D29","v":""}]
[null,"Ave. % of decrease",{"$f":"AVERAGE(C27:C28)","v":{"$error":"#VALUE!"}}]
[]
[]
[]
[]
[]
[]
["Quality (30%)","Promotion Rate","% of Increase","Promotion %",null,{"$f":"O41","v":{"v":3,"d":"3.00"}},{"$f":"F36*0.3","v":0.8999999999999999},{"$f":"G36","v":0.8999999999999999}]
[null,{"$f":"'Main Menu'!B38","v":"SY 2008-2009"},null,{"$f":"'Main Menu'!D38","v":{"v":56,"d":"56.00"}}]
[null,{"$f":"'Main Menu'!B39","v":""},null,{"$f":"'Main Menu'!F39","v":""},{"$nulls":10},{"$f":"IF(D38>=95,\"3\",IF(D38>=90,\"2\",IF(D38>=85,\"1\",\"0\")))","v":"3"}]
[null,{"$f":"'Main Menu'!B40","v":""},null,{"$f":"'Main Menu'!F40","v":""},{"$nulls":10},{"$f":"IF(D39>=95,\"3\",IF(D39>=90,\"2\",IF(D39>=85,\"1\",\"0\")))","v":"3"}]
[null,{"$f":"'Main Menu'!B41","v":""},null,{"$f":"'Main Menu'!F41","v":""},{"$nulls":10},{"$f":"IF(D40>=95,\"3\",IF(D40>=90,\"2\",IF(D40>=85,\"1\",\"0\")))","v":"3"}]
[null,"Ave. % of Increase",{"$nulls":12},{"$f":"(O38+O39+O40)/3","v":{"v":3,"d":"3.00"}}]
["Sub-Total",{"$nulls":6},{"$f":"SUM(H12:H41)","v":{"$error":"#VALUE!"}}]
[]
["Note: Only Schools having a Performance Improvement of \" Better\" can apply to the Division for SBM Validation."]
["Step 2: Compute for validated SBM Assessment Scores (40%)"]
["SBM Principles",null,"Weight",null,"Cummulative Scores of Validators per Principles",null,"Results"]
["Leadership",null,{"v":0.3,"d":"30%"},null,{"$f":"'Document Analysis, Obs. Discuss'!AP71","v":{"v":0,"d":"0.00"}},null,{"$f":"E47*0.3","v":0}]
["Curriculum & Learning",null,{"v":0.3,"d":"30%"},null,{"$f":"'Document Analysis, Obs. Discuss'!AP72","v":{"v":0,"d":"0.00"}},null,{"$f":"E48*0.3","v":0}]
["Accountability",null,{"v":0.25,"d":"25%"},null,{"$f":"'Document Analysis, Obs. Discuss'!AP73","v":{"v":0,"d":"0.00"}},null,{"$f":"E49*0.25","v":0}]
["Resource Management",null,{"v":0.15,"d":"15%"},null,{"$f":"'Document Analysis, Obs. Discuss'!AP74","v":{"v":0,"d":"0.00"}},null,{"$f":"E50*0.15","v":0}]
["Sub-total",null,{"v":1,"d":"100%"},{"$nulls":3},{"$f":"SUM(G47:G50)","v":{"v":0,"d":"0.00"}}]
["Interpretation:",null,"Good"]
[null,null,"Better"]
[null,null,"Best"]
["Legend:","Numerical Rating Scale",null,null,"Description"]
[null,"0.50-1.49",null,null,"Good"]
[null,"1.50-2.49",null,null,"Better"]
[null,"2.50-3.00",null,null,"Best"]
{"$rows_empty":7}
["Step 3: Compute for Final Rating"]
["Areas",null,"Weight",null,"Computation",null,"Results"]
["A. Performance Improvement",null,{"v":0.6,"d":"60%"},null,{"$f":"H42","v":{"$error":"#VALUE!"}},null,{"$f":"C68*E68","v":{"$error":"#VALUE!"}},{"$nulls":6},"Performance Improvement",{"$f":"E68","v":{"$error":"#VALUE!"}}]
["B. SBM Assessment Score (DOD)",null,{"v":0.4,"d":"40%"},null,{"$f":"G51","v":{"v":0,"d":"0.00"}},null,{"$f":"C69*E69","v":{"v":0,"d":"0.00"}},{"$nulls":6},"SBM Assessment Score",{"$f":"E69","v":{"v":0,"d":"0.00"}}]
["Total",null,{"v":1,"d":"100%"},{"$nulls":3},{"$f":"SUM(G68:G69)","v":{"$error":"#VALUE!"}},{"$nulls":6},"SBM Final Rating",{"$f":"G70","v":{"$error":"#VALUE!"}}]
[]
[]
[]
[]
[]
[]
["Description of SBM Level of Practice:"]
[null,"Numerical Rating Scale",null,null,"Description",null,"Interpretation"]
[null,"0.50-1.49",null,null,"Developing",null,"Level I"]
[null,"1.50-2.49",null,null,"Maturing",null,"Level II"]
[null,"2.50-3.00",null,null,"Advanced",null,"Level III"]
{"$rows_empty":17}
["Results:",{"$f":"IF(G70<1.5,\"Developing level- Structures and mechanisms with acceptable level and extent of community participation and impact on learning outcomes.\",IF(G70<2.5,\"Maturing level - Introducing and sustaining continuous improvement process that integrates wider community participation and improve sinificantly performance and learning outcomes.\",IF(G70<3,\"Advanced level - Ensuring the production of intended outputs/outcomes and meeting all standards of a system fully integrated in the local community and is self-renewing and self-sustaining.\",\"\")))","v":{"$error":"#VALUE!"}}]
["Remarks:",{"$f":"'Main Menu'!B56:H56","v":{"v":0,"d":"0.00"}}]
["Validators:"]
[null,{"$f":"'Input Menu'!B51","v":0},null,null,{"$f":"'Input Menu'!B52","v":0}]
[null,"Member",null,null,"Member"]
[]
[]
[null,{"$f":"'Input Menu'!B53","v":0},null,null,{"$f":"'Input Menu'!B54","v":0}]
[null,"Member",null,null,"Member"]
[]
[]
[]
[null,{"$f":"'Input Menu'!B50","v":0}]
[null,"Chairman"]
[{"$f":"'Main Menu'!A55","v":"Option6: CM, DR, RR, PrR"}]

{"sheet":"15Elem. PR, CR2, CSR2, NAT1","index":22,"n_rows":112,"n_cols":16,"rows_kept":112,"hidden":true,"merged":[[0,0,0,7],[1,0,1,7],[2,0,2,7],[4,0,4,7],[5,1,5,3],[5,5,5,7],[7,0,7,7],[8,1,8,2],[10,0,15,0],[10,4,15,4],[10,5,15,5],[10,6,15,6],[10,7,15,7],[15,1,15,3],[16,0,33,0],[16,4,21,4],[16,5,21,5],[16,6,21,6],[16,7,33,7],[22,4,27,4],[22,5,27,5],[22,6,27,6],[28,4,33,4],[28,5,33,5],[28,6,33,6],[34,0,39,0],[34,4,39,4],[34,5,39,5],[34,6,39,6],[34,7,39,7],[40,0,40,4],[42,0,42,7],[43,0,43,7],[44,0,44,1],[44,2,44,3],[44,4,44,5],[44,6,44,7],[45,0,45,1],[45,2,45,3],[45,4,45,5],[45,6,45,7],[46,0,46,1],[46,2,46,3],[46,4,46,5],[46,6,46,7],[47,0,47,1],[47,2,47,3],[47,4,47,5],[47,6,47,7],[48,0,48,1],[48,2,48,3],[48,4,48,5],[48,6,48,7],[49,0,49,5],[49,6,49,7],[53,1,53,3],[53,4,53,5],[54,1,54,3],[54,4,54,5],[55,1,55,3],[55,4,55,5],[56,1,56,3],[56,4,56,5],[64,0,64,7],[65,0,65,1],[65,2,65,3],[65,4,65,5],[65,6,65,7],[66,0,66,1],[66,2,66,3],[66,4,66,5],[66,6,66,7],[67,0,67,1],[67,2,67,3],[67,4,67,5],[67,6,67,7],[68,0,68,5],[68,6,68,7],[75,0,75,7],[76,1,76,3],[76,4,76,5],[77,1,77,3],[77,4,77,5],[78,1,78,3],[78,4,78,5],[79,1,79,3],[79,4,79,5],[81,1,84,7],[100,1,100,2],[100,4,100,5],[101,1,101,2],[101,4,101,5],[104,1,104,2],[104,4,104,5],[105,1,105,2],[105,4,105,5],[109,1,109,5],[110,1,110,5]]}
[{"$f":"'Main Menu'!A1:F1","v":"Department of Education"}]
[{"$f":"'Main Menu'!A2:F2","v":"Region X"}]
[{"$f":"'Main Menu'!A3:F3","v":""}]
[]
["SBM Validation"]
["Name of School:",{"$f":"'Main Menu'!G6","v":0},null,null,"School Year:",{"$f":"'Main Menu'!B8","v":""},{"$nulls":4},{"$f":"B6","v":0}]
[]
["Step 1: Determine Performance Improvement (60%)"]
["Thematic Area","Performance Indicators",null,null,"Rating & Equivalent Points","Computation","Computation","Results"]
[]
["Access (45%)","Enrolment Increase","% of Increase","Participation Rate",null,{"$f":"N16","v":3},{"$f":"F11*0.45","v":1.35},{"$f":"G11","v":1.35}]
[null,{"$f":"'Main Menu'!B14","v":"SY 2009-2010"},null,{"$f":"'Main Menu'!D14","v":990}]
[null,{"$f":"'Main Menu'!B15","v":""},null,{"$f":"'Main Menu'!F15","v":""},{"$nulls":6},"SY 2009-2010",null,null,{"$f":"IF(D13>=95,\"3\",IF(D13>90,\"2\",IF(D13>85,\"1\",\"0\")))","v":"3"}]
[null,{"$f":"'Main Menu'!B16","v":""},null,{"$f":"'Main Menu'!F16","v":""},{"$nulls":6},"SY 2010-2011",null,null,{"$f":"IF(D14>=95,\"3\",IF(D14>90,\"2\",IF(D14>85,\"1\",\"0\")))","v":"3"}]
[null,{"$f":"'Main Menu'!B17","v":""},null,{"$f":"'Main Menu'!F17","v":""},{"$nulls":6},"SY 2011-2012",null,null,{"$f":"IF(D15>=95,\"3\",IF(D15>90,\"2\",IF(D15>85,\"1\",\"0\")))","v":"3"}]
[null,{"$f":"'Main Menu'!M72","v":0},{"$nulls":8},"SY 2012-2013",null,null,{"$f":"(N13+N14+N15)/3","v":3}]
["Efficiency (25%)","Dropout Rate (DR):","% of decrease","Dropout",null,{"$f":"IF(C22>=5,\"1\",IF(C22>=2,\"2\",IF(C22<2,\"3\",\"0\")))","v":{"$error":"#VALUE!"}},{"$f":"F17*0.0833","v":{"$error":"#VALUE!"}},{"$f":"SUM(G17:G34)","v":{"$error":"#VALUE!"}},null,null,"SY 2013-2014"]
[null,{"$f":"'Main Menu'!B20","v":"SY 2008-2009"},null,{"$f":"'Main Menu'!D20","v":0.02}]
[null,{"$f":"'Main Menu'!B21","v":""},null,{"$f":"'Main Menu'!D21","v":""},{"$nulls":6},"SY 2014- 2015"]
[null,{"$f":"'Main Menu'!B22","v":""},{"$f":"D20-D19","v":{"$error":"#VALUE!"}},{"$f":"'Main Menu'!D22","v":""},{"$nulls":6},"SY 2015- 2016"]
[null,{"$f":"'Main Menu'!B23","v":""},{"$f":"D21-D20","v":{"$error":"#VALUE!"}},{"$f":"'Main Menu'!D23","v":""},{"$nulls":6},"SY 2016-2017"]
[null,"Ave. % of Decrease",{"$f":"(C20+C21)/2","v":{"$error":"#VALUE!"}}]
[null,"Completion Rate (CR):","% of Increase","Completion",null,{"$f":"P28","v":3},{"$f":"F23*0.0833","v":{"v":0.2499,"d":"0.25"}},{"$nulls":3},"SY 2017-2018"]
[null,{"$f":"'Main Menu'!B26","v":"SY 2008-2009"},null,{"$f":"'Main Menu'!D26","v":65}]
[null,{"$f":"'Main Menu'!B27","v":""},null,{"$f":"'Main Menu'!D27","v":""},{"$nulls":6},"SY 2018- 2019",{"$nulls":4},{"$f":"IF(D25>=95,\"3\",\"0\")","v":"3"}]
[null,{"$f":"'Main Menu'!B28","v":""},null,{"$f":"'Main Menu'!D28","v":""},{"$nulls":6},"SY 2019- 2020",{"$nulls":4},{"$f":"IF(D26>=95,\"3\",\"0\")","v":"3"}]
[null,{"$f":"'Main Menu'!B29","v":""},null,{"$f":"'Main Menu'!D29","v":""},{"$nulls":11},{"$f":"IF(D27>=95,\"3\",\"0\")","v":"3"}]
[null,"Ave. % of Increase",{"$nulls":13},{"$f":"(P25+P26+P27)/3","v":3}]
[null,"Cohort Survival Rate (CSR):","% of Increase","Cohort Survival",null,{"$f":"P34","v":2},{"$f":"F29*0.0834","v":{"v":0.1668,"d":"0.17"}}]
[null,{"$f":"'Main Menu'!B32","v":"SY 2008-2009"},null,{"$f":"'Main Menu'!D32","v":58}]
[null,{"$f":"'Main Menu'!B33","v":""},null,{"$f":"'Main Menu'!D33","v":{"v":95,"d":"95.00"}},{"$nulls":11},{"$f":"IF(D31>=95,\"3\",\"0\")","v":"3"}]
[null,{"$f":"'Main Menu'!B34","v":""},null,{"$f":"'Main Menu'!D34","v":{"v":96,"d":"96.00"}},{"$nulls":11},{"$f":"IF(D32>=95,\"3\",\"0\")","v":"3"}]
[null,{"$f":"'Main Menu'!B35","v":""},null,{"$f":"'Main Menu'!D35","v":83.72},{"$nulls":11},{"$f":"IF(D33>=95,\"3\",\"0\")","v":"0"}]
[null,"Ave. % of Increase",{"$nulls":13},{"$f":"(P31+P32+P33)/3","v":2}]
["Quality (30%)","NAT MPS","% of Increase","NAT MPS",null,{"$f":"IF(C40>=7,\"3\",IF(C40>=5,\"2\",IF(C40>=2,\"3\",\"0\")))","v":{"$error":"#VALUE!"}},{"$f":"F35*0.3","v":{"$error":"#VALUE!"}},{"$f":"G35","v":{"$error":"#VALUE!"}}]
[null,{"$f":"'Main Menu'!B38","v":"SY 2008-2009"},null,{"$f":"'Main Menu'!D38","v":{"v":56,"d":"56.00"}}]
[null,{"$f":"'Main Menu'!B39","v":""},null,{"$f":"'Main Menu'!D39","v":""}]
[null,{"$f":"'Main Menu'!B40","v":""},{"$f":"(D38-D37)/D37*100","v":{"$error":"#VALUE!"}},{"$f":"'Main Menu'!D40","v":""}]
[null,{"$f":"'Main Menu'!B41","v":""},{"$f":"(D39-D38)/D38*100","v":{"$error":"#VALUE!"}},{"$f":"'Main Menu'!D41","v":""}]
[null,"Ave. % of Increase",{"$f":"AVERAGE(C38:C39)","v":{"$error":"#VALUE!"}}]
["Sub-Total",{"$nulls":6},{"$f":"SUM(H11:H40)","v":{"$error":"#VALUE!"}}]
[]
["Note: Only Schools having a Performance Improvement of \" Better\" can apply to the Division for SBM Validation."]
["Step 2: Compute for validated SBM Assessment Scores (40%)"]
["SBM Principles",null,"Weight",null,"Cummulative Scores of Validators per Principles",null,"Results"]
["Leadership",null,{"v":0.3,"d":"30%"},null,{"$f":"'Document Analysis, Obs. Discuss'!AP71","v":{"v":0,"d":"0.00"}},null,{"$f":"E46*0.3","v":0}]
["Curriculum & Learning",null,{"v":0.3,"d":"30%"},null,{"$f":"'Document Analysis, Obs. Discuss'!AP72","v":{"v":0,"d":"0.00"}},null,{"$f":"E47*0.3","v":0}]
["Accountability",null,{"v":0.25,"d":"25%"},null,{"$f":"'Document Analysis, Obs. Discuss'!AP73","v":{"v":0,"d":"0.00"}},null,{"$f":"E48*0.25","v":0}]
["Resource Management",null,{"v":0.15,"d":"15%"},null,{"$f":"'Document Analysis, Obs. Discuss'!AP74","v":{"v":0,"d":"0.00"}},null,{"$f":"E49*0.15","v":0}]
["Sub-total",{"$nulls":5},{"$f":"SUM(G46:G49)","v":{"v":0,"d":"0.00"}}]
["Interpretation:",null,"Good"]
[null,null,"Better"]
[null,null,"Best"]
["Legend:","Numerical Rating Scale",null,null,"Description"]
[null,"0.50-1.49",null,null,"Good"]
[null,"1.50-2.49",null,null,"Better"]
[null,"2.50-3.00",null,null,"Best"]
{"$rows_empty":7}
["Step 3: Compute for Final Rating"]
["Areas",null,"Weight",null,"Computation",null,"Results"]
["A. Performance Improvement",null,{"v":0.6,"d":"60%"},null,{"$f":"H41","v":{"$error":"#VALUE!"}},null,{"$f":"C67*E67","v":{"$error":"#VALUE!"}},{"$nulls":6},"Performance Improvement",{"$f":"E67","v":{"$error":"#VALUE!"}}]
["B. SBM Assessment Score (DOD)",null,{"v":0.4,"d":"40%"},null,{"$f":"G50","v":{"v":0,"d":"0.00"}},null,{"$f":"C68*E68","v":{"v":0,"d":"0.00"}},{"$nulls":6},"SBM Assessment Score",{"$f":"E68","v":{"v":0,"d":"0.00"}}]
["Total",{"$nulls":5},{"$f":"SUM(G67:G68)","v":{"$error":"#VALUE!"}},{"$nulls":6},"SBM Final Rating",{"$f":"G69","v":{"$error":"#VALUE!"}}]
[]
["Interpretation:"]
[null,"Developing ( Level I)"]
[null,"Maturing (Level II)"]
[null,"Advanced (Level III)"]
[]
["Description of SBM Level of Practice:"]
[null,"Numerical Rating Scale",null,null,"Description"]
[null,"0.50-1.49",null,null,"Developing"]
[null,"1.50-2.49",null,null,"Maturing"]
[null,"2.50-3.00",null,null,"Advanced"]
[]
["Results:",{"$f":"IF(G69<1.5,\"Developing level- Structures and mechanisms with acceptable level and extent of community participation and impact on learning outcomes.\",IF(G69<2.5,\"Maturing level - Introducing and sustaining continuous improvement process that integrates wider community participation and improve sinificantly performance and learning outcomes.\",IF(G69<3,\"Advanced level - Ensuring the production of intended outputs/outcomes and meeting all standards of a system fully integrated in the local community and is self-renewing and self-sustaining.\",\"\")))","v":{"$error":"#VALUE!"}}]
{"$rows_empty":17}
["Validators:"]
[null,{"$f":"'Input Menu'!B51","v":0},null,null,{"$f":"'Input Menu'!B52","v":0}]
[null,"Member",null,null,"Member"]
[]
[]
[null,{"$f":"'Input Menu'!B53","v":0},null,null,{"$f":"'Input Menu'!B54","v":0}]
[null,"Member",null,null,"Member"]
[]
[]
[]
[null,{"$f":"'Input Menu'!B50","v":0}]
[null,"Chairman"]
[{"$f":"'Main Menu'!#REF!","v":{"$error":"#REF!"}}]

{"sheet":"16Elem. PR, CR2, CSR2, NAT2","index":23,"n_rows":112,"n_cols":15,"rows_kept":112,"hidden":true,"merged":[[0,0,0,7],[1,0,1,7],[2,0,2,7],[4,0,4,7],[5,1,5,3],[5,5,5,7],[7,0,7,7],[8,1,8,2],[10,0,15,0],[10,4,15,4],[10,5,15,5],[10,6,15,6],[10,7,15,7],[15,1,15,3],[16,0,33,0],[16,4,21,4],[16,5,21,5],[16,6,21,6],[16,7,33,7],[22,4,27,4],[22,5,27,5],[22,6,27,6],[28,4,33,4],[28,5,33,5],[28,6,33,6],[34,0,39,0],[34,4,39,4],[34,5,39,5],[34,6,39,6],[34,7,39,7],[40,0,40,4],[42,0,42,7],[43,0,43,7],[44,0,44,1],[44,2,44,3],[44,4,44,5],[44,6,44,7],[45,0,45,1],[45,2,45,3],[45,4,45,5],[45,6,45,7],[46,0,46,1],[46,2,46,3],[46,4,46,5],[46,6,46,7],[47,0,47,1],[47,2,47,3],[47,4,47,5],[47,6,47,7],[48,0,48,1],[48,2,48,3],[48,4,48,5],[48,6,48,7],[49,0,49,5],[49,6,49,7],[53,1,53,3],[53,4,53,5],[54,1,54,3],[54,4,54,5],[55,1,55,3],[55,4,55,5],[56,1,56,3],[56,4,56,5],[64,0,64,7],[65,0,65,1],[65,2,65,3],[65,4,65,5],[65,6,65,7],[66,0,66,1],[66,2,66,3],[66,4,66,5],[66,6,66,7],[67,0,67,1],[67,2,67,3],[67,4,67,5],[67,6,67,7],[68,0,68,5],[68,6,68,7],[75,0,75,7],[76,1,76,3],[76,4,76,5],[77,1,77,3],[77,4,77,5],[78,1,78,3],[78,4,78,5],[79,1,79,3],[79,4,79,5],[81,1,84,7],[100,1,100,2],[100,4,100,5],[101,1,101,2],[101,4,101,5],[104,1,104,2],[104,4,104,5],[105,1,105,2],[105,4,105,5],[109,1,109,5],[110,1,110,5]]}
[{"$f":"'Main Menu'!A1:F1","v":"Department of Education"}]
[{"$f":"'Main Menu'!A2:F2","v":"Region X"}]
[{"$f":"'Main Menu'!A3:F3","v":""}]
[]
["SBM Validation"]
["Name of School:",{"$f":"'Main Menu'!G6","v":0},null,null,"School Year:",{"$f":"'Main Menu'!B8","v":""},{"$nulls":4},{"$f":"B6","v":0}]
[]
["Step 1: Determine Performance Improvement (60%)"]
["Thematic Area","Performance Indicators",null,null,"Rating & Equivalent Points","Computation","Computation","Results"]
[]
["Access (45%)","Enrolment Increase","% of Increase","Participation Rate",null,{"$f":"N16","v":3},{"$f":"F11*0.45","v":1.35},{"$f":"G11","v":1.35}]
[null,{"$f":"'Main Menu'!B14","v":"SY 2009-2010"},null,{"$f":"'Main Menu'!D14","v":990}]
[null,{"$f":"'Main Menu'!B15","v":""},null,{"$f":"'Main Menu'!F15","v":""},{"$nulls":6},"SY 2009-2010",null,null,{"$f":"IF(D13>=95,\"3\",IF(D13>=90,\"2\",IF(D13>=85,\"1\",\"0\")))","v":"3"}]
[null,{"$f":"'Main Menu'!B16","v":""},null,{"$f":"'Main Menu'!F16","v":""},{"$nulls":6},"SY 2010-2011",null,null,{"$f":"IF(D14>=95,\"3\",IF(D14>=90,\"2\",IF(D14>=85,\"1\",\"0\")))","v":"3"}]
[null,{"$f":"'Main Menu'!B17","v":""},null,{"$f":"'Main Menu'!F17","v":""},{"$nulls":6},"SY 2011-2012",null,null,{"$f":"IF(D15>=95,\"3\",IF(D15>=90,\"2\",IF(D15>=85,\"1\",\"0\")))","v":"3"}]
[null,{"$f":"'Main Menu'!M72","v":0},{"$nulls":8},"SY 2012-2013",null,null,{"$f":"(N13+N14+N15)/3","v":3}]
["Efficiency (25%)","Dropout Rate (DR):","% of decrease","Dropout",null,{"$f":"IF(C22>=5,\"1\",IF(C22>=2,\"2\",IF(C22<2,\"3\",\"0\")))","v":{"$error":"#VALUE!"}},{"$f":"F17*0.0833","v":{"$error":"#VALUE!"}},{"$f":"SUM(G17:G34)","v":{"$error":"#VALUE!"}},null,null,"SY 2013-2014"]
[null,{"$f":"'Main Menu'!B20","v":"SY 2008-2009"},null,{"$f":"'Main Menu'!D20","v":0.02}]
[null,{"$f":"'Main Menu'!B21","v":""},null,{"$f":"'Main Menu'!D21","v":""},{"$nulls":6},"SY 2014- 2015"]
[null,{"$f":"'Main Menu'!B22","v":""},{"$f":"D20-D19","v":{"$error":"#VALUE!"}},{"$f":"'Main Menu'!D22","v":""},{"$nulls":6},"SY 2015- 2016"]
[null,{"$f":"'Main Menu'!B23","v":""},{"$f":"D21-D20","v":{"$error":"#VALUE!"}},{"$f":"'Main Menu'!D23","v":""},{"$nulls":6},"SY 2016-2017"]
[null,"Ave. % of Decrease",{"$f":"(C20+C21)/2","v":{"$error":"#VALUE!"}}]
[null,"Completion Rate (CR):","% of Increase","Completion",null,{"$f":"N28","v":3},{"$f":"F23*0.0833","v":{"v":0.2499,"d":"0.25"}},{"$nulls":3},"SY 2017-2018"]
[null,{"$f":"'Main Menu'!B26","v":"SY 2008-2009"},null,{"$f":"'Main Menu'!D26","v":65}]
[null,{"$f":"'Main Menu'!B27","v":""},null,{"$f":"'Main Menu'!D27","v":""},{"$nulls":6},"SY 2018- 2019",null,null,{"$f":"IF(D25>95,\"3\",\"0\")","v":"3"}]
[null,{"$f":"'Main Menu'!B28","v":""},null,{"$f":"'Main Menu'!D28","v":""},{"$nulls":6},"SY 2019- 2020",null,null,{"$f":"IF(D26>95,\"3\",\"0\")","v":"3"}]
[null,{"$f":"'Main Menu'!B29","v":""},null,{"$f":"'Main Menu'!D29","v":""},{"$nulls":9},{"$f":"IF(D27>95,\"3\",\"0\")","v":"3"}]
[null,"Ave. % of Increase",{"$nulls":11},{"$f":"(N25+N26+N27)/3","v":3}]
[null,"Cohort Survival Rate (CSR):","% of Increase","Cohort Survival",null,{"$f":"N34","v":1},{"$f":"F29*0.0834","v":{"v":0.0834,"d":"0.08"}}]
[null,{"$f":"'Main Menu'!B32","v":"SY 2008-2009"},null,{"$f":"'Main Menu'!D32","v":58}]
[null,{"$f":"'Main Menu'!B33","v":""},null,{"$f":"'Main Menu'!D33","v":{"v":95,"d":"95.00"}},{"$nulls":9},{"$f":"IF(D31>95,\"3\",\"0\")","v":"0"}]
[null,{"$f":"'Main Menu'!B34","v":""},null,{"$f":"'Main Menu'!D34","v":{"v":96,"d":"96.00"}},{"$nulls":9},{"$f":"IF(D32>95,\"3\",\"0\")","v":"3"}]
[null,{"$f":"'Main Menu'!B35","v":""},null,{"$f":"'Main Menu'!D35","v":83.72},{"$nulls":9},{"$f":"IF(D33>95,\"3\",\"0\")","v":"0"}]
[null,"Ave. % of Increase",{"$nulls":11},{"$f":"(N31+N32+N33)/3","v":1}]
["Quality (30%)","NAT MPS","% of Increase","NAT MPS",null,{"$f":"N40","v":3},{"$f":"F35*0.3","v":0.8999999999999999},{"$f":"G35","v":0.8999999999999999}]
[null,{"$f":"'Main Menu'!B38","v":"SY 2008-2009"},null,{"$f":"'Main Menu'!D38","v":{"v":56,"d":"56.00"}}]
[null,{"$f":"'Main Menu'!B39","v":""},null,{"$f":"'Main Menu'!D39","v":""},{"$nulls":9},{"$f":"IF(D37>75,\"3\",\"0\")","v":"3"}]
[null,{"$f":"'Main Menu'!B40","v":""},null,{"$f":"'Main Menu'!D40","v":""},{"$nulls":9},{"$f":"IF(D38>75,\"3\",\"0\")","v":"3"}]
[null,{"$f":"'Main Menu'!B41","v":""},null,{"$f":"'Main Menu'!D41","v":""},{"$nulls":9},{"$f":"IF(D39>75,\"3\",\"0\")","v":"3"}]
[null,"Ave. % of Increase",{"$nulls":11},{"$f":"(N37+N38+N39)/3","v":3}]
["Sub-Total",{"$nulls":6},{"$f":"SUM(H11:H40)","v":{"$error":"#VALUE!"}}]
[]
["Note: Only Schools having a Performance Improvement of \" Better\" can apply to the Division for SBM Validation."]
["Step 2: Compute for validated SBM Assessment Scores (40%)"]
["SBM Principles",null,"Weight",null,"Cummulative Scores of Validators per Principles",null,"Results"]
["Leadership",null,{"v":0.3,"d":"30%"},null,{"$f":"'Document Analysis, Obs. Discuss'!AP71","v":{"v":0,"d":"0.00"}},null,{"$f":"E46*0.3","v":0}]
["Curriculum & Learning",null,{"v":0.3,"d":"30%"},null,{"$f":"'Document Analysis, Obs. Discuss'!AP72","v":{"v":0,"d":"0.00"}},null,{"$f":"E47*0.3","v":0}]
["Accountability",null,{"v":0.25,"d":"25%"},null,{"$f":"'Document Analysis, Obs. Discuss'!AP73","v":{"v":0,"d":"0.00"}},null,{"$f":"E48*0.25","v":0}]
["Resource Management",null,{"v":0.15,"d":"15%"},null,{"$f":"'Document Analysis, Obs. Discuss'!AP74","v":{"v":0,"d":"0.00"}},null,{"$f":"E49*0.15","v":0}]
["Sub-total",{"$nulls":5},{"$f":"SUM(G46:G49)","v":{"v":0,"d":"0.00"}}]
["Interpretation:",null,"Good"]
[null,null,"Better"]
[null,null,"Best"]
["Legend:","Numerical Rating Scale",null,null,"Description"]
[null,"0.50-1.49",null,null,"Good"]
[null,"1.50-2.49",null,null,"Better"]
[null,"2.50-3.00",null,null,"Best"]
{"$rows_empty":7}
["Step 3: Compute for Final Rating"]
["Areas",null,"Weight",null,"Computation",null,"Results"]
["A. Performance Improvement",null,{"v":0.6,"d":"60%"},null,{"$f":"H41","v":{"$error":"#VALUE!"}},null,{"$f":"C67*E67","v":{"$error":"#VALUE!"}},{"$nulls":6},"Performance Improvement",{"$f":"E67","v":{"$error":"#VALUE!"}}]
["B. SBM Assessment Score (DOD)",null,{"v":0.4,"d":"40%"},null,{"$f":"G50","v":{"v":0,"d":"0.00"}},null,{"$f":"C68*E68","v":{"v":0,"d":"0.00"}},{"$nulls":6},"SBM Assessment Score",{"$f":"E68","v":{"v":0,"d":"0.00"}}]
["Total",{"$nulls":5},{"$f":"SUM(G67:G68)","v":{"$error":"#VALUE!"}},{"$nulls":6},"SBM Final Rating",{"$f":"G69","v":{"$error":"#VALUE!"}}]
[]
["Interpretation:"]
[null,"Developing ( Level I)"]
[null,"Maturing (Level II)"]
[null,"Advanced (Level III)"]
[]
["Description of SBM Level of Practice:"]
[null,"Numerical Rating Scale",null,null,"Description"]
[null,"0.50-1.49",null,null,"Developing"]
[null,"1.50-2.49",null,null,"Maturing"]
[null,"2.50-3.00",null,null,"Advanced"]
[]
["Results:",{"$f":"IF(G69<1.5,\"Developing level- Structures and mechanisms with acceptable level and extent of community participation and impact on learning outcomes.\",IF(G69<2.5,\"Maturing level - Introducing and sustaining continuous improvement process that integrates wider community participation and improve sinificantly performance and learning outcomes.\",IF(G69<3,\"Advanced level - Ensuring the production of intended outputs/outcomes and meeting all standards of a system fully integrated in the local community and is self-renewing and self-sustaining.\",\"\")))","v":{"$error":"#VALUE!"}}]
{"$rows_empty":17}
["Validators:"]
[null,{"$f":"'Input Menu'!B51","v":0},null,null,{"$f":"'Input Menu'!B52","v":0}]
[null,"Member",null,null,"Member"]
[]
[]
[null,{"$f":"'Input Menu'!B53","v":0},null,null,{"$f":"'Input Menu'!B54","v":0}]
[null,"Member",null,null,"Member"]
[]
[]
[]
[null,{"$f":"'Input Menu'!B50","v":0}]
[null,"Chairman"]
[{"$f":"'Main Menu'!D65","v":0}]

{"sheet":"Document Analysis, Obs. Discuss","index":24,"n_rows":75,"n_cols":42,"rows_kept":75,"merged":[[0,0,0,18],[1,0,1,18],[2,0,2,18],[4,0,4,18],[5,1,5,3],[5,4,5,10],[5,11,5,13],[5,14,5,18],[6,1,6,3],[8,0,8,18],[10,0,10,2],[10,4,10,8],[10,9,10,13],[10,14,10,18],[11,0,11,2],[11,4,11,8],[11,9,11,13],[11,14,11,18],[12,0,12,2],[13,0,13,2],[13,4,13,8],[13,9,13,13],[13,14,13,18],[15,0,15,2],[15,4,15,8],[15,9,15,13],[15,14,15,18],[17,0,17,2],[17,4,17,8],[17,9,17,13],[17,14,17,18],[19,0,19,2],[19,4,19,8],[19,9,19,13],[19,14,19,18],[21,0,21,18],[22,0,22,2],[22,4,22,8],[22,9,22,13],[22,14,22,18],[24,0,24,2],[24,4,24,8],[24,9,24,13],[24,14,24,18],[26,0,26,2],[26,4,26,8],[26,9,26,13],[26,14,26,18],[28,0,30,2],[28,4,28,8],[28,9,28,13],[28,14,28,18],[30,4,30,8],[30,9,30,13],[30,14,30,18],[32,0,32,2],[32,4,32,8],[32,9,32,13],[32,14,32,18],[34,0,36,2],[34,4,34,8],[34,9,34,13],[34,14,34,18],[36,4,36,8],[36,9,36,13],[36,14,36,18],[38,0,40,2],[38,4,38,8],[38,9,38,13],[38,14,38,18],[40,4,40,8],[40,9,40,13],[40,14,40,18],[43,0,43,18],[44,0,44,2],[44,4,44,8],[44,9,44,13],[44,14,44,18],[46,0,46,2],[46,4,46,8],[46,9,46,13],[46,14,46,18],[48,0,48,2],[48,4,48,8],[48,9,48,13],[48,14,48,18],[50,0,50,2],[50,4,50,8],[50,9,50,13],[50,14,50,18],[52,0,52,2],[52,4,52,8],[52,9,52,13],[52,14,52,18],[55,0,55,18],[56,0,56,2],[56,4,56,8],[56,9,56,13],[56,14,56,18],[58,0,58,2],[58,4,58,8],[58,9,58,13],[58,14,58,18],[60,0,60,2],[60,4,60,8],[60,9,60,13],[60,14,60,18],[62,0,62,2],[62,4,62,8],[62,9,62,13],[62,14,62,18],[64,0,64,2],[64,4,64,8],[64,9,64,13],[64,14,64,18],[69,0,69,1],[69,2,69,4],[69,5,69,6],[69,7,69,8],[69,12,69,16],[70,0,70,1],[70,2,70,4],[70,5,70,6],[70,7,70,8],[70,12,70,16],[71,0,71,1],[71,2,71,4],[71,5,71,6],[71,7,71,8],[71,12,71,16],[72,0,72,1],[72,2,72,4],[72,5,72,6],[72,7,72,8],[72,12,72,16],[73,0,73,1],[73,2,73,4],[73,5,73,6],[73,7,73,8],[73,12,73,16],[74,0,74,6],[74,7,74,8]]}
[{"$f":"'Main Menu'!A1:F1","v":"Department of Education"}]
[{"$f":"'Main Menu'!A2:F2","v":"Region X"}]
[{"$f":"'Main Menu'!A3:F3","v":""}]
[]
["SBM Validation (Document Analysis-Observation-Discussion)"]
["District:",{"$f":"'Input Menu'!B6:C6","v":0},{"$nulls":9},"School Year:",null,null,{"$f":"'Main Menu'!B8","v":""}]
["School:",{"$f":"'Input Menu'!B7:C7","v":""}]
["1. Leadership and Governance"]
["A network of leadership and governance guides the education system to achieve its shared vision, mission and goals making them responsive and relevant to the context of diverse environments."]
[]
["A. Indicators",null,null,"Level  O (NO Evidence)","Level I of Practice (Evidence indicate early or preliminary stage)",{"$nulls":4},"Level II of Practice (Evidence indicate planned practices and procedures are fully implemented)",{"$nulls":4},"Level III of Practice (Evidence indicate practices and procedures satisfy quality standards)"]
["1. In  place is a Development Plan (e.g. SIP) developed collaboratively by the stakeholders of the school and community.",null,null,"(NO Evidence)","The development plan guided by the school’s vision, mission and goal (VMG) is developed through the leadership of the school and the participation of some invited community stakeholders.",{"$nulls":4},"The development plan is evolved through the shared leadership of the school and the community stakeholders.",{"$nulls":4},"The development plan is enhanced with the community performing the leadership roles, and the school providing technical support.",{"$nulls":4},false,false,false,false,null,"steps:1 click conditional formatting under  Home menu, 2. Manage rule, 3. New Rule, 4. Use a formula to determine, 5. click format values and click the true/false value and set the color"]
[{"$nulls":19},{"$f":"IF(T12=TRUE,\"0\",\"\")","v":""},{"$f":"IF(U12=TRUE,\"1\",\"\")","v":""},{"$f":"IF(V12=TRUE,\"2\",\"\")","v":""},{"$f":"IF(W12=TRUE,\"3\",\"\")","v":""},{"$f":"IF(W13=\"3\",W13,IF(V13=\"2\",V13,IF(U13=\"1\",U13,\"0\")))","v":"0"}]
["2. The development plan (e.g. SIP) is regularly reviewed by the school community to keep it responsive and relevant to emerging needs, challenges and opportunities.",null,null,"(NO Evidence)","The school leads the regular review and improvement of the development plan.",{"$nulls":4},"The school and community stakeholders working as full partners lead the continual review and improvement of the development plan.",{"$nulls":4},"The community stakeholders lead the regular review and improvement process; the school stakeholders facilitate the process.",{"$nulls":4},false,false,false,false]
[{"$nulls":19},{"$f":"IF(T14=TRUE,\"0\",\"\")","v":""},{"$f":"IF(U14=TRUE,\"1\",\"0\")","v":"0"},{"$f":"IF(V14=TRUE,\"2\",\"0\")","v":"0"},{"$f":"IF(W14=TRUE,\"3\",\"0\")","v":"0"},{"$f":"IF(W15=\"3\",W15,IF(V15=\"2\",V15,IF(U15=\"1\",U15,\"0\")))","v":"0"}]
["3. The school is organized by a clear structure and work arrangements that promote shared leadership and governance and define the roles and responsibilities of the stakeholders.",null,null,"(NO Evidence)","The school defines the organizational structure, and the roles and responsibilities of stakeholders.",{"$nulls":4},"The school and community collaboratively define the structure and the roles and responsibilities of stakeholders",{"$nulls":4},"Guided by an agreed organizational structure, the community stakeholders lead in defining the organizational structure and the roles and responsibilities; school provides technical and administrative support.\n\n",{"$nulls":4},false,false,false,false]
[{"$nulls":19},{"$f":"IF(T16=TRUE,\"0\",\"\")","v":""},{"$f":"IF(U16=TRUE,\"1\",\"0\")","v":"0"},{"$f":"IF(V16=TRUE,\"2\",\"0\")","v":"0"},{"$f":"IF(W16=TRUE,\"3\",\"0\")","v":"0"},{"$f":"IF(W17=\"3\",W17,IF(V17=\"2\",V17,IF(U17=\"1\",U17,\"0\")))","v":"0"}]
["4. A leadership network facilities communication between and among school and community leaders for informed decision-making and solving of school-community wide-learning problems.",null,null,"(NO Evidence)","A network has been collaboratively established and is continuously improved by the school community.",{"$nulls":4}," The network actively provides stakeholders information for making decisions and solving learning and administrative problems.",{"$nulls":4},"The network allows easy exchange and access beyond the school community.",{"$nulls":4},false,false,false,false]
[{"$nulls":19},{"$f":"IF(T18=TRUE,\"0\",\"\")","v":""},{"$f":"IF(U18=TRUE,\"1\",\"0\")","v":"0"},{"$f":"IF(V18=TRUE,\"2\",\"0\")","v":"0"},{"$f":"IF(W18=TRUE,\"3\",\"0\")","v":"0"},{"$f":"IF(W19=\"3\",W19,IF(V19=\"2\",V19,IF(U19=\"1\",U19,\"0\")))","v":"0"}]
["5. A long program is in operation that addresses the training and development needs of school and community leaders.",null,null,"(NO Evidence)","Developing structures are in place and analysis of the competency and development needs of leaders is conducted; result is used to develop a long term training and Development program.",{"$nulls":4},"Leaders undertake training modes that are convenient to them (on-line, off-line, modular, group, or home-based) and which do not disrupt their regular functions. Leaders monitor and evaluate their own learning progress.",{"$nulls":4}," Leaders assume responsibility for their own training and development. School community leaders working individually or in  groups, coach and mentor one another to achieve their VMG.",{"$nulls":4},false,false,false,false]
["II. Curriculum and Instruction ",{"$nulls":18},{"$f":"IF(T20=TRUE,\"0\",\"\")","v":""},{"$f":"IF(U20=TRUE,\"1\",\"0\")","v":"0"},{"$f":"IF(V20=TRUE,\"2\",\"0\")","v":"0"},{"$f":"IF(W20=TRUE,\"3\",\"0\")","v":"0"},{"$f":"IF(W21=\"3\",W21,IF(V21=\"2\",V21,IF(U21=\"1\",U21,\"0\")))","v":"0"}]
["The curriculum learning systems anchored on the community and learners’ context and aspiration are collaboratively developed and continuously improved."]
["1. The curriculum provides for the development needs of all types p learners in the school community.",null,null,"(NO Evidence)","All types of learners of the school community are identified, their learning curves assessed; appropriate programs with its support materials for each type of learner is developed.",{"$nulls":4},"Programs are fully implemented and closely monitored to address performance discrepancies, benchmark best practices, and coach low performers, mentor potential leaders, reward high achievements, and maintain environment that makes learning, meaningful and enjoyable.",{"$nulls":4}," The educational needs of all types of learners are being met as shown by continuous improvement on learning outcomes and products of learning. Teacher’s as well as students’ performance is motivated by intrinsic rather than extrinsic rewards. The Schools’ differentiated program is frequently benchmarked by other schools.",{"$nulls":4},false,false,false,false]
[{"$nulls":19},{"$f":"IF(T23=TRUE,\"0\",\"\")","v":""},{"$f":"IF(U23=TRUE,\"1\",\"0\")","v":"0"},{"$f":"IF(V23=TRUE,\"2\",\"0\")","v":"0"},{"$f":"IF(W23=TRUE,\"3\",\"0\")","v":"0"},{"$f":"IF(W24=\"3\",W24,IF(V24=\"2\",V24,IF(U24=\"1\",U24,\"0\")))","v":"0"}]
["2. The implemented curriculum is localized to make it more meaningful to the learners and applicable to life in the community.",null,null,"(NO Evidence)","Local beliefs, norms, values, traditions, folklores, current events, and existing technologist are documented are used to developed lasting curriculum. Localization guidelines are agreed to by school community and teachers are properly oriented.",{"$nulls":4},"The localized curriculum is implemented and monitored closely to ensure that it makes learning more meaningful and pleasurable, produces desired learning outcomes, and directly improves community life. Ineffective approaches are replaced and innovative ones are developed.",{"$nulls":4},"Best practices in localizing the curriculum are mainstreamed and benchmarked by other schools. There is marked increase in number of projects that uses the community as learning laboratory, and the school as an agent of change for improvement of the community.",{"$nulls":4},false,false,false,false]
[{"$nulls":19},{"$f":"IF(T25=TRUE,\"0\",\"\")","v":""},{"$f":"IF(U25=TRUE,\"1\",\"0\")","v":"0"},{"$f":"IF(V25=TRUE,\"2\",\"0\")","v":"0"},{"$f":"IF(W25=TRUE,\"3\",\"0\")","v":"0"},{"$f":"IF(W26=\"3\",W26,IF(V26=\"2\",V26,IF(U26=\"1\",U26,\"0\")))","v":"0"}]
["3. A representative group of school and community stakeholders develop the methods and materials for developing creative thinking and problem solving. ",null,null,"(NO Evidence)","A representative team of school and community stakeholders assess content and methods used in teaching creative, critical thinking and problem solving. Assessment results are used as guide to develop materials.",{"$nulls":4},"         Learning materials and approaches to reinforce strengths and address deficiencies are developed and tested for applicability on schools, family and community.",{"$nulls":4},"        Materials and approaches are being used in school, in the family and in community to develop critical, creative thinking and problem solving community of learners and are producing desired results. ",{"$nulls":4},false,false,false,false]
[{"$nulls":19},{"$f":"IF(T27=TRUE,\"0\",\"\")","v":""},{"$f":"IF(U27=TRUE,\"1\",\"0\")","v":"0"},{"$f":"IF(V27=TRUE,\"2\",\"0\")","v":"0"},{"$f":"IF(W27=TRUE,\"3\",\"0\")","v":"0"},{"$f":"IF(W28=\"3\",W28,IF(V28=\"2\",V28,IF(U28=\"1\",U28,\"0\")))","v":"0"}]
["4. The learning systems are regularly and collaboratively monitored by the community using appropriate tools to ensure the holistic growth and development of the learners and the community.",{"$nulls":3},"                 A school-based monitoring and learning system is conducted regularly and cooperatively; And feedback is shared with stakeholders.\n        \n              ",{"$nulls":4},"                    The school-based monitoring and learning systems generate. Feedback that is used for making decisions that enhance the total development of learners.\n\n                     \n",{"$nulls":4},"                The monitoring system is accepted and regularly used for collective decision making.\n\n              \n",{"$nulls":4},false,false,false,false]
[{"$nulls":19},{"$f":"IF(T29=TRUE,\"0\",\"\")","v":""},{"$f":"IF(U29=TRUE,\"1\",\"0\")","v":"0"},{"$f":"IF(V29=TRUE,\"2\",\"0\")","v":"0"},{"$f":"IF(W29=TRUE,\"3\",\"0\")","v":"0"},{"$f":"IF(W30=\"3\",W30,IF(V30=\"2\",V30,IF(U30=\"1\",U30,\"0\")))","v":"0"}]
[{"$nulls":3},"(NO Evidence)","The system uses a tool that monitors the holistic development of learners.",{"$nulls":4},"        A committee takes care of the continuous improvement of tool.",{"$nulls":4},"The monitoring tool has been improved to provide both quantitative and qualitative data.",{"$nulls":4},false,false,false,false]
[{"$nulls":19},{"$f":"IF(T31=TRUE,\"0\",\"\")","v":""},{"$f":"IF(U31=TRUE,\"1\",\"0\")","v":"0"},{"$f":"IF(V31=TRUE,\"2\",\"0\")","v":"0"},{"$f":"IF(W31=TRUE,\"3\",\"0\")","v":"0"},{"$f":"IF(W32=\"3\",W32,IF(V32=\"2\",V32,IF(U32=\"1\",U32,\"0\")))","v":"0"}]
["5. Appropriate assessment tools for teaching and learning are continuously reviewed and improved, and assessment results are contextualized to the learner and local situation and the attainment of relevant life skills.",null,null,"(NO Evidence)","        The assessment tools are reviewed by the school and assessment results are shared with school’s stakeholders.",{"$nulls":4},"The assessment tools are reviewed by the school community and results are shared community stakeholders.",{"$nulls":4},"School assessment results are used to develop learning programs that are suited to community, and customized to each learners’ context, result of which are used for collaborative decision-making.",{"$nulls":4},false,false,false,false]
[{"$nulls":19},{"$f":"IF(T33=TRUE,\"0\",\"\")","v":""},{"$f":"IF(U33=TRUE,\"1\",\"0\")","v":"0"},{"$f":"IF(V33=TRUE,\"2\",\"0\")","v":"0"},{"$f":"IF(W33=TRUE,\"3\",\"0\")","v":"0"},{"$f":"IF(W34=\"3\",W34,IF(V34=\"2\",V34,IF(U34=\"1\",U34,\"0\")))","v":"0"}]
["6. Learning mangers and facilitators (teacher, administrator and community members) nature values and environment that are protective of all children and demonstrate behaviors consistent to the organization’s vision, mission and goals.",null,null,"(NO Evidence)","        Stakeholders are aware of child/learner-centered, rights-based, and inclusive principles of education.",{"$nulls":4},"           Stakeholders begin to practice child/ learner-centered principles of education in the design of support to education.",{"$nulls":4},"Learning environments, methods and resources are community driven, inclusive and adherent to child’s right and protection requirements.",{"$nulls":4},false,false,false,false]
[{"$nulls":19},{"$f":"IF(T35=TRUE,\"0\",\"\")","v":""},{"$f":"IF(U35=TRUE,\"1\",\"0\")","v":"0"},{"$f":"IF(V35=TRUE,\"2\",\"0\")","v":"0"},{"$f":"IF(W35=TRUE,\"3\",\"0\")","v":"0"},{"$f":"IF(W36=\"3\",W36,IF(V36=\"2\",V36,IF(U36=\"1\",U36,\"0\")))","v":"0"}]
[{"$nulls":3},"(NO Evidence)","Learning managers and facilitators’ conduct activities aimed to increase stakeholder’s awareness and commitment to fundamental rights of children and the basic principle of educating them.                                                                         ",{"$nulls":4},"      Learning managers and facilitators’ apply the principles in designing learning materials.",{"$nulls":4},"        Learning mangers and facilitators observe learner’s rights from designing the curriculum to structuring the whole learning environment. ",{"$nulls":4},false,false,false,false]
[{"$nulls":19},{"$f":"IF(T37=TRUE,\"0\",\"\")","v":""},{"$f":"IF(U37=TRUE,\"1\",\"0\")","v":"0"},{"$f":"IF(V37=TRUE,\"2\",\"0\")","v":"0"},{"$f":"IF(W37=TRUE,\"3\",\"0\")","v":"0"},{"$f":"IF(W38=\"3\",W38,IF(V38=\"2\",V38,IF(U38=\"1\",U38,\"0\")))","v":"0"}]
["7. Methods and resources are learner and community-friendly, enjoyable, safe, inclusive, and accessible and aimed at developing self directed learners. Learners are equipped with essential knowledge, skills, and values to assume responsibility and accountability for their own learning.",{"$nulls":3},"Practices, tools and materials for developing self-directed learners are highly observable in school, but not only in the home or in the community.",{"$nulls":4},"        Practices, tools and materials for developing self-directed learners are beginning to emerge in the homes and in the community.",{"$nulls":4},"There is continuous exchange of information sharing of expertise and materials among the schools, home and community for the development of self-directed learners.",{"$nulls":4},false,false,false,false]
[{"$nulls":19},{"$f":"IF(T39=TRUE,\"0\",\"\")","v":""},{"$f":"IF(U39=TRUE,\"1\",\"0\")","v":"0"},{"$f":"IF(V39=TRUE,\"2\",\"0\")","v":"0"},{"$f":"IF(W39=TRUE,\"3\",\"0\")","v":"0"},{"$f":"IF(W40=\"3\",W40,IF(V40=\"2\",V40,IF(U40=\"1\",U40,\"0\")))","v":"0"}]
[{"$nulls":3},"(NO Evidence)","         Learning programs are designed and developed to produce learners who are responsible and accountable for their learning.",{"$nulls":4},"      The program is collaboratively implemented and monitored by teachers and parents to ensure that it produces desired learners.",{"$nulls":4},"       The program is mainstreamed continuously improve to make relevant to emergent demands.",{"$nulls":4},false,false,false,false]
[{"$nulls":19},{"$f":"IF(T41=TRUE,\"0\",\"\")","v":""},{"$f":"IF(U41=TRUE,\"1\",\"0\")","v":"0"},{"$f":"IF(V41=TRUE,\"2\",\"0\")","v":"0"},{"$f":"IF(W41=TRUE,\"3\",\"0\")","v":"0"},{"$f":"IF(W42=\"3\",W42,IF(V42=\"2\",V42,IF(U42=\"1\",U42,\"0\")))","v":"0"}]
["III. Accountability and Continuous Improvement"]
["A clear, transparent, inclusive, and responsive accountability system is in place, collaboratively developed by the school community, which monitors performance and acts appropriately on gaps and gains. "]
["1. Roles and responsibility of accountable person/s and collective body/ies are clearly defined and agreed upon by community stakeholders.",null,null,"(NO Evidence)","There is an active party that initiates classification of the roles and responsibilities in education delivery.",{"$nulls":4},"The stakeholders are engaged in clarifying and defining their specific roles and responsibilities.",{"$nulls":4},"Shared and participatory processes are used in determining roles, responsibilities, and accountabilities of stakeholders in managing and supporting education.",{"$nulls":4},false,false,false,false]
[{"$nulls":19},{"$f":"IF(T45=TRUE,\"0\",\"\")","v":""},{"$f":"IF(U45=TRUE,\"1\",\"0\")","v":"0"},{"$f":"IF(V45=TRUE,\"2\",\"0\")","v":"0"},{"$f":"IF(W45=TRUE,\"3\",\"0\")","v":"0"},{"$f":"IF(W46=\"3\",W46,IF(V46=\"2\",V46,IF(U46=\"1\",U46,\"0\")))","v":"0"}]
["2. Achievement of goals is recognized based on a collaboratively develop performance accountability system; gaps are addressed through appropriate action. ",null,null,"(NO Evidence)","        Performance accountability is practiced at the school level.",{"$nulls":4},"A community-level accountability system is evolving from school-led initiatives.",{"$nulls":4},"        A community-accepted performance accountability, recognition and incentive system is being practiced.",{"$nulls":4},false,false,false,false]
[{"$nulls":19},{"$f":"IF(T47=TRUE,\"0\",\"\")","v":""},{"$f":"IF(U47=TRUE,\"1\",\"0\")","v":"0"},{"$f":"IF(V47=TRUE,\"2\",\"0\")","v":"0"},{"$f":"IF(W47=TRUE,\"3\",\"0\")","v":"0"},{"$f":"IF(W48=\"3\",W48,IF(V48=\"2\",V48,IF(U48=\"1\",U48,\"0\")))","v":"0"}]
["3. The accountability system is owned by the community and is continuously enhanced to ensure that management structures and mechanism are responsive to the emerging learning needs of the community. ",null,null,"(NO Evidence)","        The school articulates the accountabity assessment framework with basic components, including implementation guidelines to the stakeholders.",{"$nulls":4},"Stakeholders are engaged in the development and operation of an appropriate accountability assessment system.",{"$nulls":4},"        School community stakeholders continuously and collaboratively review and enhance accountability systems’ processes, mechanisms and tools.",{"$nulls":4},false,false,false,false]
[{"$nulls":19},{"$f":"IF(T49=TRUE,\"0\",\"\")","v":""},{"$f":"IF(U49=TRUE,\"1\",\"0\")","v":"0"},{"$f":"IF(V49=TRUE,\"2\",\"0\")","v":"0"},{"$f":"IF(W49=TRUE,\"3\",\"0\")","v":"0"},{"$f":"IF(W50=\"3\",W50,IF(V50=\"2\",V50,IF(U50=\"1\",U50,\"0\")))","v":"0"}]
["4. Accountability assessment criteria and tools, feedback mechanism, and information collection and validation techniques and processes are inclusive and collaboratively develop and agreed upon.",null,null,"(NO Evidence)","The school, with the participation of stakeholders, articulates an accountability assessment framework with basic components, including implementation guidelines",{"$nulls":4},"         Stakeholders are engaged in the development and operation of an appropriate accountability assessment system.",{"$nulls":4},"        Schools community stakeholders continuously and collaboratively review and enhance accountability system’ processes, mechanisms and tools.",{"$nulls":4},false,false,false,false]
[{"$nulls":19},{"$f":"IF(T51=TRUE,\"0\",\"\")","v":""},{"$f":"IF(U51=TRUE,\"1\",\"0\")","v":"0"},{"$f":"IF(V51=TRUE,\"2\",\"0\")","v":"0"},{"$f":"IF(W51=TRUE,\"3\",\"0\")","v":"0"},{"$f":"IF(W52=\"3\",W52,IF(V52=\"2\",V52,IF(U52=\"1\",U52,\"0\")))","v":"0"}]
["5. Participatory assessment of performance is done regularly with the community. Assessment results and lessons learned serve as basis for feedback, technical assistance, and recognition and plan adjustments.",null,null,"(NO Evidence)","        School initiates periodic performance assessment with the participation of stakeholders.",{"$nulls":4},"         Collaborative conduct of performance assessment informs planning, plan adjustments and requirements for technical assistance. ",{"$nulls":4},"School-community- developed performance assessment is practiced and is the basis for improving monitoring and evaluation systems, providing technical assistance, and recognizing and refining plans.",{"$nulls":4},false,false,false,false]
[{"$nulls":19},{"$f":"IF(T53=TRUE,\"0\",\"\")","v":""},{"$f":"IF(U53=TRUE,\"1\",\"0\")","v":"0"},{"$f":"IF(V53=TRUE,\"2\",\"0\")","v":"0"},{"$f":"IF(W53=TRUE,\"3\",\"0\")","v":"0"},{"$f":"IF(W54=\"3\",W54,IF(V54=\"2\",V54,IF(U54=\"1\",U54,\"0\")))","v":"0"}]
["IV. Management of Resource"]
["Resources are collectively and Judiciously mobilized and managed with transparency, effectiveness, and efficiency. "]
["1. Regular resource inventory is collaboratively undertaken by learning managers, learning facilitators, and community stakeholders as basis for resource allocation an mobilization.",null,null,"(NO Evidence)","Stakeholders are aware that a regular resource inventory is available and is used as the basis for resource allocation and mobilization.",{"$nulls":4},"Resource inventory is characterized by regularity, increased participation of stakeholders, and communicated to the community as the basis for resource allocation and mobilization.",{"$nulls":4},"        Resource inventories are systematically developed and stakeholders are engaged in a collaboration process to make decisions on resource allocation and mobilization.",{"$nulls":4},false,false,false,false]
[{"$nulls":19},{"$f":"IF(T57=TRUE,\"0\",\"\")","v":""},{"$f":"IF(U57=TRUE,\"1\",\"0\")","v":"0"},{"$f":"IF(V57=TRUE,\"2\",\"0\")","v":"0"},{"$f":"IF(W57=TRUE,\"3\",\"0\")","v":"0"},{"$f":"IF(W58=\"3\",W58,IF(V58=\"2\",V58,IF(U58=\"1\",U58,\"0\")))","v":"0"}]
["2. A regular dialogue for planning and resource programming, that is accessible and inclusive, continuously engage stakeholders and support implementation of community education plans.",null,null,"(NO Evidence)","         Stakeholders are invited to participate in the development of an educational plan in resource programming, and in the educational plan.",{"$nulls":4},"Stakeholders are regularly engaged in the planning and resource programming, and in the implementation of the education plan.",{"$nulls":4},"Stakeholders sustain the implementation and improvement of a collaboratively developed, periodically adjusted, and constituent-focused resource management system.",{"$nulls":4},false,false,false,false]
[{"$nulls":19},{"$f":"IF(T59=TRUE,\"0\",\"\")","v":""},{"$f":"IF(U59=TRUE,\"1\",\"0\")","v":"0"},{"$f":"IF(V59=TRUE,\"2\",\"0\")","v":"0"},{"$f":"IF(W59=TRUE,\"3\",\"0\")","v":"0"},{"$f":"IF(W60=\"3\",W60,IF(V60=\"2\",V60,IF(U60=\"1\",U60,\"0\")))","v":"0"}]
["3. In place is a community-developed resource management system that drives appropriate behaviors of the stakeholders to ensure judicious, appropriate and effective use of resources.",null,null,"(NO Evidence)","Stakeholders support judicious, appropriate, and effective use of resources.",{"$nulls":4},"Stakeholders are engaged and share expertise in the collaborative development of resource management system.",{"$nulls":4},"        Stakeholders sustain the implementation and improvement of a  collaboratively developed, periodically adjusted, and  constituent-focused resource management system.",{"$nulls":4},false,false,false,false]
[{"$nulls":19},{"$f":"IF(T61=TRUE,\"0\",\"\")","v":""},{"$f":"IF(U61=TRUE,\"1\",\"0\")","v":"0"},{"$f":"IF(V61=TRUE,\"2\",\"0\")","v":"0"},{"$f":"IF(W61=TRUE,\"3\",\"0\")","v":"0"},{"$f":"IF(W62=\"3\",W62,IF(V62=\"2\",V62,IF(U62=\"1\",U62,\"0\")))","v":"0"}]
["4. Regular monitoring, evaluation, and reporting processes of resource management are collaboratively developed and implemented by the learning managers, facilitators, and community stakeholders.",null,null,"(NO Evidence)","        Stakeholders are invited to participate in the development and implementation of monitoring, evaluation, and reporting processes on resource management.",{"$nulls":4},"        Stakeholder engaged and share expertise in the collaborative development of resource management system.",{"$nulls":4},"Stakeholders sustain the implementation and improvement of a collaboratively developed, periodically adjusted, and constituent-focused resource management system.",{"$nulls":4},false,false,false,false]
[{"$nulls":19},{"$f":"IF(T63=TRUE,\"0\",\"\")","v":""},{"$f":"IF(U63=TRUE,\"1\",\"0\")","v":"0"},{"$f":"IF(V63=TRUE,\"2\",\"0\")","v":"0"},{"$f":"IF(W63=TRUE,\"3\",\"0\")","v":"0"},{"$f":"IF(W64=\"3\",W64,IF(V64=\"2\",V64,IF(U64=\"1\",U64,\"0\")))","v":"0"}]
["5. There is a system that manages the network and linkages which strengthen and sustain partnership for improving resource management.",null,null,"(NO Evidence)","An engagement procedure to identify and utilize partnerships with stakeholders for improving resource management is evident. ",{"$nulls":4},"Stakeholders support a system of partnership for improving resource management.",{"$nulls":4},"An established system of partnership is managed and sustained by the stakeholders for continuous improvement of resource management.",{"$nulls":4},false,false,false,false]
[{"$nulls":19},{"$f":"IF(T65=TRUE,\"0\",\"\")","v":""},{"$f":"IF(U65=TRUE,\"1\",\"0\")","v":"0"},{"$f":"IF(V65=TRUE,\"2\",\"0\")","v":"0"},{"$f":"IF(W65=TRUE,\"3\",\"0\")","v":"0"},{"$f":"IF(W66=\"3\",W66,IF(V66=\"2\",V66,IF(U66=\"1\",U66,\"0\")))","v":"0"}]
[]
[]
["Summary :"]
["SBM Principles",null,"Weight",null,null,"Cummulative Scores of Validators per Principles",null,"Results",null,null,"Chairman:",null,{"$f":"'Input Menu'!B50","v":0}]
["Leadership and Governance",null,{"v":0.3,"d":"30%"},null,null,{"$f":"(X13+X15+X17+X19+X21)/5","v":{"v":0,"d":"0.00"}},null,{"$f":"F71*0.3","v":0},null,null,"Member1:",null,{"$f":"'Input Menu'!B51","v":0},{"$nulls":28},{"$f":"F71","v":{"v":0,"d":"0.00"}}]
["Curriculum & Learning",null,{"v":0.3,"d":"30%"},null,null,{"$f":"(X24+X26+X28+X30+X32+X34+X36+X38+X40+X42)/10","v":{"v":0,"d":"0.00"}},null,{"$f":"F72*0.3","v":0},null,null,"Member2:",null,{"$f":"'Input Menu'!B52","v":0},{"$nulls":28},{"$f":"F72","v":{"v":0,"d":"0.00"}}]
["Accountability and Continuous Improvement",null,{"v":0.25,"d":"25%"},null,null,{"$f":"(X46+X48+X50+X52+X54)/5","v":{"v":0,"d":"0.00"}},null,{"$f":"F73*0.25","v":0},null,null,"Member3:",null,{"$f":"'Input Menu'!B53","v":0},{"$nulls":28},{"$f":"F73","v":{"v":0,"d":"0.00"}}]
["Resource Management",null,{"v":0.15,"d":"15%"},null,null,{"$f":"(X58+X60+X62+X64+X66)/5","v":{"v":0,"d":"0.00"}},null,{"$f":"F74*0.15","v":0},null,null,"Member4:",null,{"$f":"'Input Menu'!B54","v":0},{"$nulls":28},{"$f":"F74","v":{"v":0,"d":"0.00"}}]
["Sub-total",{"$nulls":6},{"$f":"SUM(H71:H74)","v":{"v":0,"d":"0.00"}}]